Back to Multiple platform build/check report for BioC 3.21:   simplified   long
ABCDEFGHIJKL[M]NOPQRSTUVWXYZ

This page was generated on 2025-04-22 13:19 -0400 (Tue, 22 Apr 2025).

HostnameOSArch (*)R versionInstalled pkgs
nebbiolo1Linux (Ubuntu 24.04.1 LTS)x86_644.5.0 RC (2025-04-04 r88126) -- "How About a Twenty-Six" 4831
palomino7Windows Server 2022 Datacenterx644.5.0 RC (2025-04-04 r88126 ucrt) -- "How About a Twenty-Six" 4573
lconwaymacOS 12.7.1 Montereyx86_644.5.0 RC (2025-04-04 r88126) -- "How About a Twenty-Six" 4599
kjohnson3macOS 13.7.1 Venturaarm644.5.0 RC (2025-04-04 r88126) -- "How About a Twenty-Six" 4553
kunpeng2Linux (openEuler 24.03 LTS)aarch64R Under development (unstable) (2025-02-19 r87757) -- "Unsuffered Consequences" 4570
Click on any hostname to see more info about the system (e.g. compilers)      (*) as reported by 'uname -p', except on Windows and Mac OS X

Package 1316/2341HostnameOS / ArchINSTALLBUILDCHECKBUILD BIN
mixOmics 6.32.0  (landing page)
Eva Hamrud
Snapshot Date: 2025-04-21 13:40 -0400 (Mon, 21 Apr 2025)
git_url: https://git.bioconductor.org/packages/mixOmics
git_branch: RELEASE_3_21
git_last_commit: 36d4efc
git_last_commit_date: 2025-04-15 11:39:07 -0400 (Tue, 15 Apr 2025)
nebbiolo1Linux (Ubuntu 24.04.1 LTS) / x86_64  OK    OK    OK  YES
palomino7Windows Server 2022 Datacenter / x64  OK    OK    OK    OK  NO, package depends on 'BiocParallel' which is only available as a source package that needs compilation
lconwaymacOS 12.7.1 Monterey / x86_64  OK    OK    OK    OK  YES
kjohnson3macOS 13.7.1 Ventura / arm64  OK    OK    OK    OK  YES
kunpeng2Linux (openEuler 24.03 LTS) / aarch64  OK    OK    OK  


CHECK results for mixOmics on kunpeng2

To the developers/maintainers of the mixOmics package:
- Allow up to 24 hours (and sometimes 48 hours) for your latest push to git@git.bioconductor.org:packages/mixOmics.git to reflect on this report. See Troubleshooting Build Report for more information.
- Use the following Renviron settings to reproduce errors and warnings.
- If 'R CMD check' started to fail recently on the Linux builder(s) over a missing dependency, add the missing dependency to 'Suggests:' in your DESCRIPTION file. See Renviron.bioc for more information.
- See Martin Grigorov's blog post for how to debug Linux ARM64 related issues on a x86_64 host.

raw results


Summary

Package: mixOmics
Version: 6.32.0
Command: /home/biocbuild/R/R/bin/R CMD check --install=check:mixOmics.install-out.txt --library=/home/biocbuild/R/R/site-library --no-vignettes --timings mixOmics_6.32.0.tar.gz
StartedAt: 2025-04-22 11:11:26 -0000 (Tue, 22 Apr 2025)
EndedAt: 2025-04-22 11:46:49 -0000 (Tue, 22 Apr 2025)
EllapsedTime: 2123.4 seconds
RetCode: 0
Status:   OK  
CheckDir: mixOmics.Rcheck
Warnings: 0

Command output

##############################################################################
##############################################################################
###
### Running command:
###
###   /home/biocbuild/R/R/bin/R CMD check --install=check:mixOmics.install-out.txt --library=/home/biocbuild/R/R/site-library --no-vignettes --timings mixOmics_6.32.0.tar.gz
###
##############################################################################
##############################################################################


* using log directory ‘/home/biocbuild/bbs-3.21-bioc/meat/mixOmics.Rcheck’
* using R Under development (unstable) (2025-02-19 r87757)
* using platform: aarch64-unknown-linux-gnu
* R was compiled by
    aarch64-unknown-linux-gnu-gcc (GCC) 14.2.0
    GNU Fortran (GCC) 14.2.0
* running under: openEuler 24.03 (LTS-SP1)
* using session charset: UTF-8
* using option ‘--no-vignettes’
* checking for file ‘mixOmics/DESCRIPTION’ ... OK
* checking extension type ... Package
* this is package ‘mixOmics’ version ‘6.32.0’
* package encoding: UTF-8
* checking package namespace information ... OK
* checking package dependencies ... OK
* checking if this is a source package ... OK
* checking if there is a namespace ... OK
* checking for hidden files and directories ... OK
* checking for portable file names ... NOTE
Found the following non-portable file paths:
  mixOmics/tests/testthat/_snaps/plotIndiv.pca/pca-plot-coloured-by-primary-groups-custom-cols-reordered-groups.svg
  mixOmics/tests/testthat/_snaps/plotIndiv.pca/pca-plot-coloured-by-primary-groups-custom-cols-with-set-pch-circle-for-all-samples.svg
  mixOmics/tests/testthat/_snaps/plotIndiv.pca/pca-plot-coloured-by-primary-groups-custom-cols-with-set-pch-triangle-for-all-samples.svg
  mixOmics/tests/testthat/_snaps/plotIndiv.pca/pca-plot-coloured-by-primary-groups-with-pch-for-secondary-groups-reordered.svg
  mixOmics/tests/testthat/_snaps/plotIndiv.pca/pca-plot-coloured-by-primary-groups-with-pch-for-secondary-groups.svg
  mixOmics/tests/testthat/_snaps/plotIndiv.pca/pca-plot-coloured-by-primary-groups-with-set-pch-for-each-group.svg
  mixOmics/tests/testthat/_snaps/plotIndiv.pca/pca-plot-sample-names-coloured-by-primary-groups-custom-cols.svg
  mixOmics/tests/testthat/_snaps/plotIndiv.pca/pca-plot-with-centroids-coloured-by-primary-groups-custom-cols.svg
  mixOmics/tests/testthat/_snaps/plotIndiv.pca/pca-plot-with-ellipse-coloured-by-primary-groups-custom-cols-ellipse-level-0-5.svg
  mixOmics/tests/testthat/_snaps/plotIndiv.pca/pca-plot-with-ellipse-coloured-by-primary-groups-custom-cols-sample-names.svg
  mixOmics/tests/testthat/_snaps/plotIndiv.pca/pca-plot-with-ellipse-coloured-by-primary-groups-custom-cols.svg
  mixOmics/tests/testthat/_snaps/plotIndiv.pls/pca-plot-sample-names-coloured-by-primary-groups-custom-cols.svg
  mixOmics/tests/testthat/_snaps/plotIndiv.pls/rcca-plot-coloured-by-primary-groups-custom-cols-reordered-groups.svg
  mixOmics/tests/testthat/_snaps/plotIndiv.pls/rcca-plot-coloured-by-primary-groups-custom-cols-with-set-pch-circle-for-all-samples.svg
  mixOmics/tests/testthat/_snaps/plotIndiv.pls/rcca-plot-coloured-by-primary-groups-with-pch-for-secondary-groups.svg
  mixOmics/tests/testthat/_snaps/plotIndiv.pls/rcca-plot-coloured-by-primary-groups-with-set-pch-for-each-group.svg
  mixOmics/tests/testthat/_snaps/plotIndiv.pls/rcca-plot-with-ellipse-coloured-by-primary-groups-ellipse-level-0-5.svg
  mixOmics/tests/testthat/_snaps/plotIndiv.pls/rcca-plot-with-pch-for-primary-groups-col-consistent.svg
  mixOmics/tests/testthat/_snaps/plotIndiv.pls/spls-plot-with-centroids-and-stars-coloured-by-primary-groups.svg
  mixOmics/tests/testthat/_snaps/plotIndiv.pls/splsda-plot-with-centroids-and-stars-custom-cols-pch-on-second-grouping.svg
  mixOmics/tests/testthat/_snaps/plotLoadings.mint.pls/loadings-plot-mint-pls-change-cols-and-borders-ggplot2.svg
  mixOmics/tests/testthat/_snaps/plotLoadings.mint.pls/loadings-plot-mint-pls-change-cols-and-borders-graphics.svg
  mixOmics/tests/testthat/_snaps/plotLoadings.mint.pls/loadings-plot-mint-pls-change-gene-names-ggplot2.svg
  mixOmics/tests/testthat/_snaps/plotLoadings.mint.pls/loadings-plot-mint-pls-change-gene-names-graphics.svg
  mixOmics/tests/testthat/_snaps/plotLoadings.mint.pls/loadings-plot-mint-pls-change-labels-and-label-sizes-ggplot2.svg
  mixOmics/tests/testthat/_snaps/plotLoadings.mint.pls/loadings-plot-mint-pls-change-labels-and-label-sizes-graphics.svg
  mixOmics/tests/testthat/_snaps/plotLoadings.mint.pls/loadings-plot-mint-pls-change-layout-ggplot2.svg
  mixOmics/tests/testthat/_snaps/plotLoadings.mint.pls/loadings-plot-mint-pls-change-layout-graphics.svg
  mixOmics/tests/testthat/_snaps/plotLoadings.mint.pls/loadings-plot-mint-pls-specific-study-ggplot2.svg
  mixOmics/tests/testthat/_snaps/plotLoadings.mint.pls/loadings-plot-mint-pls-specific-study-graphics.svg
  mixOmics/tests/testthat/_snaps/plotLoadings.mint.plsda/mint-plsda-loadings-ggplot2-specific-study.svg
  mixOmics/tests/testthat/_snaps/plotLoadings.pca/loadings-plot-change-gene-names-and-plot-top-3-ggplot2.svg
  mixOmics/tests/testthat/_snaps/plotLoadings.pca/loadings-plot-change-gene-names-and-plot-top-3-graphics.svg
  mixOmics/tests/testthat/_snaps/plotLoadings.pca/loadings-plot-change-labels-and-label-sizes-ggplot2.svg
  mixOmics/tests/testthat/_snaps/plotLoadings.pca/loadings-plot-change-labels-and-label-sizes-graphics.svg
  mixOmics/tests/testthat/_snaps/plotLoadings.pls/loadings-plot-spls-change-cols-and-borders-ggplot2.svg
  mixOmics/tests/testthat/_snaps/plotLoadings.pls/loadings-plot-spls-change-cols-and-borders-graphics.svg
  mixOmics/tests/testthat/_snaps/plotLoadings.pls/loadings-plot-spls-change-gene-names-and-plot-top-3-ggplot2.svg
  mixOmics/tests/testthat/_snaps/plotLoadings.pls/loadings-plot-spls-change-gene-names-and-plot-top-3-graphics.svg
  mixOmics/tests/testthat/_snaps/plotLoadings.pls/loadings-plot-spls-change-labels-and-label-sizes-ggplot2.svg
  mixOmics/tests/testthat/_snaps/plotLoadings.pls/loadings-plot-spls-change-labels-and-label-sizes-graphics.svg
  mixOmics/tests/testthat/_snaps/plotLoadings.plsda/loadings-plot-splsda-with-custom-legend-ggplot2.svg
  mixOmics/tests/testthat/_snaps/plotLoadings.plsda/loadings-plot-splsda-with-custom-legend-graphics.svg
  mixOmics/tests/testthat/_snaps/plotLoadings.plsda/loadings-plot-splsda-with-custom-names-graphics.svg
  mixOmics/tests/testthat/_snaps/plotLoadings.plsda/loadings-plot-splsda-with-custom-title-and-labels-ggplot2.svg
  mixOmics/tests/testthat/_snaps/plotLoadings.plsda/loadings-plot-splsda-with-custom-title-and-labels-graphics.svg
  mixOmics/tests/testthat/_snaps/plotLoadings.sgccda/loadings-plot-diablo-block-specific-with-contrib-ggplot2.svg
  mixOmics/tests/testthat/_snaps/plotLoadings.sgccda/loadings-plot-diablo-block-specific-with-contrib-graphics.svg
  mixOmics/tests/testthat/_snaps/plotLoadings.sgccda/loadings-plot-diablo-change-labels-and-label-sizes-ggplot2.svg
  mixOmics/tests/testthat/_snaps/plotLoadings.sgccda/loadings-plot-diablo-change-labels-and-label-sizes-graphics.svg

Tarballs are only required to store paths of up to 100 bytes and cannot
store those of more than 256 bytes, with restrictions including to 100
bytes for the final component.
See section ‘Package structure’ in the ‘Writing R Extensions’ manual.
* checking for sufficient/correct file permissions ... OK
* checking whether package ‘mixOmics’ can be installed ... OK
* checking installed package size ... INFO
  installed size is  6.5Mb
  sub-directories of 1Mb or more:
    R      1.6Mb
    data   3.3Mb
* checking package directory ... OK
* checking DESCRIPTION meta-information ... OK
* checking top-level files ... OK
* checking for left-over files ... OK
* checking index information ... OK
* checking package subdirectories ... OK
* checking code files for non-ASCII characters ... OK
* checking R files for syntax errors ... OK
* checking whether the package can be loaded ... OK
* checking whether the package can be loaded with stated dependencies ... OK
* checking whether the package can be unloaded cleanly ... OK
* checking whether the namespace can be loaded with stated dependencies ... OK
* checking whether the namespace can be unloaded cleanly ... OK
* checking loading without being on the library search path ... OK
* checking whether startup messages can be suppressed ... OK
* checking dependencies in R code ... NOTE
Namespace in Imports field not imported from: ‘gsignal’
  All declared Imports should be used.
* checking S3 generic/method consistency ... OK
* checking replacement functions ... OK
* checking foreign function calls ... OK
* checking R code for possible problems ... NOTE
.plotLoadings_barplot: no visible binding for global variable
  ‘size.axis’
perf.assess.sgccda: no visible binding for global variable
  ‘signif.threshold’
plotLoadings.mint.pls: no visible binding for global variable
  ‘importance’
plotLoadings.mint.pls: no visible binding for global variable ‘color’
plotLoadings.mint.plsda: no visible binding for global variable
  ‘importance’
plotLoadings.mint.plsda: no visible binding for global variable ‘color’
plotLoadings.mint.spls: no visible binding for global variable
  ‘importance’
plotLoadings.mint.spls: no visible binding for global variable ‘color’
plotLoadings.mint.splsda: no visible binding for global variable
  ‘importance’
plotLoadings.mint.splsda: no visible binding for global variable
  ‘color’
plotLoadings.mixo_pls: no visible binding for global variable
  ‘importance’
plotLoadings.mixo_plsda: no visible binding for global variable
  ‘importance’
plotLoadings.mixo_plsda: no visible binding for global variable ‘color’
plotLoadings.mixo_plsda: no visible binding for global variable ‘group’
plotLoadings.mixo_spls: no visible binding for global variable
  ‘importance’
plotLoadings.mixo_splsda: no visible binding for global variable
  ‘importance’
plotLoadings.mixo_splsda: no visible binding for global variable
  ‘color’
plotLoadings.mixo_splsda: no visible binding for global variable
  ‘group’
plotLoadings.pca: no visible binding for global variable ‘importance’
plotLoadings.rcc: no visible binding for global variable ‘importance’
plotLoadings.rgcca: no visible binding for global variable ‘importance’
plotLoadings.sgcca: no visible binding for global variable ‘importance’
plotLoadings.sgccda: no visible binding for global variable
  ‘importance’
plotLoadings.sgccda: no visible binding for global variable ‘color’
plotLoadings.sgccda: no visible binding for global variable ‘group’
Undefined global functions or variables:
  color group importance signif.threshold size.axis
* checking Rd files ... NOTE
checkRd: (-1) plotLoadings.Rd:479: Lost braces
   479 | For code{mint.pls}, \code{mint.spls}: when \code{study="all.partial"}, 
       |         ^
* checking Rd metadata ... OK
* checking Rd cross-references ... NOTE
Found the following Rd file(s) with Rd \link{} targets missing package
anchors:
  perf.Rd: BiocParallelParam-class
  perf.assess.Rd: BiocParallelParam-class
  rcc.Rd: estimate.lambda
  tune.Rd: BiocParallelParam-class
  tune.block.plsda.Rd: BiocParallelParam-class
  tune.block.splsda.Rd: BiocParallelParam-class
  tune.pls.Rd: BiocParallelParam-class
  tune.plsda.Rd: BiocParallelParam-class
  tune.spca.Rd: BiocParallelParam-class
  tune.spls.Rd: BiocParallelParam-class
  tune.splsda.Rd: BiocParallelParam-class
Please provide package anchors for all Rd \link{} targets not in the
package itself and the base packages.
* checking for missing documentation entries ... OK
* checking for code/documentation mismatches ... OK
* checking Rd \usage sections ... NOTE
S3 methods shown with full name in Rd file 'perf.assess.Rd':
  ‘perf.assess’

The \usage entries for S3 methods should use the \method markup and not
their full name.
See chapter ‘Writing R documentation files’ in the ‘Writing R
Extensions’ manual.
* checking Rd contents ... OK
* checking for unstated dependencies in examples ... OK
* checking contents of ‘data’ directory ... OK
* checking data for non-ASCII characters ... OK
* checking data for ASCII and uncompressed saves ... OK
* checking files in ‘vignettes’ ... OK
* checking examples ... OK
Examples with CPU (user + system) or elapsed time > 5s
                      user system elapsed
tune.spls          487.176  0.599 488.794
tune.splsda        146.056  0.163 146.617
tune.pls            86.215  0.443  86.808
tune.plsda          67.007  0.108  67.277
tune.block.plsda    50.144  0.036  50.318
perf.assess         46.673  0.095  46.871
plotIndiv           26.107  0.075  26.237
tune.block.splsda   19.146  0.042  64.985
biplot              18.905  0.124  19.064
background.predict  13.701  0.132  13.862
image.tune.rcc      13.585  0.020  13.629
tune.rcc            13.291  0.000  13.308
circosPlot          10.448  0.040  10.510
block.splsda        10.216  0.088  10.348
tune                 8.262  0.008   8.286
block.spls           8.163  0.039   8.221
tune.mint.splsda     7.107  0.212   7.333
pca                  6.407  0.016   6.456
perf                 5.896  0.028   5.937
spca                 5.330  0.004   5.342
* checking for unstated dependencies in ‘tests’ ... OK
* checking tests ...
  Running ‘testthat.R’
 OK
* checking for unstated dependencies in vignettes ... OK
* checking package vignettes ... OK
* checking running R code from vignettes ... SKIPPED
* checking re-building of vignette outputs ... SKIPPED
* checking PDF version of manual ... OK
* DONE

Status: 6 NOTEs
See
  ‘/home/biocbuild/bbs-3.21-bioc/meat/mixOmics.Rcheck/00check.log’
for details.


Installation output

mixOmics.Rcheck/00install.out

##############################################################################
##############################################################################
###
### Running command:
###
###   /home/biocbuild/R/R/bin/R CMD INSTALL mixOmics
###
##############################################################################
##############################################################################


* installing to library ‘/home/biocbuild/R/R-devel_2025-02-19/site-library’
* installing *source* package ‘mixOmics’ ...
** this is package ‘mixOmics’ version ‘6.32.0’
** using staged installation
** R
** data
** inst
** byte-compile and prepare package for lazy loading
** help
*** installing help indices
** building package indices
** installing vignettes
** testing if installed package can be loaded from temporary location
** testing if installed package can be loaded from final location
** testing if installed package keeps a record of temporary installation path
* DONE (mixOmics)

Tests output

mixOmics.Rcheck/tests/testthat.Rout


R Under development (unstable) (2025-02-19 r87757) -- "Unsuffered Consequences"
Copyright (C) 2025 The R Foundation for Statistical Computing
Platform: aarch64-unknown-linux-gnu

R is free software and comes with ABSOLUTELY NO WARRANTY.
You are welcome to redistribute it under certain conditions.
Type 'license()' or 'licence()' for distribution details.

R is a collaborative project with many contributors.
Type 'contributors()' for more information and
'citation()' on how to cite R or R packages in publications.

Type 'demo()' for some demos, 'help()' for on-line help, or
'help.start()' for an HTML browser interface to help.
Type 'q()' to quit R.

> library(testthat)
> library(mixOmics)
Loading required package: MASS
Loading required package: lattice
Loading required package: ggplot2

Loaded mixOmics 6.32.0
Thank you for using mixOmics!
Tutorials: http://mixomics.org
Bookdown vignette: https://mixomicsteam.github.io/Bookdown
Questions, issues: Follow the prompts at http://mixomics.org/contact-us
Cite us:  citation('mixOmics')

> 
> test_check("mixOmics")
character(0)
character(0)
[1] "test.keepX is set to NULL, tuning only for number of components..."
[1] "test.keepX is set to NULL, tuning only for number of components..."
[1] "test.keepX set to NULL, tuning only for number of components..."
[1] "test.keepX and test.keepY are set to NULL, tuning only for number of components..."
[1] "test.keepX and test.keepY are set to NULL, tuning only for number of components..."
[1] "test.keepX and test.keepY are set to NULL, tuning only for number of components..."
[1] "test.keepX set to NULL, tuning only for number of components..."
[ FAIL 0 | WARN 3 | SKIP 51 | PASS 663 ]

══ Skipped tests (51) ══════════════════════════════════════════════════════════
• On CRAN (51): 'test-biplot.R:17:3', 'test-biplot.R:39:3',
  'test-biplot.R:63:3', 'test-plotArrow.R:50:3', 'test-plotArrow.R:81:3',
  'test-plotIndiv.mint.R:76:3', 'test-plotIndiv.mint.R:99:3',
  'test-plotIndiv.mint.R:131:3', 'test-plotIndiv.mint.R:145:3',
  'test-plotIndiv.mint.R:168:3', 'test-plotIndiv.pca.R:152:3',
  'test-plotIndiv.pca.R:176:3', 'test-plotIndiv.pca.R:210:3',
  'test-plotIndiv.pca.R:244:3', 'test-plotIndiv.pca.R:263:3',
  'test-plotIndiv.pls.R:419:3', 'test-plotIndiv.pls.R:442:3',
  'test-plotIndiv.pls.R:468:3', 'test-plotIndiv.pls.R:486:3',
  'test-plotIndiv.pls.R:498:3', 'test-plotIndiv.pls.R:531:3',
  'test-plotIndiv.pls.R:564:3', 'test-plotIndiv.pls.R:581:3',
  'test-plotIndiv.pls.R:599:3', 'test-plotIndiv.pls.R:610:3',
  'test-plotIndiv.pls.R:622:3', 'test-plotIndiv.pls.R:655:3',
  'test-plotIndiv.pls.R:666:3', 'test-plotIndiv.pls.R:683:3',
  'test-plotIndiv.pls.R:694:3', 'test-plotIndiv.pls.R:712:3',
  'test-plotIndiv.pls.R:741:3', 'test-plotLoadings.mint.pls.R:11:3',
  'test-plotLoadings.mint.pls.R:62:3', 'test-plotLoadings.mint.pls.R:121:3',
  'test-plotLoadings.mint.plsda.R:14:5', 'test-plotLoadings.mint.plsda.R:61:5',
  'test-plotLoadings.mint.plsda.R:91:5',
  'test-plotLoadings.mint.plsda.R:143:5', 'test-plotLoadings.pca.R:11:3',
  'test-plotLoadings.pca.R:50:3', 'test-plotLoadings.pca.R:84:3',
  'test-plotLoadings.pls.R:43:3', 'test-plotLoadings.pls.R:91:3',
  'test-plotLoadings.plsda.R:109:3', 'test-plotLoadings.plsda.R:148:3',
  'test-plotLoadings.sgccda.R:16:3', 'test-plotLoadings.sgccda.R:32:3',
  'test-plotLoadings.sgccda.R:47:3', 'test-plotLoadings.sgccda.R:95:3',
  'test-plotLoadings.sgccda.R:133:3'

[ FAIL 0 | WARN 3 | SKIP 51 | PASS 663 ]
Deleting unused snapshots:
• biplot/biplot-plot-pca-with-customised-colours.svg
• biplot/biplot-plot-plsda-model-with-customised-pch.svg
• plotArrow/arrow-plot-daiblo-with-customised-colours.svg
• plotArrow/arrow-plot-spls-with-customised-colours.svg
• plotIndiv.mint/mint-pls-plot-default-cols-custom-groups.svg
• plotIndiv.mint/mint-pls-plot-studies-facetted.svg
• plotIndiv.mint/mint-spls-plot-studies-facetted-different-layout.svg
• plotIndiv.mint/mint-splsda-plot-default-cols-custom-groups.svg
• plotIndiv.mint/mint-splsda-plot-studies-facetted-different-layout.svg
• plotIndiv.mint/mint-splsda-plot-studies-facetted.svg
• plotIndiv.mint/mint-splsda-plot-with-ellipse.svg
• plotIndiv.mint/mint-splsda-plot-with-star.svg
• plotIndiv.pca/pca-plot-coloured-by-primary-groups-custom-cols-reordered-groups.svg
• plotIndiv.pca/pca-plot-coloured-by-primary-groups-custom-cols-with-set-pch-triangle-for-all-samples.svg
• plotIndiv.pca/pca-plot-coloured-by-primary-groups-custom-cols.svg
• plotIndiv.pca/pca-plot-coloured-by-primary-groups-with-pch-for-secondary-groups-reordered.svg
• plotIndiv.pca/pca-plot-coloured-by-primary-groups-with-pch-for-secondary-groups.svg
• plotIndiv.pca/pca-plot-coloured-by-primary-groups-with-set-pch-for-each-group.svg
• plotIndiv.pca/pca-plot-coloured-by-primary-groups.svg
• plotIndiv.pca/pca-plot-sample-names-coloured-by-primary-groups-custom-cols.svg
• plotIndiv.pca/pca-plot-sample-names-coloured-by-primary-groups.svg
• plotIndiv.pca/pca-plot-with-centroids-coloured-by-primary-groups-custom-cols.svg
• plotIndiv.pca/pca-plot-with-ellipse-coloured-by-primary-groups-custom-cols-ellipse-level-0-5.svg
• plotIndiv.pca/pca-plot-with-ellipse-coloured-by-primary-groups-custom-cols-sample-names.svg
• plotIndiv.pca/pca-plot-with-ellipse-coloured-by-primary-groups-custom-cols.svg
• plotIndiv.pca/pca-plot-with-pch-for-primary-groups-col-consistent.svg
• plotIndiv.pls/pca-plot-sample-names-coloured-by-primary-groups-custom-cols.svg
• plotIndiv.pls/rcca-plot-coloured-by-primary-groups-custom-cols-reordered-groups.svg
• plotIndiv.pls/rcca-plot-coloured-by-primary-groups-with-pch-for-secondary-groups.svg
• plotIndiv.pls/rcca-plot-coloured-by-primary-groups-with-set-pch-for-each-group.svg
• plotIndiv.pls/rcca-plot-coloured-by-primary-groups.svg
• plotIndiv.pls/rcca-plot-on-multi-variate-space.svg
• plotIndiv.pls/rcca-plot-on-x-variate-space.svg
• plotIndiv.pls/rcca-plot-on-y-variate-space.svg
• plotIndiv.pls/rcca-plot-sample-names-coloured-by-primary-groups.svg
• plotIndiv.pls/rcca-plot-with-ellipse-coloured-by-primary-groups-ellipse-level-0-5.svg
• plotIndiv.pls/rcca-plot-with-pch-for-primary-groups-col-consistent.svg
• plotIndiv.pls/spls-plot-coloured-by-primary-groups.svg
• plotIndiv.pls/spls-plot-on-multi-variate-space.svg
• plotIndiv.pls/spls-plot-on-x-variate-space.svg
• plotIndiv.pls/spls-plot-on-y-variate-space.svg
• plotIndiv.pls/spls-plot-sample-names-coloured-by-primary-groups.svg
• plotIndiv.pls/splsda-plot-on-multi-variate-space.svg
• plotIndiv.pls/splsda-plot-on-x-variate-space.svg
• plotIndiv.pls/splsda-plot-on-y-variate-space.svg
• plotIndiv.pls/splsda-plot-sample-names-coloured-by-custom-groups.svg
• plotIndiv.pls/splsda-plot-with-centroids-and-stars-custom-cols-pch-on-second-grouping.svg
• plotIndiv.pls/splsda-plot-with-centroids-and-stars-custom-cols.svg
• plotIndiv.pls/splsda-plot-with-ellipse-on-custom-groups.svg
• plotLoadings.mint.pls/loadings-plot-mint-pls-all-partial-ggplot2.svg
• plotLoadings.mint.pls/loadings-plot-mint-pls-all-partial-graphics.svg
• plotLoadings.mint.pls/loadings-plot-mint-pls-change-cols-and-borders-ggplot2.svg
• plotLoadings.mint.pls/loadings-plot-mint-pls-change-cols-and-borders-graphics.svg
• plotLoadings.mint.pls/loadings-plot-mint-pls-change-gene-names-ggplot2.svg
• plotLoadings.mint.pls/loadings-plot-mint-pls-change-gene-names-graphics.svg
• plotLoadings.mint.pls/loadings-plot-mint-pls-change-labels-and-label-sizes-ggplot2.svg
• plotLoadings.mint.pls/loadings-plot-mint-pls-change-labels-and-label-sizes-graphics.svg
• plotLoadings.mint.pls/loadings-plot-mint-pls-change-layout-ggplot2.svg
• plotLoadings.mint.pls/loadings-plot-mint-pls-change-layout-graphics.svg
• plotLoadings.mint.pls/loadings-plot-mint-pls-specific-study-ggplot2.svg
• plotLoadings.mint.pls/loadings-plot-mint-pls-specific-study-graphics.svg
• plotLoadings.mint.plsda/mint-plsda-loadings-all-partial.svg
• plotLoadings.mint.plsda/mint-plsda-loadings-custom-colors.svg
• plotLoadings.mint.plsda/mint-plsda-loadings-custom-labels.svg
• plotLoadings.mint.plsda/mint-plsda-loadings-custom-layout.svg
• plotLoadings.mint.plsda/mint-plsda-loadings-custom-names.svg
• plotLoadings.mint.plsda/mint-plsda-loadings-ggplot2-all-partial.svg
• plotLoadings.mint.plsda/mint-plsda-loadings-ggplot2-custom-colors.svg
• plotLoadings.mint.plsda/mint-plsda-loadings-ggplot2-custom-labels.svg
• plotLoadings.mint.plsda/mint-plsda-loadings-ggplot2-custom-layout.svg
• plotLoadings.mint.plsda/mint-plsda-loadings-ggplot2-custom-names.svg
• plotLoadings.mint.plsda/mint-plsda-loadings-ggplot2-specific-study.svg
• plotLoadings.mint.plsda/mint-plsda-loadings-specific-study.svg
• plotLoadings.pca/loadings-plot-change-cols-and-borders-ggplot2.svg
• plotLoadings.pca/loadings-plot-change-cols-and-borders-graphics.svg
• plotLoadings.pca/loadings-plot-change-gene-names-and-plot-top-3-ggplot2.svg
• plotLoadings.pca/loadings-plot-change-gene-names-and-plot-top-3-graphics.svg
• plotLoadings.pca/loadings-plot-change-labels-and-label-sizes-ggplot2.svg
• plotLoadings.pca/loadings-plot-change-labels-and-label-sizes-graphics.svg
• plotLoadings.pls/loadings-plot-spls-change-block-ggplot2.svg
• plotLoadings.pls/loadings-plot-spls-change-block-graphics.svg
• plotLoadings.pls/loadings-plot-spls-change-cols-and-borders-ggplot2.svg
• plotLoadings.pls/loadings-plot-spls-change-cols-and-borders-graphics.svg
• plotLoadings.pls/loadings-plot-spls-change-gene-names-and-plot-top-3-ggplot2.svg
• plotLoadings.pls/loadings-plot-spls-change-gene-names-and-plot-top-3-graphics.svg
• plotLoadings.pls/loadings-plot-spls-change-labels-and-label-sizes-ggplot2.svg
• plotLoadings.pls/loadings-plot-spls-change-labels-and-label-sizes-graphics.svg
• plotLoadings.pls/loadings-plot-spls-change-layout-ggplot2.svg
• plotLoadings.pls/loadings-plot-spls-change-layout-graphics.svg
• plotLoadings.plsda/loadings-plot-splsda-with-custom-legend-ggplot2.svg
• plotLoadings.plsda/loadings-plot-splsda-with-custom-legend-graphics.svg
• plotLoadings.plsda/loadings-plot-splsda-with-custom-names-ggplot2.svg
• plotLoadings.plsda/loadings-plot-splsda-with-custom-names-graphics.svg
• plotLoadings.plsda/loadings-plot-splsda-with-custom-title-and-labels-ggplot2.svg
• plotLoadings.plsda/loadings-plot-splsda-with-custom-title-and-labels-graphics.svg
• plotLoadings.sgccda/loadings-plot-diablo-block-specific-with-contrib-ggplot2.svg
• plotLoadings.sgccda/loadings-plot-diablo-block-specific-with-contrib-graphics.svg
• plotLoadings.sgccda/loadings-plot-diablo-change-labels-and-label-sizes-ggplot2.svg
• plotLoadings.sgccda/loadings-plot-diablo-change-labels-and-label-sizes-graphics.svg
• plotLoadings.sgccda/loadings-plot-diablo-change-legend-ggplot2.svg
• plotLoadings.sgccda/loadings-plot-diablo-change-legend-graphics.svg
> 
> proc.time()
   user  system elapsed 
621.849   8.069 818.418 

Example timings

mixOmics.Rcheck/mixOmics-Ex.timings

nameusersystemelapsed
S3methods-print0.0640.0040.068
auroc1.4160.0161.434
background.predict13.701 0.13213.862
biplot18.905 0.12419.064
block.pls0.7950.0080.805
block.plsda1.0130.0001.015
block.spls8.1630.0398.221
block.splsda10.216 0.08810.348
cim0.0510.0000.051
cimDiablo0.3940.0040.400
circosPlot10.448 0.04010.510
colors0.0340.0000.035
explained_variance0.260.000.26
get.confusion_matrix0.6250.0160.643
image.tune.rcc13.585 0.02013.629
imgCor0.1590.0040.163
impute.nipals0.0140.0000.014
ipca1.2520.0201.275
logratio-transformations0.0810.0000.081
map0.0040.0000.004
mat.rank0.0020.0000.002
mint.block.pls0.2280.0040.232
mint.block.plsda0.1690.0000.169
mint.block.spls0.2560.0000.256
mint.block.splsda0.180.000.18
mint.pca0.5360.0040.541
mint.pls0.8420.0000.844
mint.plsda0.9270.0000.930
mint.spls0.8720.0400.914
mint.splsda0.9520.0160.970
mixOmics0.7950.0160.813
nearZeroVar0.8650.0000.867
network0.0620.0000.063
pca6.4070.0166.456
perf5.8960.0285.937
perf.assess46.673 0.09546.871
plot.rcc0.0640.0000.064
plot.tune000
plotArrow2.2390.0002.244
plotDiablo0.2780.0000.279
plotIndiv26.107 0.07526.237
plotLoadings1.0790.0001.080
plotMarkers000
plotVar0.8620.0070.872
pls0.0080.0000.007
plsda0.5280.0000.529
predict0.2960.0030.300
rcc0.0040.0000.003
selectVar0.5980.0080.607
sipca0.7440.0000.745
spca5.3300.0045.342
spls0.4930.0040.498
splsda0.5000.0040.505
study_split0.0060.0000.005
summary0.0790.0000.079
tune8.2620.0088.286
tune.block.plsda50.144 0.03650.318
tune.block.splsda19.146 0.04264.985
tune.mint.plsda1.7100.0681.782
tune.mint.splsda7.1070.2127.333
tune.pca1.4580.0361.497
tune.pls86.215 0.44386.808
tune.plsda67.007 0.10867.277
tune.rcc13.291 0.00013.308
tune.spca0.8800.0120.893
tune.spls487.176 0.599488.794
tune.splsda146.056 0.163146.617
unmap0.0040.0000.004
vip0.0120.0000.012
withinVariation1.3360.0441.382
wrapper.rgcca0.0830.0040.087
wrapper.sgcca0.210.000.21