| Back to Multiple platform build/check report for BioC 3.22: simplified long |
|
This page was generated on 2025-11-27 12:03 -0500 (Thu, 27 Nov 2025).
| Hostname | OS | Arch (*) | R version | Installed pkgs |
|---|---|---|---|---|
| nebbiolo2 | Linux (Ubuntu 24.04.3 LTS) | x86_64 | 4.5.2 (2025-10-31) -- "[Not] Part in a Rumble" | 4876 |
| merida1 | macOS 12.7.6 Monterey | x86_64 | 4.5.2 Patched (2025-11-05 r88990) -- "[Not] Part in a Rumble" | 4656 |
| kjohnson1 | macOS 13.7.5 Ventura | arm64 | 4.5.2 Patched (2025-11-04 r88984) -- "[Not] Part in a Rumble" | 4602 |
| taishan | Linux (openEuler 24.03 LTS) | aarch64 | 4.5.0 (2025-04-11) -- "How About a Twenty-Six" | 4668 |
| Click on any hostname to see more info about the system (e.g. compilers) (*) as reported by 'uname -p', except on Windows and Mac OS X | ||||
| Package 1333/2361 | Hostname | OS / Arch | INSTALL | BUILD | CHECK | BUILD BIN | ||||||||
| mixOmics 6.34.0 (landing page) Eva Hamrud
| nebbiolo2 | Linux (Ubuntu 24.04.3 LTS) / x86_64 | OK | OK | OK | |||||||||
| merida1 | macOS 12.7.6 Monterey / x86_64 | OK | OK | TIMEOUT | OK | |||||||||
| kjohnson1 | macOS 13.7.5 Ventura / arm64 | OK | OK | TIMEOUT | NA | |||||||||
| taishan | Linux (openEuler 24.03 LTS) / aarch64 | OK | OK | ERROR | ||||||||||
|
To the developers/maintainers of the mixOmics package: - Allow up to 24 hours (and sometimes 48 hours) for your latest push to git@git.bioconductor.org:packages/mixOmics.git to reflect on this report. See Troubleshooting Build Report for more information. - Use the following Renviron settings to reproduce errors and warnings. - If 'R CMD check' started to fail recently on the Linux builder(s) over a missing dependency, add the missing dependency to 'Suggests:' in your DESCRIPTION file. See Renviron.bioc for more information. |
| Package: mixOmics |
| Version: 6.34.0 |
| Command: /Library/Frameworks/R.framework/Resources/bin/R CMD check --install=check:mixOmics.install-out.txt --library=/Library/Frameworks/R.framework/Resources/library --no-vignettes --timings mixOmics_6.34.0.tar.gz |
| StartedAt: 2025-11-25 07:21:50 -0500 (Tue, 25 Nov 2025) |
| EndedAt: 2025-11-25 08:01:50 -0500 (Tue, 25 Nov 2025) |
| EllapsedTime: 2400.3 seconds |
| RetCode: None |
| Status: TIMEOUT |
| CheckDir: mixOmics.Rcheck |
| Warnings: NA |
##############################################################################
##############################################################################
###
### Running command:
###
### /Library/Frameworks/R.framework/Resources/bin/R CMD check --install=check:mixOmics.install-out.txt --library=/Library/Frameworks/R.framework/Resources/library --no-vignettes --timings mixOmics_6.34.0.tar.gz
###
##############################################################################
##############################################################################
* using log directory ‘/Users/biocbuild/bbs-3.22-bioc/meat/mixOmics.Rcheck’
* using R version 4.5.2 Patched (2025-11-05 r88990)
* using platform: x86_64-apple-darwin20
* R was compiled by
Apple clang version 14.0.0 (clang-1400.0.29.202)
GNU Fortran (GCC) 14.2.0
* running under: macOS Monterey 12.7.6
* using session charset: UTF-8
* using option ‘--no-vignettes’
* checking for file ‘mixOmics/DESCRIPTION’ ... OK
* checking extension type ... Package
* this is package ‘mixOmics’ version ‘6.34.0’
* package encoding: UTF-8
* checking package namespace information ... OK
* checking package dependencies ... OK
* checking if this is a source package ... OK
* checking if there is a namespace ... OK
* checking for hidden files and directories ... OK
* checking for portable file names ... NOTE
Found the following non-portable file paths:
mixOmics/tests/testthat/_snaps/plotIndiv.pca/pca-plot-coloured-by-primary-groups-custom-cols-reordered-groups.svg
mixOmics/tests/testthat/_snaps/plotIndiv.pca/pca-plot-coloured-by-primary-groups-custom-cols-with-set-pch-circle-for-all-samples.svg
mixOmics/tests/testthat/_snaps/plotIndiv.pca/pca-plot-coloured-by-primary-groups-custom-cols-with-set-pch-triangle-for-all-samples.svg
mixOmics/tests/testthat/_snaps/plotIndiv.pca/pca-plot-coloured-by-primary-groups-with-pch-for-secondary-groups-reordered.svg
mixOmics/tests/testthat/_snaps/plotIndiv.pca/pca-plot-coloured-by-primary-groups-with-pch-for-secondary-groups.svg
mixOmics/tests/testthat/_snaps/plotIndiv.pca/pca-plot-coloured-by-primary-groups-with-set-pch-for-each-group.svg
mixOmics/tests/testthat/_snaps/plotIndiv.pca/pca-plot-sample-names-coloured-by-primary-groups-custom-cols.svg
mixOmics/tests/testthat/_snaps/plotIndiv.pca/pca-plot-with-centroids-coloured-by-primary-groups-custom-cols.svg
mixOmics/tests/testthat/_snaps/plotIndiv.pca/pca-plot-with-ellipse-coloured-by-primary-groups-custom-cols-ellipse-level-0-5.svg
mixOmics/tests/testthat/_snaps/plotIndiv.pca/pca-plot-with-ellipse-coloured-by-primary-groups-custom-cols-sample-names.svg
mixOmics/tests/testthat/_snaps/plotIndiv.pca/pca-plot-with-ellipse-coloured-by-primary-groups-custom-cols.svg
mixOmics/tests/testthat/_snaps/plotIndiv.pls/pca-plot-sample-names-coloured-by-primary-groups-custom-cols.svg
mixOmics/tests/testthat/_snaps/plotIndiv.pls/rcca-plot-coloured-by-primary-groups-custom-cols-reordered-groups.svg
mixOmics/tests/testthat/_snaps/plotIndiv.pls/rcca-plot-coloured-by-primary-groups-custom-cols-with-set-pch-circle-for-all-samples.svg
mixOmics/tests/testthat/_snaps/plotIndiv.pls/rcca-plot-coloured-by-primary-groups-with-pch-for-secondary-groups.svg
mixOmics/tests/testthat/_snaps/plotIndiv.pls/rcca-plot-coloured-by-primary-groups-with-set-pch-for-each-group.svg
mixOmics/tests/testthat/_snaps/plotIndiv.pls/rcca-plot-with-ellipse-coloured-by-primary-groups-ellipse-level-0-5.svg
mixOmics/tests/testthat/_snaps/plotIndiv.pls/rcca-plot-with-pch-for-primary-groups-col-consistent.svg
mixOmics/tests/testthat/_snaps/plotIndiv.pls/spls-plot-with-centroids-and-stars-coloured-by-primary-groups.svg
mixOmics/tests/testthat/_snaps/plotIndiv.pls/splsda-plot-with-centroids-and-stars-custom-cols-pch-on-second-grouping.svg
mixOmics/tests/testthat/_snaps/plotLoadings.mint.pls/loadings-plot-mint-pls-change-cols-and-borders-ggplot2.svg
mixOmics/tests/testthat/_snaps/plotLoadings.mint.pls/loadings-plot-mint-pls-change-cols-and-borders-graphics.svg
mixOmics/tests/testthat/_snaps/plotLoadings.mint.pls/loadings-plot-mint-pls-change-gene-names-ggplot2.svg
mixOmics/tests/testthat/_snaps/plotLoadings.mint.pls/loadings-plot-mint-pls-change-gene-names-graphics.svg
mixOmics/tests/testthat/_snaps/plotLoadings.mint.pls/loadings-plot-mint-pls-change-labels-and-label-sizes-ggplot2.svg
mixOmics/tests/testthat/_snaps/plotLoadings.mint.pls/loadings-plot-mint-pls-change-labels-and-label-sizes-graphics.svg
mixOmics/tests/testthat/_snaps/plotLoadings.mint.pls/loadings-plot-mint-pls-change-layout-ggplot2.svg
mixOmics/tests/testthat/_snaps/plotLoadings.mint.pls/loadings-plot-mint-pls-change-layout-graphics.svg
mixOmics/tests/testthat/_snaps/plotLoadings.mint.pls/loadings-plot-mint-pls-specific-study-ggplot2.svg
mixOmics/tests/testthat/_snaps/plotLoadings.mint.pls/loadings-plot-mint-pls-specific-study-graphics.svg
mixOmics/tests/testthat/_snaps/plotLoadings.mint.plsda/mint-plsda-loadings-ggplot2-specific-study.svg
mixOmics/tests/testthat/_snaps/plotLoadings.pca/loadings-plot-change-gene-names-and-plot-top-3-ggplot2.svg
mixOmics/tests/testthat/_snaps/plotLoadings.pca/loadings-plot-change-gene-names-and-plot-top-3-graphics.svg
mixOmics/tests/testthat/_snaps/plotLoadings.pca/loadings-plot-change-labels-and-label-sizes-ggplot2.svg
mixOmics/tests/testthat/_snaps/plotLoadings.pca/loadings-plot-change-labels-and-label-sizes-graphics.svg
mixOmics/tests/testthat/_snaps/plotLoadings.pls/loadings-plot-spls-change-cols-and-borders-ggplot2.svg
mixOmics/tests/testthat/_snaps/plotLoadings.pls/loadings-plot-spls-change-cols-and-borders-graphics.svg
mixOmics/tests/testthat/_snaps/plotLoadings.pls/loadings-plot-spls-change-gene-names-and-plot-top-3-ggplot2.svg
mixOmics/tests/testthat/_snaps/plotLoadings.pls/loadings-plot-spls-change-gene-names-and-plot-top-3-graphics.svg
mixOmics/tests/testthat/_snaps/plotLoadings.pls/loadings-plot-spls-change-labels-and-label-sizes-ggplot2.svg
mixOmics/tests/testthat/_snaps/plotLoadings.pls/loadings-plot-spls-change-labels-and-label-sizes-graphics.svg
mixOmics/tests/testthat/_snaps/plotLoadings.plsda/loadings-plot-splsda-with-custom-legend-ggplot2.svg
mixOmics/tests/testthat/_snaps/plotLoadings.plsda/loadings-plot-splsda-with-custom-legend-graphics.svg
mixOmics/tests/testthat/_snaps/plotLoadings.plsda/loadings-plot-splsda-with-custom-names-graphics.svg
mixOmics/tests/testthat/_snaps/plotLoadings.plsda/loadings-plot-splsda-with-custom-title-and-labels-ggplot2.svg
mixOmics/tests/testthat/_snaps/plotLoadings.plsda/loadings-plot-splsda-with-custom-title-and-labels-graphics.svg
mixOmics/tests/testthat/_snaps/plotLoadings.sgccda/loadings-plot-diablo-block-specific-with-contrib-ggplot2.svg
mixOmics/tests/testthat/_snaps/plotLoadings.sgccda/loadings-plot-diablo-block-specific-with-contrib-graphics.svg
mixOmics/tests/testthat/_snaps/plotLoadings.sgccda/loadings-plot-diablo-change-labels-and-label-sizes-ggplot2.svg
mixOmics/tests/testthat/_snaps/plotLoadings.sgccda/loadings-plot-diablo-change-labels-and-label-sizes-graphics.svg
Tarballs are only required to store paths of up to 100 bytes and cannot
store those of more than 256 bytes, with restrictions including to 100
bytes for the final component.
See section ‘Package structure’ in the ‘Writing R Extensions’ manual.
* checking for sufficient/correct file permissions ... OK
* checking whether package ‘mixOmics’ can be installed ... OK
* checking installed package size ... INFO
installed size is 6.5Mb
sub-directories of 1Mb or more:
R 1.6Mb
data 3.3Mb
* checking package directory ... OK
* checking DESCRIPTION meta-information ... OK
* checking top-level files ... OK
* checking for left-over files ... OK
* checking index information ... OK
* checking package subdirectories ... OK
* checking code files for non-ASCII characters ... OK
* checking R files for syntax errors ... OK
* checking whether the package can be loaded ... OK
* checking whether the package can be loaded with stated dependencies ... OK
* checking whether the package can be unloaded cleanly ... OK
* checking whether the namespace can be loaded with stated dependencies ... OK
* checking whether the namespace can be unloaded cleanly ... OK
* checking whether startup messages can be suppressed ... OK
* checking dependencies in R code ... NOTE
Namespace in Imports field not imported from: ‘gsignal’
All declared Imports should be used.
* checking S3 generic/method consistency ... OK
* checking replacement functions ... OK
* checking foreign function calls ... OK
* checking R code for possible problems ... NOTE
.plotLoadings_barplot: no visible binding for global variable
‘size.axis’
perf.assess.sgccda: no visible binding for global variable
‘signif.threshold’
plotLoadings.mint.pls: no visible binding for global variable
‘importance’
plotLoadings.mint.pls: no visible binding for global variable ‘color’
plotLoadings.mint.plsda: no visible binding for global variable
‘importance’
plotLoadings.mint.plsda: no visible binding for global variable ‘color’
plotLoadings.mint.spls: no visible binding for global variable
‘importance’
plotLoadings.mint.spls: no visible binding for global variable ‘color’
plotLoadings.mint.splsda: no visible binding for global variable
‘importance’
plotLoadings.mint.splsda: no visible binding for global variable
‘color’
plotLoadings.mixo_pls: no visible binding for global variable
‘importance’
plotLoadings.mixo_plsda: no visible binding for global variable
‘importance’
plotLoadings.mixo_plsda: no visible binding for global variable ‘color’
plotLoadings.mixo_plsda: no visible binding for global variable ‘group’
plotLoadings.mixo_spls: no visible binding for global variable
‘importance’
plotLoadings.mixo_splsda: no visible binding for global variable
‘importance’
plotLoadings.mixo_splsda: no visible binding for global variable
‘color’
plotLoadings.mixo_splsda: no visible binding for global variable
‘group’
plotLoadings.pca: no visible binding for global variable ‘importance’
plotLoadings.rcc: no visible binding for global variable ‘importance’
plotLoadings.rgcca: no visible binding for global variable ‘importance’
plotLoadings.sgcca: no visible binding for global variable ‘importance’
plotLoadings.sgccda: no visible binding for global variable
‘importance’
plotLoadings.sgccda: no visible binding for global variable ‘color’
plotLoadings.sgccda: no visible binding for global variable ‘group’
Undefined global functions or variables:
color group importance signif.threshold size.axis
* checking Rd files ... NOTE
checkRd: (-1) plotLoadings.Rd:479: Lost braces
479 | For code{mint.pls}, \code{mint.spls}: when \code{study="all.partial"},
| ^
* checking Rd metadata ... OK
* checking Rd cross-references ... NOTE
Found the following Rd file(s) with Rd \link{} targets missing package
anchors:
perf.Rd: BiocParallelParam-class
perf.assess.Rd: BiocParallelParam-class
rcc.Rd: estimate.lambda
tune.Rd: BiocParallelParam-class
tune.block.plsda.Rd: BiocParallelParam-class
tune.block.splsda.Rd: BiocParallelParam-class
tune.pls.Rd: BiocParallelParam-class
tune.plsda.Rd: BiocParallelParam-class
tune.spca.Rd: BiocParallelParam-class
tune.spls.Rd: BiocParallelParam-class
tune.splsda.Rd: BiocParallelParam-class
Please provide package anchors for all Rd \link{} targets not in the
package itself and the base packages.
* checking for missing documentation entries ... OK
* checking for code/documentation mismatches ... OK
* checking Rd \usage sections ... NOTE
S3 methods shown with full name in Rd file 'perf.assess.Rd':
‘perf.assess’
The \usage entries for S3 methods should use the \method markup and not
their full name.
See chapter ‘Writing R documentation files’ in the ‘Writing R
Extensions’ manual.
* checking Rd contents ... OK
* checking for unstated dependencies in examples ... OK
* checking contents of ‘data’ directory ... OK
* checking data for non-ASCII characters ... OK
* checking data for ASCII and uncompressed saves ... OK
* checking files in ‘vignettes’ ... OK
* checking examples ... OK
Examples with CPU (user + system) or elapsed time > 5s
user system elapsed
tune.spls 489.041 11.053 519.041
tune.splsda 190.333 5.115 197.547
tune.plsda 95.012 2.436 98.205
tune.pls 84.133 1.999 86.938
tune.block.plsda 76.703 0.437 78.099
perf.assess 52.502 0.873 56.261
plotIndiv 51.444 1.219 54.228
biplot 32.037 0.162 35.989
tune.block.splsda 29.430 0.246 103.029
block.splsda 20.017 0.146 22.295
background.predict 16.874 0.854 18.937
block.spls 16.744 0.126 18.846
circosPlot 16.547 0.286 20.872
pca 12.363 0.100 13.359
tune 11.661 0.396 12.262
tune.mint.splsda 8.858 0.164 9.089
spca 8.149 0.140 8.314
perf 5.661 0.133 6.543
plotArrow 5.157 0.048 5.277
* checking for unstated dependencies in ‘tests’ ... OK
* checking tests ...
Running ‘testthat.R’
mixOmics.Rcheck/00install.out
############################################################################## ############################################################################## ### ### Running command: ### ### /Library/Frameworks/R.framework/Resources/bin/R CMD INSTALL mixOmics ### ############################################################################## ############################################################################## * installing to library ‘/Library/Frameworks/R.framework/Versions/4.5-x86_64/Resources/library’ * installing *source* package ‘mixOmics’ ... ** this is package ‘mixOmics’ version ‘6.34.0’ ** using staged installation ** R ** data ** inst ** byte-compile and prepare package for lazy loading ** help *** installing help indices ** building package indices ** installing vignettes ** testing if installed package can be loaded from temporary location ** testing if installed package can be loaded from final location ** testing if installed package keeps a record of temporary installation path * DONE (mixOmics)
mixOmics.Rcheck/tests/testthat.Rout
R version 4.5.2 Patched (2025-11-05 r88990) -- "[Not] Part in a Rumble"
Copyright (C) 2025 The R Foundation for Statistical Computing
Platform: x86_64-apple-darwin20
R is free software and comes with ABSOLUTELY NO WARRANTY.
You are welcome to redistribute it under certain conditions.
Type 'license()' or 'licence()' for distribution details.
R is a collaborative project with many contributors.
Type 'contributors()' for more information and
'citation()' on how to cite R or R packages in publications.
Type 'demo()' for some demos, 'help()' for on-line help, or
'help.start()' for an HTML browser interface to help.
Type 'q()' to quit R.
> library(testthat)
> library(mixOmics)
Loading required package: MASS
Loading required package: lattice
Loading required package: ggplot2
Loaded mixOmics 6.34.0
Thank you for using mixOmics!
Tutorials: http://mixomics.org
Bookdown vignette: https://mixomicsteam.github.io/Bookdown
Questions, issues: Follow the prompts at http://mixomics.org/contact-us
Cite us: citation('mixOmics')
>
> test_check("mixOmics")
2025-11-25 07:51:32.470 R[19733:50400351] XType: com.apple.fonts is not accessible.
2025-11-25 07:51:32.471 R[19733:50400351] XType: XTFontStaticRegistry is enabled.
character(0)
character(0)
character(0)
character(0)
character(0)
character(0)
character(0)
character(0)
character(0)
character(0)
character(0)
character(0)
character(0)
character(0)
mixOmics.Rcheck/mixOmics-Ex.timings
| name | user | system | elapsed | |
| S3methods-print | 0.026 | 0.006 | 0.041 | |
| auroc | 2.340 | 0.035 | 2.489 | |
| background.predict | 16.874 | 0.854 | 18.937 | |
| biplot | 32.037 | 0.162 | 35.989 | |
| block.pls | 1.634 | 0.020 | 1.797 | |
| block.plsda | 2.821 | 0.020 | 2.984 | |
| block.spls | 16.744 | 0.126 | 18.846 | |
| block.splsda | 20.017 | 0.146 | 22.295 | |
| cim | 0.062 | 0.013 | 0.079 | |
| cimDiablo | 0.690 | 0.014 | 0.747 | |
| circosPlot | 16.547 | 0.286 | 20.872 | |
| colors | 0.051 | 0.005 | 0.135 | |
| explained_variance | 0.175 | 0.009 | 0.196 | |
| get.confusion_matrix | 0.367 | 0.010 | 0.437 | |
| image.tune.rcc | 3.139 | 0.064 | 3.701 | |
| imgCor | 0.129 | 0.019 | 0.177 | |
| impute.nipals | 0.021 | 0.005 | 0.028 | |
| ipca | 2.715 | 0.033 | 3.042 | |
| logratio-transformations | 0.105 | 0.011 | 0.127 | |
| map | 0.007 | 0.006 | 0.013 | |
| mat.rank | 0.004 | 0.000 | 0.005 | |
| mint.block.pls | 0.198 | 0.017 | 0.231 | |
| mint.block.plsda | 0.145 | 0.010 | 0.170 | |
| mint.block.spls | 0.220 | 0.015 | 0.267 | |
| mint.block.splsda | 0.178 | 0.012 | 0.230 | |
| mint.pca | 1.418 | 0.014 | 1.664 | |
| mint.pls | 2.389 | 0.014 | 2.691 | |
| mint.plsda | 2.520 | 0.017 | 2.821 | |
| mint.spls | 2.423 | 0.017 | 2.680 | |
| mint.splsda | 2.623 | 0.024 | 2.906 | |
| mixOmics | 0.550 | 0.022 | 0.620 | |
| nearZeroVar | 1.788 | 0.047 | 1.929 | |
| network | 0.020 | 0.006 | 0.027 | |
| pca | 12.363 | 0.100 | 13.359 | |
| perf | 5.661 | 0.133 | 6.543 | |
| perf.assess | 52.502 | 0.873 | 56.261 | |
| plot.rcc | 0.023 | 0.006 | 0.029 | |
| plot.tune | 0.001 | 0.004 | 0.005 | |
| plotArrow | 5.157 | 0.048 | 5.277 | |
| plotDiablo | 0.298 | 0.014 | 0.314 | |
| plotIndiv | 51.444 | 1.219 | 54.228 | |
| plotLoadings | 1.043 | 0.045 | 1.095 | |
| plotMarkers | 0 | 0 | 0 | |
| plotVar | 2.208 | 0.018 | 2.286 | |
| pls | 0.013 | 0.004 | 0.017 | |
| plsda | 1.323 | 0.016 | 1.355 | |
| predict | 0.395 | 0.013 | 0.411 | |
| rcc | 0.005 | 0.004 | 0.009 | |
| selectVar | 0.674 | 0.077 | 0.755 | |
| sipca | 1.600 | 0.019 | 1.651 | |
| spca | 8.149 | 0.140 | 8.314 | |
| spls | 0.329 | 0.014 | 0.347 | |
| splsda | 1.328 | 0.023 | 1.362 | |
| study_split | 0.007 | 0.003 | 0.010 | |
| summary | 0.026 | 0.011 | 0.037 | |
| tune | 11.661 | 0.396 | 12.262 | |
| tune.block.plsda | 76.703 | 0.437 | 78.099 | |
| tune.block.splsda | 29.430 | 0.246 | 103.029 | |
| tune.mint.plsda | 2.061 | 0.034 | 2.112 | |
| tune.mint.splsda | 8.858 | 0.164 | 9.089 | |
| tune.pca | 2.264 | 0.041 | 2.312 | |
| tune.pls | 84.133 | 1.999 | 86.938 | |
| tune.plsda | 95.012 | 2.436 | 98.205 | |
| tune.rcc | 3.102 | 0.085 | 3.313 | |
| tune.spca | 1.853 | 0.020 | 1.923 | |
| tune.spls | 489.041 | 11.053 | 519.041 | |
| tune.splsda | 190.333 | 5.115 | 197.547 | |
| unmap | 0.007 | 0.010 | 0.017 | |
| vip | 0.019 | 0.004 | 0.024 | |
| withinVariation | 3.253 | 0.043 | 3.311 | |
| wrapper.rgcca | 0.125 | 0.007 | 0.133 | |
| wrapper.sgcca | 0.303 | 0.013 | 0.316 | |