| Back to Multiple platform build/check report for BioC 3.22: simplified long |
|
This page was generated on 2025-11-15 11:58 -0500 (Sat, 15 Nov 2025).
| Hostname | OS | Arch (*) | R version | Installed pkgs |
|---|---|---|---|---|
| nebbiolo2 | Linux (Ubuntu 24.04.3 LTS) | x86_64 | 4.5.1 Patched (2025-08-23 r88802) -- "Great Square Root" | 4903 |
| taishan | Linux (openEuler 24.03 LTS) | aarch64 | 4.5.0 (2025-04-11) -- "How About a Twenty-Six" | 4668 |
| Click on any hostname to see more info about the system (e.g. compilers) (*) as reported by 'uname -p', except on Windows and Mac OS X | ||||
| Package 1249/2361 | Hostname | OS / Arch | INSTALL | BUILD | CHECK | BUILD BIN | ||||||||
| metagenomeSeq 1.52.0 (landing page) Joseph N. Paulson
| nebbiolo2 | Linux (Ubuntu 24.04.3 LTS) / x86_64 | OK | OK | OK | |||||||||
| taishan | Linux (openEuler 24.03 LTS) / aarch64 | OK | OK | OK | ||||||||||
|
To the developers/maintainers of the metagenomeSeq package: - Allow up to 24 hours (and sometimes 48 hours) for your latest push to git@git.bioconductor.org:packages/metagenomeSeq.git to reflect on this report. See Troubleshooting Build Report for more information. - Use the following Renviron settings to reproduce errors and warnings. - If 'R CMD check' started to fail recently on the Linux builder(s) over a missing dependency, add the missing dependency to 'Suggests:' in your DESCRIPTION file. See Renviron.bioc for more information. - See Martin Grigorov's blog post for how to debug Linux ARM64 related issues on a x86_64 host. |
| Package: metagenomeSeq |
| Version: 1.52.0 |
| Command: /home/biocbuild/R/R/bin/R CMD check --install=check:metagenomeSeq.install-out.txt --library=/home/biocbuild/R/R/site-library --no-vignettes --timings metagenomeSeq_1.52.0.tar.gz |
| StartedAt: 2025-11-14 11:18:33 -0000 (Fri, 14 Nov 2025) |
| EndedAt: 2025-11-14 11:22:49 -0000 (Fri, 14 Nov 2025) |
| EllapsedTime: 255.3 seconds |
| RetCode: 0 |
| Status: OK |
| CheckDir: metagenomeSeq.Rcheck |
| Warnings: 0 |
##############################################################################
##############################################################################
###
### Running command:
###
### /home/biocbuild/R/R/bin/R CMD check --install=check:metagenomeSeq.install-out.txt --library=/home/biocbuild/R/R/site-library --no-vignettes --timings metagenomeSeq_1.52.0.tar.gz
###
##############################################################################
##############################################################################
* using log directory ‘/home/biocbuild/bbs-3.22-bioc/meat/metagenomeSeq.Rcheck’
* using R version 4.5.0 (2025-04-11)
* using platform: aarch64-unknown-linux-gnu
* R was compiled by
aarch64-unknown-linux-gnu-gcc (GCC) 14.2.0
GNU Fortran (GCC) 14.2.0
* running under: openEuler 24.03 (LTS)
* using session charset: UTF-8
* using option ‘--no-vignettes’
* checking for file ‘metagenomeSeq/DESCRIPTION’ ... OK
* this is package ‘metagenomeSeq’ version ‘1.52.0’
* checking package namespace information ... OK
* checking package dependencies ... OK
* checking if this is a source package ... OK
* checking if there is a namespace ... OK
* checking for hidden files and directories ... OK
* checking for portable file names ... OK
* checking for sufficient/correct file permissions ... OK
* checking whether package ‘metagenomeSeq’ can be installed ... OK
* checking installed package size ... OK
* checking package directory ... OK
* checking ‘build’ directory ... OK
* checking DESCRIPTION meta-information ... OK
* checking top-level files ... OK
* checking for left-over files ... OK
* checking index information ... OK
* checking package subdirectories ... OK
* checking code files for non-ASCII characters ... OK
* checking R files for syntax errors ... OK
* checking whether the package can be loaded ... OK
* checking whether the package can be loaded with stated dependencies ... OK
* checking whether the package can be unloaded cleanly ... OK
* checking whether the namespace can be loaded with stated dependencies ... OK
* checking whether the namespace can be unloaded cleanly ... OK
* checking loading without being on the library search path ... OK
* checking dependencies in R code ... OK
* checking S3 generic/method consistency ... OK
* checking replacement functions ... OK
* checking foreign function calls ... OK
* checking R code for possible problems ... OK
* checking Rd files ... OK
* checking Rd metadata ... OK
* checking Rd cross-references ... OK
* checking for missing documentation entries ... OK
* checking for code/documentation mismatches ... OK
* checking Rd \usage sections ... OK
* checking Rd contents ... OK
* checking for unstated dependencies in examples ... OK
* checking contents of ‘data’ directory ... OK
* checking data for non-ASCII characters ... OK
* checking data for ASCII and uncompressed saves ... OK
* checking files in ‘vignettes’ ... OK
* checking examples ... OK
Examples with CPU (user + system) or elapsed time > 5s
user system elapsed
wrenchNorm 16.425 0.187 16.660
MRfulltable 1.251 0.065 6.569
* checking for unstated dependencies in ‘tests’ ... OK
* checking tests ...
Running ‘testthat.R’
OK
* checking for unstated dependencies in vignettes ... OK
* checking package vignettes ... OK
* checking running R code from vignettes ... SKIPPED
* checking re-building of vignette outputs ... SKIPPED
* checking PDF version of manual ... OK
* DONE
Status: OK
metagenomeSeq.Rcheck/00install.out
############################################################################## ############################################################################## ### ### Running command: ### ### /home/biocbuild/R/R/bin/R CMD INSTALL metagenomeSeq ### ############################################################################## ############################################################################## * installing to library ‘/home/biocbuild/R/R-4.5.0/site-library’ * installing *source* package ‘metagenomeSeq’ ... ** this is package ‘metagenomeSeq’ version ‘1.52.0’ ** using staged installation ** R ** data ** inst ** byte-compile and prepare package for lazy loading in method for ‘MRihw’ with signature ‘"fitFeatureModelResults"’: no definition for class “fitFeatureModelResults” in method for ‘MRihw’ with signature ‘"fitZigResults"’: no definition for class “fitZigResults” ** help *** installing help indices ** building package indices ** installing vignettes ** testing if installed package can be loaded from temporary location ** testing if installed package can be loaded from final location ** testing if installed package keeps a record of temporary installation path * DONE (metagenomeSeq)
metagenomeSeq.Rcheck/tests/testthat.Rout
R version 4.5.0 (2025-04-11) -- "How About a Twenty-Six"
Copyright (C) 2025 The R Foundation for Statistical Computing
Platform: aarch64-unknown-linux-gnu
R is free software and comes with ABSOLUTELY NO WARRANTY.
You are welcome to redistribute it under certain conditions.
Type 'license()' or 'licence()' for distribution details.
R is a collaborative project with many contributors.
Type 'contributors()' for more information and
'citation()' on how to cite R or R packages in publications.
Type 'demo()' for some demos, 'help()' for on-line help, or
'help.start()' for an HTML browser interface to help.
Type 'q()' to quit R.
> library("testthat")
> packageVersion("metagenomeSeq")
[1] '1.52.0'
> # As suggested for opt-out option on testing by users,
> # recommended by CRAN: http://adv-r.had.co.nz/Testing.html
> # Previously, best practice was to put all test files in inst/tests
> # and ensure that R CMD check ran them by putting the following code in tests/test-all.R:
> # >library(testthat)
> # >library(yourpackage)
> # >test_package("yourpackage")
> # Now, recommended practice is to put your tests in tests/testthat,
> # and ensure R CMD check runs them by putting the following code in tests/test-all.R:
> # >library(testthat)
> # >test_check("yourpackage")
> # The advantage of this new structure is that the user has control over whether or not tests are installed using the –install-tests parameter to
> # R CMD install, or INSTALL_opts = c(“–install-tests”) argument to install.packages(). I’m not sure why you wouldn’t want to install the tests,
> # but now you have the flexibility as requested by CRAN maintainers.
> test_check("metagenomeSeq")
Loading required package: metagenomeSeq
Loading required package: Biobase
Loading required package: BiocGenerics
Loading required package: generics
Attaching package: 'generics'
The following objects are masked from 'package:base':
as.difftime, as.factor, as.ordered, intersect, is.element, setdiff,
setequal, union
Attaching package: 'BiocGenerics'
The following objects are masked from 'package:stats':
IQR, mad, sd, var, xtabs
The following objects are masked from 'package:base':
Filter, Find, Map, Position, Reduce, anyDuplicated, aperm, append,
as.data.frame, basename, cbind, colnames, dirname, do.call,
duplicated, eval, evalq, get, grep, grepl, is.unsorted, lapply,
mapply, match, mget, order, paste, pmax, pmax.int, pmin, pmin.int,
rank, rbind, rownames, sapply, saveRDS, table, tapply, unique,
unsplit, which.max, which.min
Welcome to Bioconductor
Vignettes contain introductory material; view with
'browseVignettes()'. To cite Bioconductor, see
'citation("Biobase")', and for packages 'citation("pkgname")'.
Loading required package: limma
Attaching package: 'limma'
The following object is masked from 'package:BiocGenerics':
plotMA
Loading required package: glmnet
Loading required package: Matrix
Loaded glmnet 4.1-10
Loading required package: RColorBrewer
[ FAIL 0 | WARN 6 | SKIP 0 | PASS 15 ]
[ FAIL 0 | WARN 6 | SKIP 0 | PASS 15 ]
>
> proc.time()
user system elapsed
107.756 1.819 109.840
metagenomeSeq.Rcheck/metagenomeSeq-Ex.timings
| name | user | system | elapsed | |
| MRcoefs | 1.339 | 0.019 | 1.362 | |
| MRcounts | 0.443 | 0.004 | 0.447 | |
| MRexperiment-class | 0 | 0 | 0 | |
| MRfulltable | 1.251 | 0.065 | 6.569 | |
| MRtable | 1.252 | 0.064 | 1.323 | |
| aggregateBySample | 0.172 | 0.052 | 0.224 | |
| aggregateByTaxonomy | 0.181 | 0.068 | 0.250 | |
| biom2MRexperiment | 0.303 | 0.008 | 0.314 | |
| calcNormFactors | 0.727 | 0.024 | 0.755 | |
| correctIndices | 0.109 | 0.004 | 0.113 | |
| correlationTest | 0.231 | 0.048 | 0.280 | |
| cumNorm | 0.575 | 0.047 | 0.625 | |
| cumNormMat | 0.577 | 0.016 | 0.594 | |
| cumNormStat | 0.792 | 0.096 | 0.890 | |
| cumNormStatFast | 0.352 | 0.000 | 0.354 | |
| expSummary | 0.092 | 0.000 | 0.092 | |
| exportMat | 0.952 | 0.431 | 1.385 | |
| exportStats | 0.452 | 0.000 | 0.452 | |
| extractMR | 0.509 | 0.228 | 0.739 | |
| filterData | 0.206 | 0.000 | 0.206 | |
| fitDO | 0.456 | 0.003 | 3.393 | |
| fitFeatureModel | 1.193 | 0.024 | 1.220 | |
| fitLogNormal | 1.920 | 0.008 | 1.932 | |
| fitMultipleTimeSeries | 2.081 | 0.003 | 2.089 | |
| fitPA | 0.432 | 0.002 | 3.259 | |
| fitSSTimeSeries | 0.450 | 0.004 | 0.456 | |
| fitTimeSeries | 0.430 | 0.000 | 0.432 | |
| fitZig | 2.109 | 0.000 | 2.115 | |
| libSize-set | 0.300 | 0.004 | 0.305 | |
| libSize | 0.284 | 0.000 | 0.284 | |
| loadBiom | 0.044 | 0.004 | 0.048 | |
| loadMeta | 0.014 | 0.008 | 0.024 | |
| loadMetaQ | 0 | 0 | 0 | |
| loadPhenoData | 0.011 | 0.000 | 0.011 | |
| makeLabels | 0 | 0 | 0 | |
| mergeMRexperiments | 1.573 | 0.036 | 1.612 | |
| newMRexperiment | 0.037 | 0.000 | 0.038 | |
| normFactors-set | 0.286 | 0.004 | 0.291 | |
| normFactors | 0.265 | 0.000 | 0.267 | |
| plotBubble | 0.288 | 0.006 | 3.227 | |
| plotClassTimeSeries | 1.082 | 0.000 | 1.086 | |
| plotCorr | 0.728 | 0.012 | 0.741 | |
| plotFeature | 0.155 | 0.004 | 0.159 | |
| plotGenus | 0.137 | 0.004 | 0.140 | |
| plotMRheatmap | 2.597 | 0.016 | 2.621 | |
| plotOTU | 0.140 | 0.000 | 0.142 | |
| plotOrd | 0.232 | 0.004 | 0.238 | |
| plotRare | 0.140 | 0.004 | 0.145 | |
| plotTimeSeries | 1.060 | 0.004 | 1.067 | |
| posteriorProbs | 2.033 | 0.008 | 2.048 | |
| returnAppropriateObj | 0.289 | 0.004 | 0.294 | |
| ssFit | 0 | 0 | 0 | |
| ssIntervalCandidate | 0 | 0 | 0 | |
| ssPerm | 0.000 | 0.000 | 0.001 | |
| ssPermAnalysis | 0 | 0 | 0 | |
| trapz | 0.001 | 0.000 | 0.000 | |
| ts2MRexperiment | 1.843 | 0.000 | 1.847 | |
| uniqueFeatures | 0.104 | 0.003 | 0.107 | |
| wrenchNorm | 16.425 | 0.187 | 16.660 | |
| zigControl | 0 | 0 | 0 | |