Back to Multiple platform build/check report for BioC 3.20: simplified long |
|
This page was generated on 2025-02-03 12:10 -0500 (Mon, 03 Feb 2025).
Hostname | OS | Arch (*) | R version | Installed pkgs |
---|---|---|---|---|
nebbiolo2 | Linux (Ubuntu 24.04.1 LTS) | x86_64 | 4.4.2 (2024-10-31) -- "Pile of Leaves" | 4746 |
palomino8 | Windows Server 2022 Datacenter | x64 | 4.4.2 (2024-10-31 ucrt) -- "Pile of Leaves" | 4494 |
merida1 | macOS 12.7.5 Monterey | x86_64 | 4.4.2 (2024-10-31) -- "Pile of Leaves" | 4517 |
kjohnson1 | macOS 13.6.6 Ventura | arm64 | 4.4.2 (2024-10-31) -- "Pile of Leaves" | 4469 |
taishan | Linux (openEuler 24.03 LTS) | aarch64 | 4.4.2 (2024-10-31) -- "Pile of Leaves" | 4400 |
Click on any hostname to see more info about the system (e.g. compilers) (*) as reported by 'uname -p', except on Windows and Mac OS X |
Package 1207/2289 | Hostname | OS / Arch | INSTALL | BUILD | CHECK | BUILD BIN | ||||||||
metagenomeSeq 1.48.1 (landing page) Joseph N. Paulson
| nebbiolo2 | Linux (Ubuntu 24.04.1 LTS) / x86_64 | OK | OK | OK | |||||||||
palomino8 | Windows Server 2022 Datacenter / x64 | OK | OK | OK | OK | |||||||||
merida1 | macOS 12.7.5 Monterey / x86_64 | OK | OK | OK | OK | |||||||||
kjohnson1 | macOS 13.6.6 Ventura / arm64 | OK | OK | OK | OK | |||||||||
taishan | Linux (openEuler 24.03 LTS) / aarch64 | OK | OK | OK | ||||||||||
To the developers/maintainers of the metagenomeSeq package: - Allow up to 24 hours (and sometimes 48 hours) for your latest push to git@git.bioconductor.org:packages/metagenomeSeq.git to reflect on this report. See Troubleshooting Build Report for more information. - Use the following Renviron settings to reproduce errors and warnings. - If 'R CMD check' started to fail recently on the Linux builder(s) over a missing dependency, add the missing dependency to 'Suggests:' in your DESCRIPTION file. See Renviron.bioc for more information. |
Package: metagenomeSeq |
Version: 1.48.1 |
Command: /Library/Frameworks/R.framework/Resources/bin/R CMD check --install=check:metagenomeSeq.install-out.txt --library=/Library/Frameworks/R.framework/Resources/library --no-vignettes --timings metagenomeSeq_1.48.1.tar.gz |
StartedAt: 2025-02-01 00:25:56 -0500 (Sat, 01 Feb 2025) |
EndedAt: 2025-02-01 00:29:57 -0500 (Sat, 01 Feb 2025) |
EllapsedTime: 240.9 seconds |
RetCode: 0 |
Status: OK |
CheckDir: metagenomeSeq.Rcheck |
Warnings: 0 |
############################################################################## ############################################################################## ### ### Running command: ### ### /Library/Frameworks/R.framework/Resources/bin/R CMD check --install=check:metagenomeSeq.install-out.txt --library=/Library/Frameworks/R.framework/Resources/library --no-vignettes --timings metagenomeSeq_1.48.1.tar.gz ### ############################################################################## ############################################################################## * using log directory ‘/Users/biocbuild/bbs-3.20-bioc/meat/metagenomeSeq.Rcheck’ * using R version 4.4.2 (2024-10-31) * using platform: aarch64-apple-darwin20 * R was compiled by Apple clang version 14.0.0 (clang-1400.0.29.202) GNU Fortran (GCC) 12.2.0 * running under: macOS Ventura 13.7.1 * using session charset: UTF-8 * using option ‘--no-vignettes’ * checking for file ‘metagenomeSeq/DESCRIPTION’ ... OK * this is package ‘metagenomeSeq’ version ‘1.48.1’ * checking package namespace information ... OK * checking package dependencies ... OK * checking if this is a source package ... OK * checking if there is a namespace ... OK * checking for hidden files and directories ... OK * checking for portable file names ... OK * checking for sufficient/correct file permissions ... OK * checking whether package ‘metagenomeSeq’ can be installed ... OK * checking installed package size ... OK * checking package directory ... OK * checking ‘build’ directory ... OK * checking DESCRIPTION meta-information ... OK * checking top-level files ... OK * checking for left-over files ... OK * checking index information ... OK * checking package subdirectories ... OK * checking code files for non-ASCII characters ... OK * checking R files for syntax errors ... OK * checking whether the package can be loaded ... OK * checking whether the package can be loaded with stated dependencies ... OK * checking whether the package can be unloaded cleanly ... OK * checking whether the namespace can be loaded with stated dependencies ... OK * checking whether the namespace can be unloaded cleanly ... OK * checking dependencies in R code ... OK * checking S3 generic/method consistency ... OK * checking replacement functions ... OK * checking foreign function calls ... OK * checking R code for possible problems ... OK * checking Rd files ... OK * checking Rd metadata ... OK * checking Rd cross-references ... OK * checking for missing documentation entries ... OK * checking for code/documentation mismatches ... OK * checking Rd \usage sections ... OK * checking Rd contents ... OK * checking for unstated dependencies in examples ... OK * checking contents of ‘data’ directory ... OK * checking data for non-ASCII characters ... OK * checking data for ASCII and uncompressed saves ... OK * checking sizes of PDF files under ‘inst/doc’ ... OK * checking files in ‘vignettes’ ... OK * checking examples ... OK Examples with CPU (user + system) or elapsed time > 5s user system elapsed wrenchNorm 13.204 1.139 14.360 MRfulltable 1.023 0.039 5.784 * checking for unstated dependencies in ‘tests’ ... OK * checking tests ... Running ‘testthat.R’ OK * checking for unstated dependencies in vignettes ... OK * checking package vignettes ... OK * checking running R code from vignettes ... SKIPPED * checking re-building of vignette outputs ... SKIPPED * checking PDF version of manual ... OK * DONE Status: OK
metagenomeSeq.Rcheck/00install.out
############################################################################## ############################################################################## ### ### Running command: ### ### /Library/Frameworks/R.framework/Resources/bin/R CMD INSTALL metagenomeSeq ### ############################################################################## ############################################################################## * installing to library ‘/Library/Frameworks/R.framework/Versions/4.4-arm64/Resources/library’ * installing *source* package ‘metagenomeSeq’ ... ** using staged installation ** R ** data ** inst ** byte-compile and prepare package for lazy loading in method for ‘MRihw’ with signature ‘"fitFeatureModelResults"’: no definition for class “fitFeatureModelResults” in method for ‘MRihw’ with signature ‘"fitZigResults"’: no definition for class “fitZigResults” ** help *** installing help indices ** building package indices ** installing vignettes ** testing if installed package can be loaded from temporary location ** testing if installed package can be loaded from final location ** testing if installed package keeps a record of temporary installation path * DONE (metagenomeSeq)
metagenomeSeq.Rcheck/tests/testthat.Rout
R version 4.4.2 (2024-10-31) -- "Pile of Leaves" Copyright (C) 2024 The R Foundation for Statistical Computing Platform: aarch64-apple-darwin20 R is free software and comes with ABSOLUTELY NO WARRANTY. You are welcome to redistribute it under certain conditions. Type 'license()' or 'licence()' for distribution details. R is a collaborative project with many contributors. Type 'contributors()' for more information and 'citation()' on how to cite R or R packages in publications. Type 'demo()' for some demos, 'help()' for on-line help, or 'help.start()' for an HTML browser interface to help. Type 'q()' to quit R. > library("testthat") > packageVersion("metagenomeSeq") [1] '1.48.1' > # As suggested for opt-out option on testing by users, > # recommended by CRAN: http://adv-r.had.co.nz/Testing.html > # Previously, best practice was to put all test files in inst/tests > # and ensure that R CMD check ran them by putting the following code in tests/test-all.R: > # >library(testthat) > # >library(yourpackage) > # >test_package("yourpackage") > # Now, recommended practice is to put your tests in tests/testthat, > # and ensure R CMD check runs them by putting the following code in tests/test-all.R: > # >library(testthat) > # >test_check("yourpackage") > # The advantage of this new structure is that the user has control over whether or not tests are installed using the –install-tests parameter to > # R CMD install, or INSTALL_opts = c(“–install-tests”) argument to install.packages(). I’m not sure why you wouldn’t want to install the tests, > # but now you have the flexibility as requested by CRAN maintainers. > test_check("metagenomeSeq") Loading required package: metagenomeSeq Loading required package: Biobase Loading required package: BiocGenerics Attaching package: 'BiocGenerics' The following objects are masked from 'package:stats': IQR, mad, sd, var, xtabs The following objects are masked from 'package:base': Filter, Find, Map, Position, Reduce, anyDuplicated, aperm, append, as.data.frame, basename, cbind, colnames, dirname, do.call, duplicated, eval, evalq, get, grep, grepl, intersect, is.unsorted, lapply, mapply, match, mget, order, paste, pmax, pmax.int, pmin, pmin.int, rank, rbind, rownames, sapply, saveRDS, setdiff, table, tapply, union, unique, unsplit, which.max, which.min Welcome to Bioconductor Vignettes contain introductory material; view with 'browseVignettes()'. To cite Bioconductor, see 'citation("Biobase")', and for packages 'citation("pkgname")'. Loading required package: limma Attaching package: 'limma' The following object is masked from 'package:BiocGenerics': plotMA Loading required package: glmnet Loading required package: Matrix Loaded glmnet 4.1-8 Loading required package: RColorBrewer [ FAIL 0 | WARN 6 | SKIP 0 | PASS 15 ] [ FAIL 0 | WARN 6 | SKIP 0 | PASS 15 ] > > proc.time() user system elapsed 90.239 5.409 95.759
metagenomeSeq.Rcheck/metagenomeSeq-Ex.timings
name | user | system | elapsed | |
MRcoefs | 1.204 | 0.053 | 1.258 | |
MRcounts | 0.559 | 0.023 | 0.583 | |
MRexperiment-class | 0.001 | 0.000 | 0.001 | |
MRfulltable | 1.023 | 0.039 | 5.784 | |
MRtable | 0.999 | 0.031 | 1.035 | |
aggregateBySample | 0.180 | 0.007 | 0.188 | |
aggregateByTaxonomy | 0.194 | 0.013 | 0.207 | |
biom2MRexperiment | 0.243 | 0.015 | 0.260 | |
calcNormFactors | 0.711 | 0.094 | 0.805 | |
correctIndices | 0.142 | 0.011 | 0.152 | |
correlationTest | 0.288 | 0.020 | 0.308 | |
cumNorm | 0.460 | 0.067 | 0.527 | |
cumNormMat | 0.518 | 0.086 | 0.603 | |
cumNormStat | 0.745 | 0.047 | 0.793 | |
cumNormStatFast | 0.317 | 0.023 | 0.341 | |
expSummary | 0.136 | 0.013 | 0.149 | |
exportMat | 1.289 | 2.428 | 3.728 | |
exportStats | 0.433 | 0.031 | 0.464 | |
extractMR | 1.206 | 1.016 | 2.226 | |
filterData | 0.20 | 0.02 | 0.22 | |
fitDO | 0.391 | 0.021 | 2.982 | |
fitFeatureModel | 1.104 | 0.068 | 1.173 | |
fitLogNormal | 1.908 | 0.202 | 2.111 | |
fitMultipleTimeSeries | 2.184 | 0.222 | 2.408 | |
fitPA | 0.414 | 0.024 | 2.936 | |
fitSSTimeSeries | 0.512 | 0.040 | 0.555 | |
fitTimeSeries | 0.534 | 0.046 | 0.580 | |
fitZig | 1.640 | 0.186 | 1.858 | |
libSize-set | 0.379 | 0.017 | 0.396 | |
libSize | 0.349 | 0.028 | 0.377 | |
loadBiom | 0.036 | 0.001 | 0.037 | |
loadMeta | 0.019 | 0.002 | 0.022 | |
loadMetaQ | 0.000 | 0.001 | 0.000 | |
loadPhenoData | 0.008 | 0.001 | 0.009 | |
makeLabels | 0 | 0 | 0 | |
mergeMRexperiments | 1.758 | 0.171 | 1.929 | |
newMRexperiment | 0.026 | 0.000 | 0.027 | |
normFactors-set | 0.321 | 0.026 | 0.348 | |
normFactors | 0.294 | 0.012 | 0.307 | |
plotBubble | 0.336 | 0.027 | 2.871 | |
plotClassTimeSeries | 1.369 | 0.185 | 1.556 | |
plotCorr | 0.504 | 0.056 | 0.562 | |
plotFeature | 0.224 | 0.018 | 0.243 | |
plotGenus | 0.167 | 0.015 | 0.182 | |
plotMRheatmap | 1.800 | 0.137 | 1.985 | |
plotOTU | 0.071 | 0.018 | 0.090 | |
plotOrd | 0.228 | 0.019 | 0.262 | |
plotRare | 0.098 | 0.018 | 0.117 | |
plotTimeSeries | 0.947 | 0.160 | 1.112 | |
posteriorProbs | 1.859 | 0.222 | 2.081 | |
returnAppropriateObj | 0.334 | 0.022 | 0.356 | |
ssFit | 0.000 | 0.001 | 0.001 | |
ssIntervalCandidate | 0 | 0 | 0 | |
ssPerm | 0.000 | 0.001 | 0.000 | |
ssPermAnalysis | 0 | 0 | 0 | |
trapz | 0.000 | 0.001 | 0.001 | |
ts2MRexperiment | 1.844 | 0.258 | 2.108 | |
uniqueFeatures | 0.057 | 0.013 | 0.071 | |
wrenchNorm | 13.204 | 1.139 | 14.360 | |
zigControl | 0.000 | 0.000 | 0.001 | |