Back to Multiple platform build/check report for BioC 3.20:   simplified   long
ABCDEFGHIJKL[M]NOPQRSTUVWXYZ

This page was generated on 2025-04-02 19:32 -0400 (Wed, 02 Apr 2025).

HostnameOSArch (*)R versionInstalled pkgs
nebbiolo2Linux (Ubuntu 24.04.1 LTS)x86_644.4.3 (2025-02-28) -- "Trophy Case" 4764
palomino8Windows Server 2022 Datacenterx644.4.3 (2025-02-28 ucrt) -- "Trophy Case" 4495
merida1macOS 12.7.5 Montereyx86_644.4.3 (2025-02-28) -- "Trophy Case" 4522
kjohnson1macOS 13.6.6 Venturaarm644.4.3 (2025-02-28) -- "Trophy Case" 4449
taishanLinux (openEuler 24.03 LTS)aarch644.4.3 (2025-02-28) -- "Trophy Case" 4426
Click on any hostname to see more info about the system (e.g. compilers)      (*) as reported by 'uname -p', except on Windows and Mac OS X

Package 1207/2289HostnameOS / ArchINSTALLBUILDCHECKBUILD BIN
metagenomeSeq 1.48.1  (landing page)
Joseph N. Paulson
Snapshot Date: 2025-03-31 13:00 -0400 (Mon, 31 Mar 2025)
git_url: https://git.bioconductor.org/packages/metagenomeSeq
git_branch: RELEASE_3_20
git_last_commit: cb424ed
git_last_commit_date: 2025-01-02 09:49:29 -0400 (Thu, 02 Jan 2025)
nebbiolo2Linux (Ubuntu 24.04.1 LTS) / x86_64  OK    OK    OK  UNNEEDED, same version is already published
palomino8Windows Server 2022 Datacenter / x64  OK    OK    OK    OK  UNNEEDED, same version is already published
merida1macOS 12.7.5 Monterey / x86_64  OK    OK    OK    OK  UNNEEDED, same version is already published
kjohnson1macOS 13.6.6 Ventura / arm64  OK    OK    OK    OK  UNNEEDED, same version is already published
taishanLinux (openEuler 24.03 LTS) / aarch64  OK    OK    OK  


CHECK results for metagenomeSeq on merida1

To the developers/maintainers of the metagenomeSeq package:
- Allow up to 24 hours (and sometimes 48 hours) for your latest push to git@git.bioconductor.org:packages/metagenomeSeq.git to reflect on this report. See Troubleshooting Build Report for more information.
- Use the following Renviron settings to reproduce errors and warnings.
- If 'R CMD check' started to fail recently on the Linux builder(s) over a missing dependency, add the missing dependency to 'Suggests:' in your DESCRIPTION file. See Renviron.bioc for more information.

raw results


Summary

Package: metagenomeSeq
Version: 1.48.1
Command: /Library/Frameworks/R.framework/Resources/bin/R CMD check --install=check:metagenomeSeq.install-out.txt --library=/Library/Frameworks/R.framework/Resources/library --no-vignettes --timings metagenomeSeq_1.48.1.tar.gz
StartedAt: 2025-04-01 05:21:14 -0400 (Tue, 01 Apr 2025)
EndedAt: 2025-04-01 05:29:07 -0400 (Tue, 01 Apr 2025)
EllapsedTime: 473.3 seconds
RetCode: 0
Status:   OK  
CheckDir: metagenomeSeq.Rcheck
Warnings: 0

Command output

##############################################################################
##############################################################################
###
### Running command:
###
###   /Library/Frameworks/R.framework/Resources/bin/R CMD check --install=check:metagenomeSeq.install-out.txt --library=/Library/Frameworks/R.framework/Resources/library --no-vignettes --timings metagenomeSeq_1.48.1.tar.gz
###
##############################################################################
##############################################################################


* using log directory ‘/Users/biocbuild/bbs-3.20-bioc/meat/metagenomeSeq.Rcheck’
* using R version 4.4.3 (2025-02-28)
* using platform: x86_64-apple-darwin20
* R was compiled by
    Apple clang version 14.0.0 (clang-1400.0.29.202)
    GNU Fortran (GCC) 12.2.0
* running under: macOS Monterey 12.7.6
* using session charset: UTF-8
* using option ‘--no-vignettes’
* checking for file ‘metagenomeSeq/DESCRIPTION’ ... OK
* this is package ‘metagenomeSeq’ version ‘1.48.1’
* checking package namespace information ... OK
* checking package dependencies ... OK
* checking if this is a source package ... OK
* checking if there is a namespace ... OK
* checking for hidden files and directories ... OK
* checking for portable file names ... OK
* checking for sufficient/correct file permissions ... OK
* checking whether package ‘metagenomeSeq’ can be installed ... OK
* checking installed package size ... OK
* checking package directory ... OK
* checking ‘build’ directory ... OK
* checking DESCRIPTION meta-information ... OK
* checking top-level files ... OK
* checking for left-over files ... OK
* checking index information ... OK
* checking package subdirectories ... OK
* checking code files for non-ASCII characters ... OK
* checking R files for syntax errors ... OK
* checking whether the package can be loaded ... OK
* checking whether the package can be loaded with stated dependencies ... OK
* checking whether the package can be unloaded cleanly ... OK
* checking whether the namespace can be loaded with stated dependencies ... OK
* checking whether the namespace can be unloaded cleanly ... OK
* checking dependencies in R code ... OK
* checking S3 generic/method consistency ... OK
* checking replacement functions ... OK
* checking foreign function calls ... OK
* checking R code for possible problems ... OK
* checking Rd files ... OK
* checking Rd metadata ... OK
* checking Rd cross-references ... OK
* checking for missing documentation entries ... OK
* checking for code/documentation mismatches ... OK
* checking Rd \usage sections ... OK
* checking Rd contents ... OK
* checking for unstated dependencies in examples ... OK
* checking contents of ‘data’ directory ... OK
* checking data for non-ASCII characters ... OK
* checking data for ASCII and uncompressed saves ... OK
* checking sizes of PDF files under ‘inst/doc’ ... OK
* checking files in ‘vignettes’ ... OK
* checking examples ... OK
Examples with CPU (user + system) or elapsed time > 5s
                user system elapsed
wrenchNorm    29.942  1.897  32.215
exportMat      2.939  7.692  10.936
extractMR      2.126  3.283   5.457
plotMRheatmap  4.857  0.150   5.047
MRfulltable    1.806  0.055  10.504
fitPA          0.629  0.044   5.731
fitDO          0.594  0.020   5.701
plotBubble     0.467  0.029   5.424
* checking for unstated dependencies in ‘tests’ ... OK
* checking tests ...
  Running ‘testthat.R’
 OK
* checking for unstated dependencies in vignettes ... OK
* checking package vignettes ... OK
* checking running R code from vignettes ... SKIPPED
* checking re-building of vignette outputs ... SKIPPED
* checking PDF version of manual ... OK
* DONE

Status: OK


Installation output

metagenomeSeq.Rcheck/00install.out

##############################################################################
##############################################################################
###
### Running command:
###
###   /Library/Frameworks/R.framework/Resources/bin/R CMD INSTALL metagenomeSeq
###
##############################################################################
##############################################################################


* installing to library ‘/Library/Frameworks/R.framework/Versions/4.4-x86_64/Resources/library’
* installing *source* package ‘metagenomeSeq’ ...
** using staged installation
** R
** data
** inst
** byte-compile and prepare package for lazy loading
in method for ‘MRihw’ with signature ‘"fitFeatureModelResults"’: no definition for class “fitFeatureModelResults”
in method for ‘MRihw’ with signature ‘"fitZigResults"’: no definition for class “fitZigResults”
** help
*** installing help indices
** building package indices
** installing vignettes
** testing if installed package can be loaded from temporary location
** testing if installed package can be loaded from final location
** testing if installed package keeps a record of temporary installation path
* DONE (metagenomeSeq)

Tests output

metagenomeSeq.Rcheck/tests/testthat.Rout


R version 4.4.3 (2025-02-28) -- "Trophy Case"
Copyright (C) 2025 The R Foundation for Statistical Computing
Platform: x86_64-apple-darwin20

R is free software and comes with ABSOLUTELY NO WARRANTY.
You are welcome to redistribute it under certain conditions.
Type 'license()' or 'licence()' for distribution details.

R is a collaborative project with many contributors.
Type 'contributors()' for more information and
'citation()' on how to cite R or R packages in publications.

Type 'demo()' for some demos, 'help()' for on-line help, or
'help.start()' for an HTML browser interface to help.
Type 'q()' to quit R.

> library("testthat")
> packageVersion("metagenomeSeq")
[1] '1.48.1'
> # As suggested for opt-out option on testing by users, 
> # recommended by CRAN: http://adv-r.had.co.nz/Testing.html
> # Previously, best practice was to put all test files in inst/tests 
> # and ensure that R CMD check ran them by putting the following code in tests/test-all.R:  
> # >library(testthat)
> # >library(yourpackage)
> # >test_package("yourpackage")
> # Now, recommended practice is to put your tests in tests/testthat, 
> # and ensure R CMD check runs them by putting the following code in tests/test-all.R:
> # >library(testthat)
> # >test_check("yourpackage")
> # The advantage of this new structure is that the user has control over whether or not tests are installed using the –install-tests parameter to 
> # R CMD install, or INSTALL_opts = c(“–install-tests”) argument to install.packages(). I’m not sure why you wouldn’t want to install the tests, 
> # but now you have the flexibility as requested by CRAN maintainers.
> test_check("metagenomeSeq")
Loading required package: metagenomeSeq
Loading required package: Biobase
Loading required package: BiocGenerics

Attaching package: 'BiocGenerics'

The following objects are masked from 'package:stats':

    IQR, mad, sd, var, xtabs

The following objects are masked from 'package:base':

    Filter, Find, Map, Position, Reduce, anyDuplicated, aperm, append,
    as.data.frame, basename, cbind, colnames, dirname, do.call,
    duplicated, eval, evalq, get, grep, grepl, intersect, is.unsorted,
    lapply, mapply, match, mget, order, paste, pmax, pmax.int, pmin,
    pmin.int, rank, rbind, rownames, sapply, saveRDS, setdiff, table,
    tapply, union, unique, unsplit, which.max, which.min

Welcome to Bioconductor

    Vignettes contain introductory material; view with
    'browseVignettes()'. To cite Bioconductor, see
    'citation("Biobase")', and for packages 'citation("pkgname")'.

Loading required package: limma

Attaching package: 'limma'

The following object is masked from 'package:BiocGenerics':

    plotMA

Loading required package: glmnet
Loading required package: Matrix
Loaded glmnet 4.1-8
Loading required package: RColorBrewer
[ FAIL 0 | WARN 6 | SKIP 0 | PASS 15 ]

[ FAIL 0 | WARN 6 | SKIP 0 | PASS 15 ]
> 
> proc.time()
   user  system elapsed 
185.907  10.890 208.880 

Example timings

metagenomeSeq.Rcheck/metagenomeSeq-Ex.timings

nameusersystemelapsed
MRcoefs2.0460.1102.160
MRcounts0.6880.0460.738
MRexperiment-class0.0000.0000.001
MRfulltable 1.806 0.05510.504
MRtable1.7640.0331.803
aggregateBySample0.2820.0200.301
aggregateByTaxonomy0.3200.0190.343
biom2MRexperiment0.4430.0230.467
calcNormFactors0.9540.1351.095
correctIndices0.1850.0170.203
correlationTest0.3930.0350.429
cumNorm0.7590.0990.875
cumNormMat0.7580.1350.897
cumNormStat1.0180.0801.099
cumNormStatFast0.4990.0350.536
expSummary0.1660.0150.182
exportMat 2.939 7.69210.936
exportStats0.6520.0340.693
extractMR2.1263.2835.457
filterData0.2830.0220.304
fitDO0.5940.0205.701
fitFeatureModel1.9120.0842.006
fitLogNormal2.5860.2072.819
fitMultipleTimeSeries2.7990.2513.070
fitPA0.6290.0445.731
fitSSTimeSeries0.6890.0550.750
fitTimeSeries0.7090.0420.757
fitZig2.6130.1492.815
libSize-set0.5240.0260.559
libSize0.4790.0210.501
loadBiom0.0810.0020.083
loadMeta0.0390.0030.042
loadMetaQ0.0000.0000.001
loadPhenoData0.0230.0020.025
makeLabels0.0000.0010.001
mergeMRexperiments2.1240.2422.376
newMRexperiment0.0690.0010.072
normFactors-set0.5100.0290.542
normFactors0.4620.0070.471
plotBubble0.4670.0295.424
plotClassTimeSeries1.6770.1481.843
plotCorr0.8800.0580.961
plotFeature0.2590.0180.280
plotGenus0.2420.0130.257
plotMRheatmap4.8570.1505.047
plotOTU0.2520.0150.272
plotOrd0.3800.0210.403
plotRare0.2250.0210.247
plotTimeSeries1.6110.1541.776
posteriorProbs2.5650.2312.870
returnAppropriateObj0.4810.1170.600
ssFit0.0000.0010.001
ssIntervalCandidate0.0000.0010.001
ssPerm000
ssPermAnalysis0.0000.0000.001
trapz0.0010.0010.002
ts2MRexperiment2.6710.2122.911
uniqueFeatures0.2040.0120.217
wrenchNorm29.942 1.89732.215
zigControl0.0000.0010.001