| Back to Multiple platform build/check report for BioC 3.21: simplified long |
|
This page was generated on 2025-10-16 11:38 -0400 (Thu, 16 Oct 2025).
| Hostname | OS | Arch (*) | R version | Installed pkgs |
|---|---|---|---|---|
| nebbiolo1 | Linux (Ubuntu 24.04.3 LTS) | x86_64 | 4.5.1 (2025-06-13) -- "Great Square Root" | 4833 |
| merida1 | macOS 12.7.6 Monterey | x86_64 | 4.5.1 RC (2025-06-05 r88288) -- "Great Square Root" | 4614 |
| kjohnson1 | macOS 13.7.5 Ventura | arm64 | 4.5.1 Patched (2025-06-14 r88325) -- "Great Square Root" | 4555 |
| kunpeng2 | Linux (openEuler 24.03 LTS) | aarch64 | R Under development (unstable) (2025-02-19 r87757) -- "Unsuffered Consequences" | 4586 |
| Click on any hostname to see more info about the system (e.g. compilers) (*) as reported by 'uname -p', except on Windows and Mac OS X | ||||
| Package 1233/2341 | Hostname | OS / Arch | INSTALL | BUILD | CHECK | BUILD BIN | ||||||||
| metagenomeSeq 1.50.0 (landing page) Joseph N. Paulson
| nebbiolo1 | Linux (Ubuntu 24.04.3 LTS) / x86_64 | OK | OK | OK | |||||||||
| merida1 | macOS 12.7.6 Monterey / x86_64 | OK | OK | OK | OK | |||||||||
| kjohnson1 | macOS 13.7.5 Ventura / arm64 | OK | OK | OK | OK | |||||||||
| kunpeng2 | Linux (openEuler 24.03 LTS) / aarch64 | OK | OK | OK | ||||||||||
|
To the developers/maintainers of the metagenomeSeq package: - Allow up to 24 hours (and sometimes 48 hours) for your latest push to git@git.bioconductor.org:packages/metagenomeSeq.git to reflect on this report. See Troubleshooting Build Report for more information. - Use the following Renviron settings to reproduce errors and warnings. - If 'R CMD check' started to fail recently on the Linux builder(s) over a missing dependency, add the missing dependency to 'Suggests:' in your DESCRIPTION file. See Renviron.bioc for more information. |
| Package: metagenomeSeq |
| Version: 1.50.0 |
| Command: /home/biocbuild/bbs-3.21-bioc/R/bin/R CMD check --install=check:metagenomeSeq.install-out.txt --library=/home/biocbuild/bbs-3.21-bioc/R/site-library --timings metagenomeSeq_1.50.0.tar.gz |
| StartedAt: 2025-10-16 00:50:05 -0400 (Thu, 16 Oct 2025) |
| EndedAt: 2025-10-16 00:54:19 -0400 (Thu, 16 Oct 2025) |
| EllapsedTime: 254.3 seconds |
| RetCode: 0 |
| Status: OK |
| CheckDir: metagenomeSeq.Rcheck |
| Warnings: 0 |
##############################################################################
##############################################################################
###
### Running command:
###
### /home/biocbuild/bbs-3.21-bioc/R/bin/R CMD check --install=check:metagenomeSeq.install-out.txt --library=/home/biocbuild/bbs-3.21-bioc/R/site-library --timings metagenomeSeq_1.50.0.tar.gz
###
##############################################################################
##############################################################################
* using log directory ‘/home/biocbuild/bbs-3.21-bioc/meat/metagenomeSeq.Rcheck’
* using R version 4.5.1 (2025-06-13)
* using platform: x86_64-pc-linux-gnu
* R was compiled by
gcc (Ubuntu 13.3.0-6ubuntu2~24.04) 13.3.0
GNU Fortran (Ubuntu 13.3.0-6ubuntu2~24.04) 13.3.0
* running under: Ubuntu 24.04.3 LTS
* using session charset: UTF-8
* checking for file ‘metagenomeSeq/DESCRIPTION’ ... OK
* this is package ‘metagenomeSeq’ version ‘1.50.0’
* checking package namespace information ... OK
* checking package dependencies ... OK
* checking if this is a source package ... OK
* checking if there is a namespace ... OK
* checking for hidden files and directories ... OK
* checking for portable file names ... OK
* checking for sufficient/correct file permissions ... OK
* checking whether package ‘metagenomeSeq’ can be installed ... OK
* checking installed package size ... OK
* checking package directory ... OK
* checking ‘build’ directory ... OK
* checking DESCRIPTION meta-information ... OK
* checking top-level files ... OK
* checking for left-over files ... OK
* checking index information ... OK
* checking package subdirectories ... OK
* checking code files for non-ASCII characters ... OK
* checking R files for syntax errors ... OK
* checking whether the package can be loaded ... OK
* checking whether the package can be loaded with stated dependencies ... OK
* checking whether the package can be unloaded cleanly ... OK
* checking whether the namespace can be loaded with stated dependencies ... OK
* checking whether the namespace can be unloaded cleanly ... OK
* checking loading without being on the library search path ... OK
* checking dependencies in R code ... OK
* checking S3 generic/method consistency ... OK
* checking replacement functions ... OK
* checking foreign function calls ... OK
* checking R code for possible problems ... OK
* checking Rd files ... OK
* checking Rd metadata ... OK
* checking Rd cross-references ... OK
* checking for missing documentation entries ... OK
* checking for code/documentation mismatches ... OK
* checking Rd \usage sections ... OK
* checking Rd contents ... OK
* checking for unstated dependencies in examples ... OK
* checking contents of ‘data’ directory ... OK
* checking data for non-ASCII characters ... OK
* checking data for ASCII and uncompressed saves ... OK
* checking files in ‘vignettes’ ... OK
* checking examples ... OK
Examples with CPU (user + system) or elapsed time > 5s
user system elapsed
wrenchNorm 12.486 0.295 12.783
* checking for unstated dependencies in ‘tests’ ... OK
* checking tests ...
Running ‘testthat.R’
OK
* checking for unstated dependencies in vignettes ... OK
* checking package vignettes ... OK
* checking re-building of vignette outputs ... OK
* checking PDF version of manual ... OK
* DONE
Status: OK
metagenomeSeq.Rcheck/00install.out
############################################################################## ############################################################################## ### ### Running command: ### ### /home/biocbuild/bbs-3.21-bioc/R/bin/R CMD INSTALL metagenomeSeq ### ############################################################################## ############################################################################## * installing to library ‘/home/biocbuild/bbs-3.21-bioc/R/site-library’ * installing *source* package ‘metagenomeSeq’ ... ** this is package ‘metagenomeSeq’ version ‘1.50.0’ ** using staged installation ** R ** data ** inst ** byte-compile and prepare package for lazy loading in method for ‘MRihw’ with signature ‘"fitFeatureModelResults"’: no definition for class “fitFeatureModelResults” in method for ‘MRihw’ with signature ‘"fitZigResults"’: no definition for class “fitZigResults” ** help *** installing help indices ** building package indices ** installing vignettes ** testing if installed package can be loaded from temporary location ** testing if installed package can be loaded from final location ** testing if installed package keeps a record of temporary installation path * DONE (metagenomeSeq)
metagenomeSeq.Rcheck/tests/testthat.Rout
R version 4.5.1 (2025-06-13) -- "Great Square Root"
Copyright (C) 2025 The R Foundation for Statistical Computing
Platform: x86_64-pc-linux-gnu
R is free software and comes with ABSOLUTELY NO WARRANTY.
You are welcome to redistribute it under certain conditions.
Type 'license()' or 'licence()' for distribution details.
R is a collaborative project with many contributors.
Type 'contributors()' for more information and
'citation()' on how to cite R or R packages in publications.
Type 'demo()' for some demos, 'help()' for on-line help, or
'help.start()' for an HTML browser interface to help.
Type 'q()' to quit R.
> library("testthat")
> packageVersion("metagenomeSeq")
[1] '1.50.0'
> # As suggested for opt-out option on testing by users,
> # recommended by CRAN: http://adv-r.had.co.nz/Testing.html
> # Previously, best practice was to put all test files in inst/tests
> # and ensure that R CMD check ran them by putting the following code in tests/test-all.R:
> # >library(testthat)
> # >library(yourpackage)
> # >test_package("yourpackage")
> # Now, recommended practice is to put your tests in tests/testthat,
> # and ensure R CMD check runs them by putting the following code in tests/test-all.R:
> # >library(testthat)
> # >test_check("yourpackage")
> # The advantage of this new structure is that the user has control over whether or not tests are installed using the –install-tests parameter to
> # R CMD install, or INSTALL_opts = c(“–install-tests”) argument to install.packages(). I’m not sure why you wouldn’t want to install the tests,
> # but now you have the flexibility as requested by CRAN maintainers.
> test_check("metagenomeSeq")
Loading required package: metagenomeSeq
Loading required package: Biobase
Loading required package: BiocGenerics
Loading required package: generics
Attaching package: 'generics'
The following objects are masked from 'package:base':
as.difftime, as.factor, as.ordered, intersect, is.element, setdiff,
setequal, union
Attaching package: 'BiocGenerics'
The following objects are masked from 'package:stats':
IQR, mad, sd, var, xtabs
The following objects are masked from 'package:base':
Filter, Find, Map, Position, Reduce, anyDuplicated, aperm, append,
as.data.frame, basename, cbind, colnames, dirname, do.call,
duplicated, eval, evalq, get, grep, grepl, is.unsorted, lapply,
mapply, match, mget, order, paste, pmax, pmax.int, pmin, pmin.int,
rank, rbind, rownames, sapply, saveRDS, table, tapply, unique,
unsplit, which.max, which.min
Welcome to Bioconductor
Vignettes contain introductory material; view with
'browseVignettes()'. To cite Bioconductor, see
'citation("Biobase")', and for packages 'citation("pkgname")'.
Loading required package: limma
Attaching package: 'limma'
The following object is masked from 'package:BiocGenerics':
plotMA
Loading required package: glmnet
Loading required package: Matrix
Loaded glmnet 4.1-10
Loading required package: RColorBrewer
[ FAIL 0 | WARN 6 | SKIP 0 | PASS 15 ]
[ FAIL 0 | WARN 6 | SKIP 0 | PASS 15 ]
>
> proc.time()
user system elapsed
84.703 2.113 86.811
metagenomeSeq.Rcheck/metagenomeSeq-Ex.timings
| name | user | system | elapsed | |
| MRcoefs | 1.058 | 0.043 | 1.102 | |
| MRcounts | 0.459 | 0.025 | 0.484 | |
| MRexperiment-class | 0.000 | 0.000 | 0.001 | |
| MRfulltable | 0.949 | 0.033 | 4.810 | |
| MRtable | 0.962 | 0.010 | 0.975 | |
| aggregateBySample | 0.142 | 0.010 | 0.152 | |
| aggregateByTaxonomy | 0.155 | 0.012 | 0.167 | |
| biom2MRexperiment | 0.201 | 0.004 | 0.206 | |
| calcNormFactors | 0.546 | 0.019 | 0.565 | |
| correctIndices | 0.100 | 0.010 | 0.111 | |
| correlationTest | 0.211 | 0.014 | 0.226 | |
| cumNorm | 0.391 | 0.015 | 0.407 | |
| cumNormMat | 0.413 | 0.031 | 0.445 | |
| cumNormStat | 0.601 | 0.006 | 0.606 | |
| cumNormStatFast | 0.289 | 0.006 | 0.294 | |
| expSummary | 0.095 | 0.011 | 0.106 | |
| exportMat | 0.943 | 2.940 | 3.883 | |
| exportStats | 0.361 | 0.002 | 0.362 | |
| extractMR | 0.595 | 1.282 | 1.878 | |
| filterData | 0.154 | 0.007 | 0.160 | |
| fitDO | 0.350 | 0.007 | 2.606 | |
| fitFeatureModel | 0.971 | 0.044 | 1.015 | |
| fitLogNormal | 1.563 | 0.028 | 1.591 | |
| fitMultipleTimeSeries | 1.778 | 0.019 | 1.796 | |
| fitPA | 0.344 | 0.005 | 2.523 | |
| fitSSTimeSeries | 0.432 | 0.011 | 0.444 | |
| fitTimeSeries | 0.389 | 0.008 | 0.398 | |
| fitZig | 1.655 | 0.020 | 1.675 | |
| libSize-set | 0.285 | 0.012 | 0.297 | |
| libSize | 0.281 | 0.001 | 0.282 | |
| loadBiom | 0.034 | 0.001 | 0.035 | |
| loadMeta | 0.015 | 0.000 | 0.016 | |
| loadMetaQ | 0.000 | 0.001 | 0.000 | |
| loadPhenoData | 0.007 | 0.000 | 0.008 | |
| makeLabels | 0.000 | 0.000 | 0.001 | |
| mergeMRexperiments | 1.462 | 0.220 | 1.683 | |
| newMRexperiment | 0.026 | 0.000 | 0.027 | |
| normFactors-set | 0.283 | 0.000 | 0.283 | |
| normFactors | 0.270 | 0.001 | 0.272 | |
| plotBubble | 0.253 | 0.021 | 2.379 | |
| plotClassTimeSeries | 0.989 | 0.015 | 1.005 | |
| plotCorr | 0.434 | 0.024 | 0.457 | |
| plotFeature | 0.152 | 0.018 | 0.172 | |
| plotGenus | 0.140 | 0.019 | 0.159 | |
| plotMRheatmap | 1.598 | 0.040 | 1.640 | |
| plotOTU | 0.140 | 0.009 | 0.149 | |
| plotOrd | 0.213 | 0.009 | 0.222 | |
| plotRare | 0.127 | 0.009 | 0.136 | |
| plotTimeSeries | 0.968 | 0.009 | 0.977 | |
| posteriorProbs | 1.606 | 0.049 | 1.655 | |
| returnAppropriateObj | 0.287 | 0.003 | 0.290 | |
| ssFit | 0.001 | 0.000 | 0.000 | |
| ssIntervalCandidate | 0 | 0 | 0 | |
| ssPerm | 0 | 0 | 0 | |
| ssPermAnalysis | 0.001 | 0.000 | 0.000 | |
| trapz | 0.001 | 0.000 | 0.000 | |
| ts2MRexperiment | 1.445 | 0.016 | 1.462 | |
| uniqueFeatures | 0.101 | 0.013 | 0.114 | |
| wrenchNorm | 12.486 | 0.295 | 12.783 | |
| zigControl | 0 | 0 | 0 | |