Back to Multiple platform build/check report for BioC 3.22:   simplified   long
ABCDEF[G]HIJKLMNOPQRSTUVWXYZ

This page was generated on 2025-11-06 11:59 -0500 (Thu, 06 Nov 2025).

HostnameOSArch (*)R versionInstalled pkgs
nebbiolo2Linux (Ubuntu 24.04.3 LTS)x86_644.5.1 Patched (2025-08-23 r88802) -- "Great Square Root" 4902
kjohnson3macOS 13.7.7 Venturaarm644.5.1 Patched (2025-09-10 r88807) -- "Great Square Root" 4638
Click on any hostname to see more info about the system (e.g. compilers)      (*) as reported by 'uname -p', except on Windows and Mac OS X

All results for package graph


To the developers/maintainers of the graph package:
- Allow up to 24 hours (and sometimes 48 hours) for your latest push to git@git.bioconductor.org:packages/graph.git to reflect on this report. See Troubleshooting Build Report for more information.
- Use the following Renviron settings to reproduce errors and warnings.
- If 'R CMD check' started to fail recently on the Linux builder(s) over a missing dependency, add the missing dependency to 'Suggests:' in your DESCRIPTION file. See Renviron.bioc for more information.

raw results

Package 923/2361HostnameOS / ArchINSTALLBUILDCHECKBUILD BIN
graph 1.88.0  (landing page)
Bioconductor Package Maintainer
Snapshot Date: 2025-11-05 13:45 -0500 (Wed, 05 Nov 2025)
git_url: https://git.bioconductor.org/packages/graph
git_branch: RELEASE_3_22
git_last_commit: 424ddf6
git_last_commit_date: 2025-10-29 09:42:14 -0500 (Wed, 29 Oct 2025)
nebbiolo2Linux (Ubuntu 24.04.3 LTS) / x86_64  OK    OK    OK  UNNEEDED, same version is already published
kjohnson3macOS 13.7.7 Ventura / arm64  OK    OK    OK    OK  UNNEEDED, same version is already published



Results for Bioconductor software packages that depend directly on package graph

QUICK STATSOS / ArchINSTALLBUILDCHECKBUILD BIN
nebbiolo2Linux (Ubuntu 24.04.3 LTS) / x86_64
0176
0374
032051
kjohnson3macOS 13.7.7 Ventura / arm64
0172
1369
041748
0069
Package 1/77HostnameOS / ArchINSTALLBUILDCHECKBUILD BIN
AnnotationHubData 1.40.0  (landing page)
Bioconductor Package Maintainer
git_last_commit: 077effd
git_last_commit_date: 2025-10-29 10:27:35 -0500
nebbiolo2Linux (Ubuntu 24.04.3 LTS) / x86_64  OK    OK    WARNINGS  UNNEEDED, same version is already published
kjohnson3macOS 13.7.7 Ventura / arm64  OK    OK    WARNINGS    OK  UNNEEDED, same version is already published
Package 2/77HostnameOS / ArchINSTALLBUILDCHECKBUILD BIN
apComplex 2.76.0  (landing page)
Denise Scholtens
git_last_commit: c8b447e
git_last_commit_date: 2025-10-29 09:55:56 -0500
nebbiolo2Linux (Ubuntu 24.04.3 LTS) / x86_64  OK    OK    OK  UNNEEDED, same version is already published
kjohnson3macOS 13.7.7 Ventura / arm64  OK    OK    OK    OK  UNNEEDED, same version is already published
Package 3/77HostnameOS / ArchINSTALLBUILDCHECKBUILD BIN
BgeeDB 2.36.0  (landing page)
Julien Wollbrett , Julien Roux , Andrea Komljenovic , Frederic Bastian
git_last_commit: 5af2650
git_last_commit_date: 2025-10-29 10:31:46 -0500
nebbiolo2Linux (Ubuntu 24.04.3 LTS) / x86_64  OK    OK    OK  UNNEEDED, same version is already published
kjohnson3macOS 13.7.7 Ventura / arm64  OK    OK    OK    OK  UNNEEDED, same version is already published
Package 4/77HostnameOS / ArchINSTALLBUILDCHECKBUILD BIN
BiocCheck 1.46.0  (landing page)
Marcel Ramos
git_last_commit: 79a3619
git_last_commit_date: 2025-10-29 19:20:08 -0500
nebbiolo2Linux (Ubuntu 24.04.3 LTS) / x86_64  OK    OK    ERROR  
kjohnson3macOS 13.7.7 Ventura / arm64  OK    OK    ERROR    OK  
Package 5/77HostnameOS / ArchINSTALLBUILDCHECKBUILD BIN
BiocFHIR 1.12.0  (landing page)
Vincent Carey
git_last_commit: 53cafbd
git_last_commit_date: 2025-10-29 11:19:42 -0500
nebbiolo2Linux (Ubuntu 24.04.3 LTS) / x86_64  OK    OK    OK  UNNEEDED, same version is already published
kjohnson3macOS 13.7.7 Ventura / arm64  OK    OK    OK    OK  UNNEEDED, same version is already published
Package 6/77HostnameOS / ArchINSTALLBUILDCHECKBUILD BIN
biocGraph 1.72.0  (landing page)
Florian Hahne
git_last_commit: c7492ba
git_last_commit_date: 2025-10-29 09:59:36 -0500
nebbiolo2Linux (Ubuntu 24.04.3 LTS) / x86_64  OK    OK    OK  UNNEEDED, same version is already published
kjohnson3macOS 13.7.7 Ventura / arm64  OK    OK    OK    OK  UNNEEDED, same version is already published
Package 7/77HostnameOS / ArchINSTALLBUILDCHECKBUILD BIN
BiocPkgTools 1.28.0  (landing page)
Sean Davis
git_last_commit: c37ad25
git_last_commit_date: 2025-10-29 10:47:30 -0500
nebbiolo2Linux (Ubuntu 24.04.3 LTS) / x86_64  OK    ERROR  skipped
kjohnson3macOS 13.7.7 Ventura / arm64  OK    ERROR  skippedskipped
Package 8/77HostnameOS / ArchINSTALLBUILDCHECKBUILD BIN
biocViews 1.78.0  (landing page)
Bioconductor Package Maintainer
git_last_commit: 2adaab7
git_last_commit_date: 2025-10-29 09:57:00 -0500
nebbiolo2Linux (Ubuntu 24.04.3 LTS) / x86_64  OK    OK    OK  UNNEEDED, same version is already published
kjohnson3macOS 13.7.7 Ventura / arm64  OK    OK    OK    OK  UNNEEDED, same version is already published
Package 9/77HostnameOS / ArchINSTALLBUILDCHECKBUILD BIN
BioMVCClass 1.78.0  (landing page)
Elizabeth Whalen
git_last_commit: ff8dda8
git_last_commit_date: 2025-10-29 09:58:24 -0500
nebbiolo2Linux (Ubuntu 24.04.3 LTS) / x86_64  OK    OK    OK  UNNEEDED, same version is already published
kjohnson3macOS 13.7.7 Ventura / arm64  OK    OK    OK    OK  UNNEEDED, same version is already published
Package 10/77HostnameOS / ArchINSTALLBUILDCHECKBUILD BIN
BioNet 1.70.0  (landing page)
Marcus Dittrich
git_last_commit: 4ac64e0
git_last_commit_date: 2025-10-29 10:05:29 -0500
nebbiolo2Linux (Ubuntu 24.04.3 LTS) / x86_64  OK    OK    OK  UNNEEDED, same version is already published
kjohnson3macOS 13.7.7 Ventura / arm64  OK    OK    OK    OK  UNNEEDED, same version is already published
Package 11/77HostnameOS / ArchINSTALLBUILDCHECKBUILD BIN
BLMA 1.34.0  (landing page)
Van-Dung Pham
git_last_commit: 32ae9d5
git_last_commit_date: 2025-10-29 10:38:21 -0500
nebbiolo2Linux (Ubuntu 24.04.3 LTS) / x86_64  OK    OK    OK  UNNEEDED, same version is already published
kjohnson3macOS 13.7.7 Ventura / arm64  OK    OK    OK    OK  UNNEEDED, same version is already published
Package 12/77HostnameOS / ArchINSTALLBUILDCHECKBUILD BIN
bnem 1.18.0  (landing page)
Martin Pirkl
git_last_commit: c751314
git_last_commit_date: 2025-10-29 11:04:57 -0500
nebbiolo2Linux (Ubuntu 24.04.3 LTS) / x86_64  OK    OK    OK  UNNEEDED, same version is already published
kjohnson3macOS 13.7.7 Ventura / arm64  OK    OK    OK    OK  UNNEEDED, same version is already published
Package 13/77HostnameOS / ArchINSTALLBUILDCHECKBUILD BIN
CAMERA 1.66.0  (landing page)
Steffen Neumann
git_last_commit: fcd3b86
git_last_commit_date: 2025-10-29 10:02:23 -0500
nebbiolo2Linux (Ubuntu 24.04.3 LTS) / x86_64  OK    OK    WARNINGS  UNNEEDED, same version is already published
kjohnson3macOS 13.7.7 Ventura / arm64  OK    OK    ERROR    OK  
Package 14/77HostnameOS / ArchINSTALLBUILDCHECKBUILD BIN
Category 2.76.0  (landing page)
Bioconductor Package Maintainer
git_last_commit: df2c742
git_last_commit_date: 2025-10-29 09:56:37 -0500
nebbiolo2Linux (Ubuntu 24.04.3 LTS) / x86_64  OK    OK    OK  UNNEEDED, same version is already published
kjohnson3macOS 13.7.7 Ventura / arm64  OK    OK    OK    OK  UNNEEDED, same version is already published
Package 15/77HostnameOS / ArchINSTALLBUILDCHECKBUILD BIN
categoryCompare 1.54.0  (landing page)
Robert M. Flight
git_last_commit: 3381da0
git_last_commit_date: 2025-10-29 10:11:00 -0500
nebbiolo2Linux (Ubuntu 24.04.3 LTS) / x86_64  OK    OK    OK  UNNEEDED, same version is already published
kjohnson3macOS 13.7.7 Ventura / arm64  OK    OK    OK    OK  UNNEEDED, same version is already published
Package 16/77HostnameOS / ArchINSTALLBUILDCHECKBUILD BIN
CellNOptR 1.56.0  (landing page)
Attila Gabor
git_last_commit: 2244640
git_last_commit_date: 2025-10-29 10:09:33 -0500
nebbiolo2Linux (Ubuntu 24.04.3 LTS) / x86_64  OK    OK    OK  UNNEEDED, same version is already published
kjohnson3macOS 13.7.7 Ventura / arm64  OK    OK    OK    OK  UNNEEDED, same version is already published
Package 17/77HostnameOS / ArchINSTALLBUILDCHECKBUILD BIN
chimeraviz 1.36.0  (landing page)
Stian Lågstad
git_last_commit: 36b8261
git_last_commit_date: 2025-10-29 10:35:50 -0500
nebbiolo2Linux (Ubuntu 24.04.3 LTS) / x86_64  OK    OK    OK  UNNEEDED, same version is already published
kjohnson3macOS 13.7.7 Ventura / arm64  OK    OK    OK    OK  UNNEEDED, same version is already published
Package 18/77HostnameOS / ArchINSTALLBUILDCHECKBUILD BIN
ChIPpeakAnno 3.44.0  (landing page)
Jianhong Ou
git_last_commit: 2b855fa
git_last_commit_date: 2025-10-29 10:03:18 -0500
nebbiolo2Linux (Ubuntu 24.04.3 LTS) / x86_64  OK    OK    OK  UNNEEDED, same version is already published
kjohnson3macOS 13.7.7 Ventura / arm64  OK    OK    OK    OK  UNNEEDED, same version is already published
Package 19/77HostnameOS / ArchINSTALLBUILDCHECKBUILD BIN
CHRONOS 1.38.0  (landing page)
Panos Balomenos
git_last_commit: 6ae799a
git_last_commit_date: 2025-10-29 10:32:09 -0500
nebbiolo2Linux (Ubuntu 24.04.3 LTS) / x86_64  OK    OK    OK  UNNEEDED, same version is already published
kjohnson3macOS 13.7.7 Ventura / arm64  OK    TIMEOUT  skippedskipped
Package 20/77HostnameOS / ArchINSTALLBUILDCHECKBUILD BIN
clipper 1.50.0  (landing page)
Paolo Martini
git_last_commit: a4ee17e
git_last_commit_date: 2025-10-29 10:13:24 -0500
nebbiolo2Linux (Ubuntu 24.04.3 LTS) / x86_64  OK    OK    OK  UNNEEDED, same version is already published
kjohnson3macOS 13.7.7 Ventura / arm64  OK    OK    OK    OK  UNNEEDED, same version is already published
Package 21/77HostnameOS / ArchINSTALLBUILDCHECKBUILD BIN
CNORfeeder 1.50.0  (landing page)
Attila Gabor
git_last_commit: 92dc988
git_last_commit_date: 2025-10-29 10:14:15 -0500
nebbiolo2Linux (Ubuntu 24.04.3 LTS) / x86_64  OK    OK    WARNINGS  UNNEEDED, same version is already published
kjohnson3macOS 13.7.7 Ventura / arm64  OK    OK    WARNINGS    OK  UNNEEDED, same version is already published
Package 22/77HostnameOS / ArchINSTALLBUILDCHECKBUILD BIN
consICA 2.8.0  (landing page)
Petr V. Nazarov
git_last_commit: e606646
git_last_commit_date: 2025-10-29 11:18:38 -0500
nebbiolo2Linux (Ubuntu 24.04.3 LTS) / x86_64  OK    OK    OK  UNNEEDED, same version is already published
kjohnson3macOS 13.7.7 Ventura / arm64  OK    OK    OK    OK  UNNEEDED, same version is already published
Package 23/77HostnameOS / ArchINSTALLBUILDCHECKBUILD BIN
CytoML 2.22.0  (landing page)
Mike Jiang
git_last_commit: 8902400
git_last_commit_date: 2025-10-29 10:33:02 -0500
nebbiolo2Linux (Ubuntu 24.04.3 LTS) / x86_64  OK    OK    WARNINGS  UNNEEDED, same version is already published
kjohnson3macOS 13.7.7 Ventura / arm64  OK    OK    WARNINGS    OK  UNNEEDED, same version is already published
Package 24/77HostnameOS / ArchINSTALLBUILDCHECKBUILD BIN
DEGraph 1.62.0  (landing page)
Laurent Jacob
git_last_commit: 1f09c9d
git_last_commit_date: 2025-10-29 10:06:12 -0500
nebbiolo2Linux (Ubuntu 24.04.3 LTS) / x86_64  OK    OK    OK  UNNEEDED, same version is already published
kjohnson3macOS 13.7.7 Ventura / arm64... NOT SUPPORTED ...
Package 25/77HostnameOS / ArchINSTALLBUILDCHECKBUILD BIN
DEsubs 1.36.0  (landing page)
Aristidis G. Vrahatis , Panos Balomenos
git_last_commit: eacc80f
git_last_commit_date: 2025-10-29 10:34:42 -0500
nebbiolo2Linux (Ubuntu 24.04.3 LTS) / x86_64  OK    OK    WARNINGS  UNNEEDED, same version is already published
kjohnson3macOS 13.7.7 Ventura / arm64  OK    OK    WARNINGS    OK  UNNEEDED, same version is already published
Package 26/77HostnameOS / ArchINSTALLBUILDCHECKBUILD BIN
EnrichDO 1.4.0  (landing page)
Hongyu Fu
git_last_commit: da942bc
git_last_commit_date: 2025-10-29 11:31:56 -0500
nebbiolo2Linux (Ubuntu 24.04.3 LTS) / x86_64  OK    OK    OK  UNNEEDED, same version is already published
kjohnson3macOS 13.7.7 Ventura / arm64  OK    OK    OK    OK  UNNEEDED, same version is already published
Package 27/77HostnameOS / ArchINSTALLBUILDCHECKBUILD BIN
EnrichmentBrowser 2.40.0  (landing page)
Ludwig Geistlinger
git_last_commit: 2118f0c
git_last_commit_date: 2025-10-29 10:21:30 -0500
nebbiolo2Linux (Ubuntu 24.04.3 LTS) / x86_64  OK    OK    OK  UNNEEDED, same version is already published
kjohnson3macOS 13.7.7 Ventura / arm64  OK    OK    OK    OK  UNNEEDED, same version is already published
Package 28/77HostnameOS / ArchINSTALLBUILDCHECKBUILD BIN
epiNEM 1.34.0  (landing page)
Martin Pirkl
git_last_commit: fb48046
git_last_commit_date: 2025-10-29 10:37:16 -0500
nebbiolo2Linux (Ubuntu 24.04.3 LTS) / x86_64  OK    OK    OK  UNNEEDED, same version is already published
kjohnson3macOS 13.7.7 Ventura / arm64  OK    OK    OK    OK  UNNEEDED, same version is already published
Package 29/77HostnameOS / ArchINSTALLBUILDCHECKBUILD BIN
EventPointer 3.18.0  (landing page)
Juan A. Ferrer-Bonsoms
git_last_commit: 816a09d
git_last_commit_date: 2025-10-29 10:37:08 -0500
nebbiolo2Linux (Ubuntu 24.04.3 LTS) / x86_64  OK    OK    OK  UNNEEDED, same version is already published
kjohnson3macOS 13.7.7 Ventura / arm64  OK    OK    OK    OK  UNNEEDED, same version is already published
Package 30/77HostnameOS / ArchINSTALLBUILDCHECKBUILD BIN
fgga 1.18.0  (landing page)
Flavio Spetale
git_last_commit: 2621333
git_last_commit_date: 2025-10-29 11:09:03 -0500
nebbiolo2Linux (Ubuntu 24.04.3 LTS) / x86_64  OK    OK    OK  UNNEEDED, same version is already published
kjohnson3macOS 13.7.7 Ventura / arm64  OK    OK    OK    OK  UNNEEDED, same version is already published
Package 31/77HostnameOS / ArchINSTALLBUILDCHECKBUILD BIN
flowClust 3.48.0  (landing page)
Greg Finak , Mike Jiang
git_last_commit: b1ac58b
git_last_commit_date: 2025-10-29 10:00:22 -0500
nebbiolo2Linux (Ubuntu 24.04.3 LTS) / x86_64  OK    OK    WARNINGS  UNNEEDED, same version is already published
kjohnson3macOS 13.7.7 Ventura / arm64  OK    OK    WARNINGS    OK  UNNEEDED, same version is already published
Package 32/77HostnameOS / ArchINSTALLBUILDCHECKBUILD BIN
flowMerge 2.58.0  (landing page)
Greg Finak
git_last_commit: 483d2da
git_last_commit_date: 2025-10-29 10:03:02 -0500
nebbiolo2Linux (Ubuntu 24.04.3 LTS) / x86_64  OK    OK    WARNINGS  UNNEEDED, same version is already published
kjohnson3macOS 13.7.7 Ventura / arm64  OK    OK    WARNINGS    OK  UNNEEDED, same version is already published
Package 33/77HostnameOS / ArchINSTALLBUILDCHECKBUILD BIN
flowWorkspace 4.22.0  (landing page)
Greg Finak , Mike Jiang
git_last_commit: e1edb9f
git_last_commit_date: 2025-10-29 10:07:43 -0500
nebbiolo2Linux (Ubuntu 24.04.3 LTS) / x86_64  OK    OK    WARNINGS  UNNEEDED, same version is already published
kjohnson3macOS 13.7.7 Ventura / arm64  OK    OK    WARNINGS    OK  UNNEEDED, same version is already published
Package 34/77HostnameOS / ArchINSTALLBUILDCHECKBUILD BIN
gage 2.60.0  (landing page)
Weijun Luo
git_last_commit: 9b2c4d0
git_last_commit_date: 2025-10-29 10:05:53 -0500
nebbiolo2Linux (Ubuntu 24.04.3 LTS) / x86_64  OK    OK    WARNINGS  UNNEEDED, same version is already published
kjohnson3macOS 13.7.7 Ventura / arm64  OK    OK    WARNINGS    OK  UNNEEDED, same version is already published
Package 35/77HostnameOS / ArchINSTALLBUILDCHECKBUILD BIN
GeneNetworkBuilder 1.52.0  (landing page)
Jianhong Ou
git_last_commit: f2c4229
git_last_commit_date: 2025-10-29 10:11:49 -0500
nebbiolo2Linux (Ubuntu 24.04.3 LTS) / x86_64  OK    OK    OK  UNNEEDED, same version is already published
kjohnson3macOS 13.7.7 Ventura / arm64  OK    OK    OK    OK  UNNEEDED, same version is already published
Package 36/77HostnameOS / ArchINSTALLBUILDCHECKBUILD BIN
GenomicInteractionNodes 1.14.0  (landing page)
Jianhong Ou
git_last_commit: d3ee518
git_last_commit_date: 2025-10-29 11:16:22 -0500
nebbiolo2Linux (Ubuntu 24.04.3 LTS) / x86_64  OK    OK    OK  UNNEEDED, same version is already published
kjohnson3macOS 13.7.7 Ventura / arm64  OK    OK    OK    OK  UNNEEDED, same version is already published
Package 37/77HostnameOS / ArchINSTALLBUILDCHECKBUILD BIN
GOstats 2.76.0  (landing page)
Bioconductor Package Maintainer
git_last_commit: 7c7bec8
git_last_commit_date: 2025-10-29 09:55:01 -0500
nebbiolo2Linux (Ubuntu 24.04.3 LTS) / x86_64  OK    OK    OK  UNNEEDED, same version is already published
kjohnson3macOS 13.7.7 Ventura / arm64  OK    OK    OK    OK  UNNEEDED, same version is already published
Package 38/77HostnameOS / ArchINSTALLBUILDCHECKBUILD BIN
GraphAT 1.82.0  (landing page)
Thomas LaFramboise
git_last_commit: 711f8ad
git_last_commit_date: 2025-10-29 09:55:09 -0500
nebbiolo2Linux (Ubuntu 24.04.3 LTS) / x86_64  OK    OK    OK  UNNEEDED, same version is already published
kjohnson3macOS 13.7.7 Ventura / arm64  OK    OK    OK    OK  UNNEEDED, same version is already published
Package 39/77HostnameOS / ArchINSTALLBUILDCHECKBUILD BIN
graphite 1.56.0  (landing page)
Gabriele Sales
git_last_commit: d5cf402
git_last_commit_date: 2025-10-29 10:08:39 -0500
nebbiolo2Linux (Ubuntu 24.04.3 LTS) / x86_64  OK    OK    OK  UNNEEDED, same version is already published
kjohnson3macOS 13.7.7 Ventura / arm64  OK    OK    OK    OK  UNNEEDED, same version is already published
Package 40/77HostnameOS / ArchINSTALLBUILDCHECKBUILD BIN
GSEABase 1.72.0  (landing page)
Bioconductor Package Maintainer
git_last_commit: 8f4e176
git_last_commit_date: 2025-10-29 09:59:33 -0500
nebbiolo2Linux (Ubuntu 24.04.3 LTS) / x86_64  OK    OK    OK  UNNEEDED, same version is already published
kjohnson3macOS 13.7.7 Ventura / arm64  OK    OK    OK    OK  UNNEEDED, same version is already published
Package 41/77HostnameOS / ArchINSTALLBUILDCHECKBUILD BIN
hyperdraw 1.62.0  (landing page)
Paul Murrell
git_last_commit: d222272
git_last_commit_date: 2025-10-29 10:04:13 -0500
nebbiolo2Linux (Ubuntu 24.04.3 LTS) / x86_64  OK    OK    OK  UNNEEDED, same version is already published
kjohnson3macOS 13.7.7 Ventura / arm64  OK    OK    OK    OK  UNNEEDED, same version is already published
Package 42/77HostnameOS / ArchINSTALLBUILDCHECKBUILD BIN
hypergraph 1.82.0  (landing page)
Bioconductor Package Maintainer
git_last_commit: 640ba9c
git_last_commit_date: 2025-10-29 09:56:34 -0500
nebbiolo2Linux (Ubuntu 24.04.3 LTS) / x86_64  OK    OK    OK  UNNEEDED, same version is already published
kjohnson3macOS 13.7.7 Ventura / arm64  OK    OK    OK    OK  UNNEEDED, same version is already published
Package 43/77HostnameOS / ArchINSTALLBUILDCHECKBUILD BIN
KEGGgraph 1.70.0  (landing page)
Jitao David Zhang
git_last_commit: f90447d
git_last_commit_date: 2025-10-29 10:02:08 -0500
nebbiolo2Linux (Ubuntu 24.04.3 LTS) / x86_64  OK    OK    OK  UNNEEDED, same version is already published
kjohnson3macOS 13.7.7 Ventura / arm64  OK    OK    OK    OK  UNNEEDED, same version is already published
Package 44/77HostnameOS / ArchINSTALLBUILDCHECKBUILD BIN
keggorthology 2.62.0  (landing page)
VJ Carey
git_last_commit: 5b39ffd
git_last_commit_date: 2025-10-29 09:59:39 -0500
nebbiolo2Linux (Ubuntu 24.04.3 LTS) / x86_64  OK    OK    OK  UNNEEDED, same version is already published
kjohnson3macOS 13.7.7 Ventura / arm64  OK    OK    OK    OK  UNNEEDED, same version is already published
Package 45/77HostnameOS / ArchINSTALLBUILDCHECKBUILD BIN
MineICA 1.50.0  (landing page)
Anne Biton
git_last_commit: dc9c2eb
git_last_commit_date: 2025-10-29 10:13:40 -0500
nebbiolo2Linux (Ubuntu 24.04.3 LTS) / x86_64  OK    OK    ERROR  
kjohnson3macOS 13.7.7 Ventura / arm64  OK    OK    ERROR    OK  
Package 46/77HostnameOS / ArchINSTALLBUILDCHECKBUILD BIN
mirIntegrator 1.40.0  (landing page)
Diana Diaz
git_last_commit: 1bd2140
git_last_commit_date: 2025-10-29 10:26:26 -0500
nebbiolo2Linux (Ubuntu 24.04.3 LTS) / x86_64  OK    OK    OK  UNNEEDED, same version is already published
kjohnson3macOS 13.7.7 Ventura / arm64  OK    OK    OK    OK  UNNEEDED, same version is already published
Package 47/77HostnameOS / ArchINSTALLBUILDCHECKBUILD BIN
MIRit 1.6.0  (landing page)
Jacopo Ronchi
git_last_commit: 2274523
git_last_commit_date: 2025-10-29 11:27:39 -0500
nebbiolo2Linux (Ubuntu 24.04.3 LTS) / x86_64  OK    OK    OK  UNNEEDED, same version is already published
kjohnson3macOS 13.7.7 Ventura / arm64  OK    OK    OK    OK  UNNEEDED, same version is already published
Package 48/77HostnameOS / ArchINSTALLBUILDCHECKBUILD BIN
mnem 1.26.0  (landing page)
Martin Pirkl
git_last_commit: ecde75f
git_last_commit_date: 2025-10-29 10:52:33 -0500
nebbiolo2Linux (Ubuntu 24.04.3 LTS) / x86_64  OK    OK    OK  UNNEEDED, same version is already published
kjohnson3macOS 13.7.7 Ventura / arm64  OK    OK    OK    OK  UNNEEDED, same version is already published
Package 49/77HostnameOS / ArchINSTALLBUILDCHECKBUILD BIN
MOSClip 1.4.0  (landing page)
Paolo Martini
git_last_commit: b231f21
git_last_commit_date: 2025-10-29 11:32:56 -0500
nebbiolo2Linux (Ubuntu 24.04.3 LTS) / x86_64  OK    OK    OK  UNNEEDED, same version is already published
kjohnson3macOS 13.7.7 Ventura / arm64  OK    OK    OK    OK  UNNEEDED, same version is already published
Package 50/77HostnameOS / ArchINSTALLBUILDCHECKBUILD BIN
NCIgraph 1.58.0  (landing page)
Laurent Jacob
git_last_commit: eb4dd86
git_last_commit_date: 2025-10-29 10:07:17 -0500
nebbiolo2Linux (Ubuntu 24.04.3 LTS) / x86_64  OK    OK    OK  UNNEEDED, same version is already published
kjohnson3macOS 13.7.7 Ventura / arm64... NOT SUPPORTED ...
Package 51/77HostnameOS / ArchINSTALLBUILDCHECKBUILD BIN
netresponse 1.70.0  (landing page)
Leo Lahti
git_last_commit: 2ffd016
git_last_commit_date: 2025-10-29 10:05:48 -0500
nebbiolo2Linux (Ubuntu 24.04.3 LTS) / x86_64  OK    OK    OK  UNNEEDED, same version is already published
kjohnson3macOS 13.7.7 Ventura / arm64  OK    OK    OK    OK  UNNEEDED, same version is already published
Package 52/77HostnameOS / ArchINSTALLBUILDCHECKBUILD BIN
OncoSimulR 4.12.0  (landing page)
Ramon Diaz-Uriarte
git_last_commit: 0528208
git_last_commit_date: 2025-10-29 10:20:29 -0500
nebbiolo2Linux (Ubuntu 24.04.3 LTS) / x86_64  OK    OK    OK  UNNEEDED, same version is already published
kjohnson3macOS 13.7.7 Ventura / arm64... NOT SUPPORTED ...
Package 53/77HostnameOS / ArchINSTALLBUILDCHECKBUILD BIN
ontoProc 2.4.0  (landing page)
Vincent Carey
git_last_commit: f2c1b3f
git_last_commit_date: 2025-10-29 19:20:08 -0500
nebbiolo2Linux (Ubuntu 24.04.3 LTS) / x86_64  OK    OK    OK  UNNEEDED, same version is already published
kjohnson3macOS 13.7.7 Ventura / arm64  OK    OK    OK    OK  UNNEEDED, same version is already published
Package 54/77HostnameOS / ArchINSTALLBUILDCHECKBUILD BIN
openCyto 2.22.0  (landing page)
Mike Jiang
git_last_commit: bbeacaf
git_last_commit_date: 2025-10-29 10:16:53 -0500
nebbiolo2Linux (Ubuntu 24.04.3 LTS) / x86_64  OK    OK    WARNINGS  UNNEEDED, same version is already published
kjohnson3macOS 13.7.7 Ventura / arm64  OK    OK    WARNINGS    OK  UNNEEDED, same version is already published
Package 55/77HostnameOS / ArchINSTALLBUILDCHECKBUILD BIN
oposSOM 2.28.0  (landing page)
Henry Loeffler-Wirth
git_last_commit: c1a99a8
git_last_commit_date: 2025-10-29 10:20:10 -0500
nebbiolo2Linux (Ubuntu 24.04.3 LTS) / x86_64  OK    OK    WARNINGS  UNNEEDED, same version is already published
kjohnson3macOS 13.7.7 Ventura / arm64  OK    OK    WARNINGS    OK  UNNEEDED, same version is already published
Package 56/77HostnameOS / ArchINSTALLBUILDCHECKBUILD BIN
OrganismDbi 1.52.0  (landing page)
Bioconductor Package Maintainer
git_last_commit: bd13a8e
git_last_commit_date: 2025-10-29 10:12:00 -0500
nebbiolo2Linux (Ubuntu 24.04.3 LTS) / x86_64  OK    OK    OK  UNNEEDED, same version is already published
kjohnson3macOS 13.7.7 Ventura / arm64  OK    OK    OK    OK  UNNEEDED, same version is already published
Package 57/77HostnameOS / ArchINSTALLBUILDCHECKBUILD BIN
pathRender 1.78.0  (landing page)
Vince Carey
git_last_commit: 4ea6df8
git_last_commit_date: 2025-10-29 09:57:23 -0500
nebbiolo2Linux (Ubuntu 24.04.3 LTS) / x86_64  OK    OK    OK  UNNEEDED, same version is already published
kjohnson3macOS 13.7.7 Ventura / arm64  OK    OK    OK    OK  UNNEEDED, same version is already published
Package 58/77HostnameOS / ArchINSTALLBUILDCHECKBUILD BIN
pathview 1.50.0  (landing page)
Weijun Luo
git_last_commit: 5efd147
git_last_commit_date: 2025-10-29 10:14:01 -0500
nebbiolo2Linux (Ubuntu 24.04.3 LTS) / x86_64  OK    OK    WARNINGS  UNNEEDED, same version is already published
kjohnson3macOS 13.7.7 Ventura / arm64  OK    OK    WARNINGS    OK  UNNEEDED, same version is already published
Package 59/77HostnameOS / ArchINSTALLBUILDCHECKBUILD BIN
PhenStat 2.46.0  (landing page)
Hamed Haselimashhadi
git_last_commit: 16b4128
git_last_commit_date: 2025-10-29 10:17:33 -0500
nebbiolo2Linux (Ubuntu 24.04.3 LTS) / x86_64  ERROR    ERROR  skipped
kjohnson3macOS 13.7.7 Ventura / arm64  ERROR    ERROR  skippedskipped
Package 60/77HostnameOS / ArchINSTALLBUILDCHECKBUILD BIN
Pigengene 1.36.0  (landing page)
Habil Zare
git_last_commit: 98253f3
git_last_commit_date: 2025-10-29 10:32:29 -0500
nebbiolo2Linux (Ubuntu 24.04.3 LTS) / x86_64  OK    OK    ERROR  
kjohnson3macOS 13.7.7 Ventura / arm64  OK    OK    ERROR    OK  
Package 61/77HostnameOS / ArchINSTALLBUILDCHECKBUILD BIN
qpgraph 2.44.0  (landing page)
Robert Castelo
git_last_commit: 7de7e0c
git_last_commit_date: 2025-10-29 10:02:10 -0500
nebbiolo2Linux (Ubuntu 24.04.3 LTS) / x86_64  OK    OK    OK  UNNEEDED, same version is already published
kjohnson3macOS 13.7.7 Ventura / arm64  OK    OK    OK    OK  UNNEEDED, same version is already published
Package 62/77HostnameOS / ArchINSTALLBUILDCHECKBUILD BIN
RbcBook1 1.78.0  (landing page)
Vince Carey
git_last_commit: 1e86750
git_last_commit_date: 2025-10-29 09:58:35 -0500
nebbiolo2Linux (Ubuntu 24.04.3 LTS) / x86_64  OK    OK    WARNINGS  UNNEEDED, same version is already published
kjohnson3macOS 13.7.7 Ventura / arm64  OK    OK    WARNINGS    OK  UNNEEDED, same version is already published
Package 63/77HostnameOS / ArchINSTALLBUILDCHECKBUILD BIN
RBGL 1.86.0  (landing page)
Bioconductor Package Maintainer
git_last_commit: a15bdde
git_last_commit_date: 2025-10-29 09:54:01 -0500
nebbiolo2Linux (Ubuntu 24.04.3 LTS) / x86_64  OK    OK    WARNINGS  UNNEEDED, same version is already published
kjohnson3macOS 13.7.7 Ventura / arm64  OK    OK    OK    OK  UNNEEDED, same version is already published
Package 64/77HostnameOS / ArchINSTALLBUILDCHECKBUILD BIN
RCy3 2.30.0  (landing page)
Alex Pico
git_last_commit: 0677632
git_last_commit_date: 2025-10-29 10:28:27 -0500
nebbiolo2Linux (Ubuntu 24.04.3 LTS) / x86_64  OK    OK    OK  UNNEEDED, same version is already published
kjohnson3macOS 13.7.7 Ventura / arm64  OK    OK    OK    OK  UNNEEDED, same version is already published
Package 65/77HostnameOS / ArchINSTALLBUILDCHECKBUILD BIN
RCyjs 2.32.0  (landing page)
Paul Shannon
git_last_commit: abd521e
git_last_commit_date: 2025-10-29 10:25:28 -0500
nebbiolo2Linux (Ubuntu 24.04.3 LTS) / x86_64  OK    OK    WARNINGS  UNNEEDED, same version is already published
kjohnson3macOS 13.7.7 Ventura / arm64  OK    OK    WARNINGS    OK  UNNEEDED, same version is already published
Package 66/77HostnameOS / ArchINSTALLBUILDCHECKBUILD BIN
RGraph2js 1.38.0  (landing page)
Stephane Cano
git_last_commit: 2921c75
git_last_commit_date: 2025-10-29 10:29:41 -0500
nebbiolo2Linux (Ubuntu 24.04.3 LTS) / x86_64  OK    OK    OK  UNNEEDED, same version is already published
kjohnson3macOS 13.7.7 Ventura / arm64  OK    OK    OK    OK  UNNEEDED, same version is already published
Package 67/77HostnameOS / ArchINSTALLBUILDCHECKBUILD BIN
Rgraphviz 2.54.0  (landing page)
Kasper Daniel Hansen
git_last_commit: deef90a
git_last_commit_date: 2025-10-29 09:42:22 -0500
nebbiolo2Linux (Ubuntu 24.04.3 LTS) / x86_64  OK    OK    WARNINGS  UNNEEDED, same version is already published
kjohnson3macOS 13.7.7 Ventura / arm64  OK    OK    WARNINGS    OK  UNNEEDED, same version is already published
Package 68/77HostnameOS / ArchINSTALLBUILDCHECKBUILD BIN
ROntoTools 2.38.0  (landing page)
Sorin Draghici
git_last_commit: 5e9ce05
git_last_commit_date: 2025-10-29 10:14:20 -0500
nebbiolo2Linux (Ubuntu 24.04.3 LTS) / x86_64  OK    OK    WARNINGS  UNNEEDED, same version is already published
kjohnson3macOS 13.7.7 Ventura / arm64  OK    OK    WARNINGS    OK  UNNEEDED, same version is already published
Package 69/77HostnameOS / ArchINSTALLBUILDCHECKBUILD BIN
rsbml 2.68.0  (landing page)
Michael Lawrence
git_last_commit: 8d17d9d
git_last_commit_date: 2025-10-29 09:59:55 -0500
nebbiolo2Linux (Ubuntu 24.04.3 LTS) / x86_64  OK    OK    WARNINGS  UNNEEDED, same version is already published
kjohnson3macOS 13.7.7 Ventura / arm64... NOT SUPPORTED ...
Package 70/77HostnameOS / ArchINSTALLBUILDCHECKBUILD BIN
scGraphVerse 1.0.0  (landing page)
Francesco Cecere
git_last_commit: 425f2dc
git_last_commit_date: 2025-10-29 11:38:49 -0500
nebbiolo2Linux (Ubuntu 24.04.3 LTS) / x86_64  OK    OK    OK  UNNEEDED, same version is already published
kjohnson3macOS 13.7.7 Ventura / arm64  OK    OK    OK    OK  UNNEEDED, same version is already published
Package 71/77HostnameOS / ArchINSTALLBUILDCHECKBUILD BIN
SGCP 1.10.0  (landing page)
Niloofar AghaieAbiane
git_last_commit: d571adf
git_last_commit_date: 2025-10-29 11:20:24 -0500
nebbiolo2Linux (Ubuntu 24.04.3 LTS) / x86_64  OK    ERROR  skipped
kjohnson3macOS 13.7.7 Ventura / arm64  OK    ERROR  skippedskipped
Package 72/77HostnameOS / ArchINSTALLBUILDCHECKBUILD BIN
SplicingGraphs 1.50.1  (landing page)
H. Pagès
git_last_commit: 02123b2
git_last_commit_date: 2025-11-02 12:50:45 -0500
nebbiolo2Linux (Ubuntu 24.04.3 LTS) / x86_64  OK    OK    WARNINGS  UNNEEDED, same version is already published
kjohnson3macOS 13.7.7 Ventura / arm64  OK    OK    WARNINGS    OK  UNNEEDED, same version is already published
Package 73/77HostnameOS / ArchINSTALLBUILDCHECKBUILD BIN
SRAdb 1.72.0  (landing page)
Jack Zhu
git_last_commit: e1054a1
git_last_commit_date: 2025-10-29 10:04:50 -0500
nebbiolo2Linux (Ubuntu 24.04.3 LTS) / x86_64  OK    OK    OK  UNNEEDED, same version is already published
kjohnson3macOS 13.7.7 Ventura / arm64  OK    OK    OK    OK  UNNEEDED, same version is already published
Package 74/77HostnameOS / ArchINSTALLBUILDCHECKBUILD BIN
Streamer 1.56.0  (landing page)
Martin Morgan
git_last_commit: d98ca40
git_last_commit_date: 2025-10-29 10:08:21 -0500
nebbiolo2Linux (Ubuntu 24.04.3 LTS) / x86_64  OK    OK    OK  UNNEEDED, same version is already published
kjohnson3macOS 13.7.7 Ventura / arm64  OK    OK    OK    OK  UNNEEDED, same version is already published
Package 75/77HostnameOS / ArchINSTALLBUILDCHECKBUILD BIN
topGO 2.62.0  (landing page)
Federico Marini
git_last_commit: 07c1375
git_last_commit_date: 2025-10-29 09:59:04 -0500
nebbiolo2Linux (Ubuntu 24.04.3 LTS) / x86_64  OK    OK    WARNINGS  UNNEEDED, same version is already published
kjohnson3macOS 13.7.7 Ventura / arm64  OK    OK    WARNINGS    OK  UNNEEDED, same version is already published
Package 76/77HostnameOS / ArchINSTALLBUILDCHECKBUILD BIN
VariantFiltering 1.46.0  (landing page)
Robert Castelo
git_last_commit: 958023b
git_last_commit_date: 2025-10-29 10:19:08 -0500
nebbiolo2Linux (Ubuntu 24.04.3 LTS) / x86_64  OK    OK    OK  UNNEEDED, same version is already published
kjohnson3macOS 13.7.7 Ventura / arm64  OK    OK    OK    OK  UNNEEDED, same version is already published
Package 77/77HostnameOS / ArchINSTALLBUILDCHECKBUILD BIN
vtpnet 0.50.0  (landing page)
VJ Carey
git_last_commit: 78afef5
git_last_commit_date: 2025-10-29 10:15:00 -0500
nebbiolo2Linux (Ubuntu 24.04.3 LTS) / x86_64  OK    OK    OK  UNNEEDED, same version is already published
kjohnson3macOS 13.7.7 Ventura / arm64  OK    OK    OK    OK  UNNEEDED, same version is already published