| Back to Multiple platform build/check report for BioC 3.21: simplified long |
|
This page was generated on 2025-10-16 11:37 -0400 (Thu, 16 Oct 2025).
| Hostname | OS | Arch (*) | R version | Installed pkgs |
|---|---|---|---|---|
| nebbiolo1 | Linux (Ubuntu 24.04.3 LTS) | x86_64 | 4.5.1 (2025-06-13) -- "Great Square Root" | 4833 |
| merida1 | macOS 12.7.6 Monterey | x86_64 | 4.5.1 RC (2025-06-05 r88288) -- "Great Square Root" | 4614 |
| kjohnson1 | macOS 13.7.5 Ventura | arm64 | 4.5.1 Patched (2025-06-14 r88325) -- "Great Square Root" | 4555 |
| kunpeng2 | Linux (openEuler 24.03 LTS) | aarch64 | R Under development (unstable) (2025-02-19 r87757) -- "Unsuffered Consequences" | 4586 |
| Click on any hostname to see more info about the system (e.g. compilers) (*) as reported by 'uname -p', except on Windows and Mac OS X | ||||
| Package 195/2341 | Hostname | OS / Arch | INSTALL | BUILD | CHECK | BUILD BIN | ||||||||
| BiocPkgTools 1.26.4 (landing page) Sean Davis
| nebbiolo1 | Linux (Ubuntu 24.04.3 LTS) / x86_64 | OK | OK | OK | |||||||||
| merida1 | macOS 12.7.6 Monterey / x86_64 | OK | OK | OK | OK | |||||||||
| kjohnson1 | macOS 13.7.5 Ventura / arm64 | OK | OK | OK | OK | |||||||||
| kunpeng2 | Linux (openEuler 24.03 LTS) / aarch64 | OK | OK | OK | ||||||||||
|
To the developers/maintainers of the BiocPkgTools package: - Allow up to 24 hours (and sometimes 48 hours) for your latest push to git@git.bioconductor.org:packages/BiocPkgTools.git to reflect on this report. See Troubleshooting Build Report for more information. - Use the following Renviron settings to reproduce errors and warnings. - If 'R CMD check' started to fail recently on the Linux builder(s) over a missing dependency, add the missing dependency to 'Suggests:' in your DESCRIPTION file. See Renviron.bioc for more information. |
| Package: BiocPkgTools |
| Version: 1.26.4 |
| Command: /home/biocbuild/bbs-3.21-bioc/R/bin/R CMD check --install=check:BiocPkgTools.install-out.txt --library=/home/biocbuild/bbs-3.21-bioc/R/site-library --timings BiocPkgTools_1.26.4.tar.gz |
| StartedAt: 2025-10-15 21:11:44 -0400 (Wed, 15 Oct 2025) |
| EndedAt: 2025-10-15 21:25:00 -0400 (Wed, 15 Oct 2025) |
| EllapsedTime: 795.1 seconds |
| RetCode: 0 |
| Status: OK |
| CheckDir: BiocPkgTools.Rcheck |
| Warnings: 0 |
##############################################################################
##############################################################################
###
### Running command:
###
### /home/biocbuild/bbs-3.21-bioc/R/bin/R CMD check --install=check:BiocPkgTools.install-out.txt --library=/home/biocbuild/bbs-3.21-bioc/R/site-library --timings BiocPkgTools_1.26.4.tar.gz
###
##############################################################################
##############################################################################
* using log directory ‘/home/biocbuild/bbs-3.21-bioc/meat/BiocPkgTools.Rcheck’
* using R version 4.5.1 (2025-06-13)
* using platform: x86_64-pc-linux-gnu
* R was compiled by
gcc (Ubuntu 13.3.0-6ubuntu2~24.04) 13.3.0
GNU Fortran (Ubuntu 13.3.0-6ubuntu2~24.04) 13.3.0
* running under: Ubuntu 24.04.3 LTS
* using session charset: UTF-8
* checking for file ‘BiocPkgTools/DESCRIPTION’ ... OK
* checking extension type ... Package
* this is package ‘BiocPkgTools’ version ‘1.26.4’
* package encoding: UTF-8
* checking package namespace information ... OK
* checking package dependencies ... INFO
Imports includes 25 non-default packages.
Importing from so many packages makes the package vulnerable to any of
them becoming unavailable. Move as many as possible to Suggests and
use conditionally.
* checking if this is a source package ... OK
* checking if there is a namespace ... OK
* checking for hidden files and directories ... OK
* checking for portable file names ... OK
* checking for sufficient/correct file permissions ... OK
* checking whether package ‘BiocPkgTools’ can be installed ... OK
* checking installed package size ... OK
* checking package directory ... OK
* checking ‘build’ directory ... OK
* checking DESCRIPTION meta-information ... NOTE
License stub is invalid DCF.
* checking top-level files ... OK
* checking for left-over files ... OK
* checking index information ... OK
* checking package subdirectories ... OK
* checking code files for non-ASCII characters ... OK
* checking R files for syntax errors ... OK
* checking whether the package can be loaded ... OK
* checking whether the package can be loaded with stated dependencies ... OK
* checking whether the package can be unloaded cleanly ... OK
* checking whether the namespace can be loaded with stated dependencies ... OK
* checking whether the namespace can be unloaded cleanly ... OK
* checking loading without being on the library search path ... OK
* checking dependencies in R code ... NOTE
Unexported objects imported by ':::' calls:
‘BiocManager:::.repositories’ ‘BiocManager:::.repositories_bioc’
‘BiocManager:::.repository_container_version’
‘BiocManager:::.version_bioc’
See the note in ?`:::` about the use of this operator.
* checking S3 generic/method consistency ... OK
* checking replacement functions ... OK
* checking foreign function calls ... OK
* checking R code for possible problems ... OK
* checking Rd files ... OK
* checking Rd metadata ... OK
* checking Rd cross-references ... OK
* checking for missing documentation entries ... OK
* checking for code/documentation mismatches ... OK
* checking Rd \usage sections ... OK
* checking Rd contents ... OK
* checking for unstated dependencies in examples ... OK
* checking files in ‘vignettes’ ... OK
* checking examples ... OK
Examples with CPU (user + system) or elapsed time > 5s
user system elapsed
biocBuildReport 10.774 5.223 13.458
pkgCombDependencyGain 12.551 0.720 21.988
pkgDepMetrics 7.203 0.815 16.304
class-dependencies 6.361 0.288 6.651
get_bioc_data 3.902 0.255 112.406
firstInBioc 3.225 0.245 110.722
biocDownloadStats 2.908 0.270 112.457
* checking for unstated dependencies in ‘tests’ ... OK
* checking tests ...
Running ‘testthat.R’
OK
* checking for unstated dependencies in vignettes ... OK
* checking package vignettes ... OK
* checking re-building of vignette outputs ... OK
* checking PDF version of manual ... OK
* DONE
Status: 2 NOTEs
See
‘/home/biocbuild/bbs-3.21-bioc/meat/BiocPkgTools.Rcheck/00check.log’
for details.
BiocPkgTools.Rcheck/00install.out
############################################################################## ############################################################################## ### ### Running command: ### ### /home/biocbuild/bbs-3.21-bioc/R/bin/R CMD INSTALL BiocPkgTools ### ############################################################################## ############################################################################## * installing to library ‘/home/biocbuild/bbs-3.21-bioc/R/site-library’ * installing *source* package ‘BiocPkgTools’ ... ** this is package ‘BiocPkgTools’ version ‘1.26.4’ ** using staged installation ** R ** inst ** byte-compile and prepare package for lazy loading ** help *** installing help indices ** building package indices ** installing vignettes ** testing if installed package can be loaded from temporary location ** testing if installed package can be loaded from final location ** testing if installed package keeps a record of temporary installation path * DONE (BiocPkgTools)
BiocPkgTools.Rcheck/tests/testthat.Rout
R version 4.5.1 (2025-06-13) -- "Great Square Root"
Copyright (C) 2025 The R Foundation for Statistical Computing
Platform: x86_64-pc-linux-gnu
R is free software and comes with ABSOLUTELY NO WARRANTY.
You are welcome to redistribute it under certain conditions.
Type 'license()' or 'licence()' for distribution details.
R is a collaborative project with many contributors.
Type 'contributors()' for more information and
'citation()' on how to cite R or R packages in publications.
Type 'demo()' for some demos, 'help()' for on-line help, or
'help.start()' for an HTML browser interface to help.
Type 'q()' to quit R.
> library(testthat)
> library(BiocPkgTools)
Loading required package: htmlwidgets
>
> test_check("BiocPkgTools")
trying URL 'https://bioconductor.org/packages/3.21/bioc/vignettes/a4/inst/doc/a4vignette.pdf'
Content type 'application/pdf' length 1397541 bytes (1.3 MB)
==================================================
downloaded 1.3 MB
[ FAIL 0 | WARN 2 | SKIP 0 | PASS 27 ]
[ FAIL 0 | WARN 2 | SKIP 0 | PASS 27 ]
>
> proc.time()
user system elapsed
28.186 4.501 31.708
BiocPkgTools.Rcheck/BiocPkgTools-Ex.timings
| name | user | system | elapsed | |
| activitySince | 0 | 0 | 0 | |
| anacondaDownloadStats | 2.493 | 0.072 | 3.113 | |
| biocBuildReport | 10.774 | 5.223 | 13.458 | |
| biocDownloadStats | 2.908 | 0.270 | 112.457 | |
| biocMaintained | 2.868 | 0.174 | 3.592 | |
| biocPkgList | 1.502 | 0.055 | 1.674 | |
| biocPkgRanges | 0 | 0 | 0 | |
| biocRevDepEmail | 2.436 | 0.089 | 3.176 | |
| buildPkgDependencyDataFrame | 2.533 | 0.066 | 2.822 | |
| buildPkgDependencyIgraph | 1.277 | 0.045 | 1.433 | |
| class-dependencies | 6.361 | 0.288 | 6.651 | |
| firstInBioc | 3.225 | 0.245 | 110.722 | |
| generateBiocPkgDOI | 0 | 0 | 0 | |
| getBiocVignette | 1.183 | 0.060 | 1.427 | |
| getPkgYearsInBioc | 0 | 0 | 0 | |
| get_bioc_data | 3.902 | 0.255 | 112.406 | |
| get_cre_orcids | 0.010 | 0.001 | 0.010 | |
| githubDetails | 1.478 | 0.139 | 1.840 | |
| githubURLParts | 1.176 | 0.049 | 1.334 | |
| inducedSubgraphByPkgs | 4.276 | 0.259 | 4.773 | |
| latestPkgStats | 0 | 0 | 0 | |
| orcid_table | 0.000 | 0.000 | 0.001 | |
| pkgBiocDeps | 1.196 | 0.032 | 1.228 | |
| pkgBiocRevDeps | 1.763 | 0.016 | 1.779 | |
| pkgCombDependencyGain | 12.551 | 0.720 | 21.988 | |
| pkgDepImports | 0.163 | 0.013 | 0.177 | |
| pkgDepMetrics | 7.203 | 0.815 | 16.304 | |
| pkgDownloadRank | 1.701 | 0.201 | 2.196 | |
| pkgDownloadStats | 1.076 | 0.231 | 1.421 | |
| problemPage | 0.000 | 0.000 | 0.001 | |
| repositoryStats | 0.062 | 0.000 | 0.062 | |
| subgraphByDegree | 1.167 | 0.032 | 1.377 | |