| Back to Multiple platform build/check report for BioC 3.21: simplified long |
|
This page was generated on 2025-04-22 13:15 -0400 (Tue, 22 Apr 2025).
| Hostname | OS | Arch (*) | R version | Installed pkgs |
|---|---|---|---|---|
| nebbiolo1 | Linux (Ubuntu 24.04.1 LTS) | x86_64 | 4.5.0 RC (2025-04-04 r88126) -- "How About a Twenty-Six" | 4831 |
| palomino7 | Windows Server 2022 Datacenter | x64 | 4.5.0 RC (2025-04-04 r88126 ucrt) -- "How About a Twenty-Six" | 4573 |
| lconway | macOS 12.7.1 Monterey | x86_64 | 4.5.0 RC (2025-04-04 r88126) -- "How About a Twenty-Six" | 4599 |
| kjohnson3 | macOS 13.7.1 Ventura | arm64 | 4.5.0 RC (2025-04-04 r88126) -- "How About a Twenty-Six" | 4553 |
| kunpeng2 | Linux (openEuler 24.03 LTS) | aarch64 | R Under development (unstable) (2025-02-19 r87757) -- "Unsuffered Consequences" | 4570 |
| Click on any hostname to see more info about the system (e.g. compilers) (*) as reported by 'uname -p', except on Windows and Mac OS X | ||||
| Package 162/2341 | Hostname | OS / Arch | INSTALL | BUILD | CHECK | BUILD BIN | ||||||||
| benchdamic 1.14.0 (landing page) Matteo Calgaro
| nebbiolo1 | Linux (Ubuntu 24.04.1 LTS) / x86_64 | OK | OK | OK | |||||||||
| palomino7 | Windows Server 2022 Datacenter / x64 | OK | OK | OK | OK | |||||||||
| lconway | macOS 12.7.1 Monterey / x86_64 | OK | OK | OK | OK | |||||||||
| kjohnson3 | macOS 13.7.1 Ventura / arm64 | OK | OK | OK | OK | |||||||||
| kunpeng2 | Linux (openEuler 24.03 LTS) / aarch64 | OK | OK | ERROR | ||||||||||
|
To the developers/maintainers of the benchdamic package: - Allow up to 24 hours (and sometimes 48 hours) for your latest push to git@git.bioconductor.org:packages/benchdamic.git to reflect on this report. See Troubleshooting Build Report for more information. - Use the following Renviron settings to reproduce errors and warnings. - If 'R CMD check' started to fail recently on the Linux builder(s) over a missing dependency, add the missing dependency to 'Suggests:' in your DESCRIPTION file. See Renviron.bioc for more information. |
| Package: benchdamic |
| Version: 1.14.0 |
| Command: /Library/Frameworks/R.framework/Resources/bin/R CMD check --install=check:benchdamic.install-out.txt --library=/Library/Frameworks/R.framework/Resources/library --no-vignettes --timings benchdamic_1.14.0.tar.gz |
| StartedAt: 2025-04-21 19:14:22 -0400 (Mon, 21 Apr 2025) |
| EndedAt: 2025-04-21 19:27:24 -0400 (Mon, 21 Apr 2025) |
| EllapsedTime: 782.0 seconds |
| RetCode: 0 |
| Status: OK |
| CheckDir: benchdamic.Rcheck |
| Warnings: 0 |
##############################################################################
##############################################################################
###
### Running command:
###
### /Library/Frameworks/R.framework/Resources/bin/R CMD check --install=check:benchdamic.install-out.txt --library=/Library/Frameworks/R.framework/Resources/library --no-vignettes --timings benchdamic_1.14.0.tar.gz
###
##############################################################################
##############################################################################
* using log directory ‘/Users/biocbuild/bbs-3.21-bioc/meat/benchdamic.Rcheck’
* using R version 4.5.0 RC (2025-04-04 r88126)
* using platform: x86_64-apple-darwin20
* R was compiled by
Apple clang version 14.0.0 (clang-1400.0.29.202)
GNU Fortran (GCC) 14.2.0
* running under: macOS Monterey 12.7.6
* using session charset: UTF-8
* using option ‘--no-vignettes’
* checking for file ‘benchdamic/DESCRIPTION’ ... OK
* checking extension type ... Package
* this is package ‘benchdamic’ version ‘1.14.0’
* package encoding: UTF-8
* checking package namespace information ... OK
* checking package dependencies ... INFO
Imports includes 31 non-default packages.
Importing from so many packages makes the package vulnerable to any of
them becoming unavailable. Move as many as possible to Suggests and
use conditionally.
* checking if this is a source package ... OK
* checking if there is a namespace ... OK
* checking for hidden files and directories ... OK
* checking for portable file names ... OK
* checking for sufficient/correct file permissions ... OK
* checking whether package ‘benchdamic’ can be installed ... OK
* checking installed package size ... OK
* checking package directory ... OK
* checking ‘build’ directory ... OK
* checking DESCRIPTION meta-information ... OK
* checking top-level files ... OK
* checking for left-over files ... OK
* checking index information ... OK
* checking package subdirectories ... OK
* checking code files for non-ASCII characters ... OK
* checking R files for syntax errors ... OK
* checking whether the package can be loaded ... OK
* checking whether the package can be loaded with stated dependencies ... OK
* checking whether the package can be unloaded cleanly ... OK
* checking whether the namespace can be loaded with stated dependencies ... OK
* checking whether the namespace can be unloaded cleanly ... OK
* checking dependencies in R code ... NOTE
Namespace in Imports field not imported from: ‘microbiome’
All declared Imports should be used.
* checking S3 generic/method consistency ... OK
* checking replacement functions ... OK
* checking foreign function calls ... OK
* checking R code for possible problems ... OK
* checking Rd files ... NOTE
checkRd: (-1) DA_Seurat.Rd:29-31: Lost braces in \itemize; meant \describe ?
checkRd: (-1) DA_Seurat.Rd:32: Lost braces in \itemize; meant \describe ?
checkRd: (-1) DA_Seurat.Rd:33-36: Lost braces in \itemize; meant \describe ?
checkRd: (-1) DA_Seurat.Rd:37: Lost braces in \itemize; meant \describe ?
checkRd: (-1) DA_Seurat.Rd:42-44: Lost braces in \itemize; meant \describe ?
checkRd: (-1) DA_Seurat.Rd:45-46: Lost braces in \itemize; meant \describe ?
checkRd: (-1) DA_Seurat.Rd:47-56: Lost braces in \itemize; meant \describe ?
checkRd: (-1) DA_Seurat.Rd:57-58: Lost braces in \itemize; meant \describe ?
checkRd: (-1) DA_Seurat.Rd:59-61: Lost braces in \itemize; meant \describe ?
checkRd: (-1) DA_Seurat.Rd:62-63: Lost braces in \itemize; meant \describe ?
checkRd: (-1) DA_Seurat.Rd:64-67: Lost braces in \itemize; meant \describe ?
checkRd: (-1) DA_Seurat.Rd:68-70: Lost braces in \itemize; meant \describe ?
checkRd: (-1) DA_Seurat.Rd:71-73: Lost braces in \itemize; meant \describe ?
checkRd: (-1) areaCAT.Rd:18: Lost braces in \itemize; \value handles \item{}{} directly
checkRd: (-1) areaCAT.Rd:19-20: Lost braces in \itemize; \value handles \item{}{} directly
checkRd: (-1) areaCAT.Rd:21: Lost braces in \itemize; \value handles \item{}{} directly
checkRd: (-1) areaCAT.Rd:22: Lost braces in \itemize; \value handles \item{}{} directly
checkRd: (-1) areaCAT.Rd:23: Lost braces in \itemize; \value handles \item{}{} directly
checkRd: (-1) areaCAT.Rd:24-28: Lost braces in \itemize; \value handles \item{}{} directly
checkRd: (-1) areaCAT.Rd:29-30: Lost braces in \itemize; \value handles \item{}{} directly
checkRd: (-1) areaCAT.Rd:31-32: Lost braces in \itemize; \value handles \item{}{} directly
checkRd: (-1) createConcordance.Rd:30: Lost braces in \itemize; \value handles \item{}{} directly
checkRd: (-1) createConcordance.Rd:31-32: Lost braces in \itemize; \value handles \item{}{} directly
checkRd: (-1) createConcordance.Rd:33: Lost braces in \itemize; \value handles \item{}{} directly
checkRd: (-1) createConcordance.Rd:34: Lost braces in \itemize; \value handles \item{}{} directly
checkRd: (-1) createConcordance.Rd:35: Lost braces in \itemize; \value handles \item{}{} directly
checkRd: (-1) createConcordance.Rd:36-40: Lost braces in \itemize; \value handles \item{}{} directly
checkRd: (-1) createEnrichment.Rd:80-81: Lost braces in \itemize; \value handles \item{}{} directly
checkRd: (-1) createEnrichment.Rd:82: Lost braces in \itemize; \value handles \item{}{} directly
checkRd: (-1) createEnrichment.Rd:83-84: Lost braces in \itemize; \value handles \item{}{} directly
checkRd: (-1) createEnrichment.Rd:85-86: Lost braces in \itemize; \value handles \item{}{} directly
checkRd: (-1) createTIEC.Rd:17-19: Lost braces in \itemize; \value handles \item{}{} directly
checkRd: (-1) createTIEC.Rd:20-23: Lost braces in \itemize; \value handles \item{}{} directly
checkRd: (-1) createTIEC.Rd:24-27: Lost braces in \itemize; \value handles \item{}{} directly
checkRd: (-1) createTIEC.Rd:28-30: Lost braces in \itemize; \value handles \item{}{} directly
checkRd: (-1) createTIEC.Rd:31-34: Lost braces in \itemize; \value handles \item{}{} directly
checkRd: (-1) enrichmentTest.Rd:25-26: Lost braces in \itemize; \value handles \item{}{} directly
checkRd: (-1) enrichmentTest.Rd:27: Lost braces in \itemize; \value handles \item{}{} directly
checkRd: (-1) enrichmentTest.Rd:28-29: Lost braces in \itemize; \value handles \item{}{} directly
checkRd: (-1) enrichmentTest.Rd:30-31: Lost braces in \itemize; \value handles \item{}{} directly
checkRd: (-1) extractDA.Rd:62-63: Lost braces in \itemize; \value handles \item{}{} directly
checkRd: (-1) extractDA.Rd:64-66: Lost braces in \itemize; \value handles \item{}{} directly
checkRd: (-1) extractDA.Rd:67-70: Lost braces in \itemize; \value handles \item{}{} directly
checkRd: (-1) getDA.Rd:58-59: Lost braces in \itemize; \value handles \item{}{} directly
checkRd: (-1) getDA.Rd:60-62: Lost braces in \itemize; \value handles \item{}{} directly
checkRd: (-1) getDA.Rd:63-66: Lost braces in \itemize; \value handles \item{}{} directly
checkRd: (-1) get_counts_metadata.Rd:32-33: Lost braces in \itemize; \value handles \item{}{} directly
checkRd: (-1) get_counts_metadata.Rd:34-35: Lost braces in \itemize; \value handles \item{}{} directly
checkRd: (-1) get_counts_metadata.Rd:36-37: Lost braces in \itemize; \value handles \item{}{} directly
checkRd: (-1) plotConcordance.Rd:21-23: Lost braces in \itemize; \value handles \item{}{} directly
checkRd: (-1) plotConcordance.Rd:24-25: Lost braces in \itemize; \value handles \item{}{} directly
checkRd: (-1) set_Seurat.Rd:26-28: Lost braces in \itemize; meant \describe ?
checkRd: (-1) set_Seurat.Rd:29-30: Lost braces in \itemize; meant \describe ?
checkRd: (-1) set_Seurat.Rd:31-40: Lost braces in \itemize; meant \describe ?
checkRd: (-1) set_Seurat.Rd:41-42: Lost braces in \itemize; meant \describe ?
checkRd: (-1) set_Seurat.Rd:43-45: Lost braces in \itemize; meant \describe ?
checkRd: (-1) set_Seurat.Rd:46-47: Lost braces in \itemize; meant \describe ?
checkRd: (-1) set_Seurat.Rd:48-51: Lost braces in \itemize; meant \describe ?
checkRd: (-1) set_Seurat.Rd:52-54: Lost braces in \itemize; meant \describe ?
checkRd: (-1) set_Seurat.Rd:55-57: Lost braces in \itemize; meant \describe ?
checkRd: (-1) set_Seurat.Rd:64-66: Lost braces in \itemize; meant \describe ?
checkRd: (-1) set_Seurat.Rd:67: Lost braces in \itemize; meant \describe ?
checkRd: (-1) set_Seurat.Rd:68-71: Lost braces in \itemize; meant \describe ?
checkRd: (-1) set_Seurat.Rd:72: Lost braces in \itemize; meant \describe ?
* checking Rd metadata ... OK
* checking Rd cross-references ... NOTE
Non-topic package-anchored link(s) in Rd file 'norm_DESeq2.Rd':
‘[DESeq2]{estimateSizeFactors}’
See section 'Cross-references' in the 'Writing R Extensions' manual.
Found the following Rd file(s) with Rd \link{} targets missing package
anchors:
fitDM.Rd: MGLMreg
fitHURDLE.Rd: zlm
fitNB.Rd: glmFit
fitZIG.Rd: fitZig
fitZINB.Rd: zinbFit
norm_edgeR.Rd: calcNormFactors
Please provide package anchors for all Rd \link{} targets not in the
package itself and the base packages.
* checking for missing documentation entries ... OK
* checking for code/documentation mismatches ... OK
* checking Rd \usage sections ... OK
* checking Rd contents ... OK
* checking for unstated dependencies in examples ... OK
* checking contents of ‘data’ directory ... OK
* checking data for non-ASCII characters ... OK
* checking LazyData ... OK
* checking data for ASCII and uncompressed saves ... OK
* checking files in ‘vignettes’ ... OK
* checking examples ... OK
Examples with CPU (user + system) or elapsed time > 5s
user system elapsed
DA_ALDEx2 6.120 1.152 7.367
areaCAT 5.815 0.143 10.071
DA_DESeq2 5.380 0.072 7.517
plotConcordance 4.866 0.116 6.222
createConcordance 4.325 0.103 8.577
runSplits 3.171 0.080 6.067
plotKS 2.960 0.229 7.575
DA_Seurat 2.747 0.055 5.289
* checking for unstated dependencies in ‘tests’ ... OK
* checking tests ...
Running ‘testthat.R’
OK
* checking for unstated dependencies in vignettes ... OK
* checking package vignettes ... OK
* checking running R code from vignettes ... SKIPPED
* checking re-building of vignette outputs ... SKIPPED
* checking PDF version of manual ... OK
* DONE
Status: 3 NOTEs
See
‘/Users/biocbuild/bbs-3.21-bioc/meat/benchdamic.Rcheck/00check.log’
for details.
benchdamic.Rcheck/00install.out
############################################################################## ############################################################################## ### ### Running command: ### ### /Library/Frameworks/R.framework/Resources/bin/R CMD INSTALL benchdamic ### ############################################################################## ############################################################################## * installing to library ‘/Library/Frameworks/R.framework/Versions/4.5-x86_64/Resources/library’ * installing *source* package ‘benchdamic’ ... ** this is package ‘benchdamic’ version ‘1.14.0’ ** using staged installation ** R ** data *** moving datasets to lazyload DB ** inst ** byte-compile and prepare package for lazy loading Found more than one class "dist" in cache; using the first, from namespace 'BiocGenerics' Also defined by ‘spam’ ** help *** installing help indices ** building package indices ** installing vignettes ** testing if installed package can be loaded from temporary location Found more than one class "dist" in cache; using the first, from namespace 'BiocGenerics' Also defined by ‘spam’ ** testing if installed package can be loaded from final location Found more than one class "dist" in cache; using the first, from namespace 'BiocGenerics' Also defined by ‘spam’ ** testing if installed package keeps a record of temporary installation path * DONE (benchdamic)
benchdamic.Rcheck/tests/testthat.Rout
R version 4.5.0 RC (2025-04-04 r88126) -- "How About a Twenty-Six"
Copyright (C) 2025 The R Foundation for Statistical Computing
Platform: x86_64-apple-darwin20
R is free software and comes with ABSOLUTELY NO WARRANTY.
You are welcome to redistribute it under certain conditions.
Type 'license()' or 'licence()' for distribution details.
R is a collaborative project with many contributors.
Type 'contributors()' for more information and
'citation()' on how to cite R or R packages in publications.
Type 'demo()' for some demos, 'help()' for on-line help, or
'help.start()' for an HTML browser interface to help.
Type 'q()' to quit R.
> library(testthat)
> library(benchdamic)
Found more than one class "dist" in cache; using the first, from namespace 'BiocGenerics'
Also defined by 'spam'
>
> test_check("benchdamic")
|------------(25%)----------(50%)----------(75%)----------|
|------------(25%)----------(50%)----------(75%)----------|
|------------(25%)----------(50%)----------(75%)----------|
|------------(25%)----------(50%)----------(75%)----------|
|------------(25%)----------(50%)----------(75%)----------|
[ FAIL 0 | WARN 0 | SKIP 1 | PASS 322 ]
══ Skipped tests (1) ═══════════════════════════════════════════════════════════
• empty test (1): 'test_DA_paired.R:3:1'
[ FAIL 0 | WARN 0 | SKIP 1 | PASS 322 ]
>
> proc.time()
user system elapsed
71.882 6.352 155.075
benchdamic.Rcheck/benchdamic-Ex.timings
| name | user | system | elapsed | |
| CAT | 0.006 | 0.001 | 0.007 | |
| DA_ALDEx2 | 6.120 | 1.152 | 7.367 | |
| DA_ANCOM | 0.860 | 0.073 | 0.948 | |
| DA_DESeq2 | 5.380 | 0.072 | 7.517 | |
| DA_MAST | 2.031 | 0.054 | 3.706 | |
| DA_Maaslin2 | 0.406 | 0.066 | 0.811 | |
| DA_NOISeq | 1.780 | 0.036 | 3.086 | |
| DA_Seurat | 2.747 | 0.055 | 5.289 | |
| DA_ZicoSeq | 0.892 | 0.039 | 1.906 | |
| DA_basic | 0.045 | 0.004 | 0.088 | |
| DA_corncob | 0.856 | 0.084 | 1.357 | |
| DA_dearseq | 0.063 | 0.003 | 0.070 | |
| DA_edgeR | 0.213 | 0.009 | 0.225 | |
| DA_limma | 0.087 | 0.004 | 0.092 | |
| DA_linda | 0.059 | 0.005 | 0.064 | |
| DA_metagenomeSeq | 0.287 | 0.008 | 0.307 | |
| DA_mixMC | 0.798 | 0.015 | 0.827 | |
| RMSE | 0.001 | 0.000 | 0.002 | |
| addKnowledge | 0.208 | 0.011 | 0.229 | |
| areaCAT | 5.815 | 0.143 | 10.071 | |
| checkNormalization | 0.001 | 0.000 | 0.000 | |
| createColors | 0.003 | 0.001 | 0.008 | |
| createConcordance | 4.325 | 0.103 | 8.577 | |
| createEnrichment | 0.379 | 0.042 | 0.701 | |
| createMocks | 0.001 | 0.002 | 0.004 | |
| createPositives | 1.202 | 0.022 | 1.855 | |
| createSplits | 0.050 | 0.003 | 0.088 | |
| createTIEC | 2.602 | 0.054 | 3.847 | |
| enrichmentTest | 0.102 | 0.004 | 0.181 | |
| extractDA | 0.147 | 0.002 | 0.153 | |
| extractStatistics | 0.147 | 0.003 | 0.177 | |
| fitDM | 0.023 | 0.002 | 0.026 | |
| fitHURDLE | 0.508 | 0.005 | 0.567 | |
| fitModels | 2.336 | 0.065 | 2.936 | |
| fitNB | 0.040 | 0.000 | 0.042 | |
| fitZIG | 0.048 | 0.001 | 0.049 | |
| fitZINB | 0.451 | 0.005 | 0.584 | |
| getDA | 0.071 | 0.007 | 0.129 | |
| getPositives | 0.107 | 0.005 | 0.134 | |
| getStatistics | 0.094 | 0.008 | 0.159 | |
| get_counts_metadata | 0.153 | 0.004 | 0.186 | |
| iterative_ordering | 0.010 | 0.001 | 0.043 | |
| meanDifferences | 0.003 | 0.001 | 0.002 | |
| norm_CSS | 0.072 | 0.001 | 0.098 | |
| norm_DESeq2 | 0.397 | 0.003 | 0.430 | |
| norm_TSS | 0.026 | 0.001 | 0.027 | |
| norm_edgeR | 0.031 | 0.001 | 0.033 | |
| plotConcordance | 4.866 | 0.116 | 6.222 | |
| plotContingency | 0.925 | 0.038 | 1.160 | |
| plotEnrichment | 0.924 | 0.017 | 1.046 | |
| plotFDR | 2.157 | 0.037 | 2.225 | |
| plotFPR | 2.357 | 0.066 | 3.459 | |
| plotKS | 2.960 | 0.229 | 7.575 | |
| plotLogP | 1.940 | 0.055 | 2.517 | |
| plotMD | 3.327 | 0.079 | 4.629 | |
| plotMutualFindings | 1.347 | 0.027 | 1.910 | |
| plotPositives | 0.731 | 0.012 | 0.960 | |
| plotQQ | 1.610 | 0.031 | 2.918 | |
| plotRMSE | 2.377 | 0.042 | 3.828 | |
| prepareObserved | 0.001 | 0.001 | 0.002 | |
| runDA | 0.512 | 0.011 | 0.851 | |
| runMocks | 1.075 | 0.023 | 1.675 | |
| runNormalizations | 0.437 | 0.003 | 0.468 | |
| runSplits | 3.171 | 0.080 | 6.067 | |
| setNormalizations | 0.000 | 0.001 | 0.001 | |
| set_ALDEx2 | 0.005 | 0.001 | 0.015 | |
| set_ANCOM | 0.007 | 0.003 | 0.014 | |
| set_DESeq2 | 0.008 | 0.001 | 0.008 | |
| set_MAST | 0.003 | 0.001 | 0.004 | |
| set_Maaslin2 | 0.005 | 0.001 | 0.008 | |
| set_NOISeq | 0.004 | 0.001 | 0.004 | |
| set_Seurat | 0.008 | 0.000 | 0.009 | |
| set_ZicoSeq | 0.006 | 0.001 | 0.008 | |
| set_basic | 0.002 | 0.000 | 0.003 | |
| set_corncob | 0.005 | 0.001 | 0.007 | |
| set_dearseq | 0.002 | 0.000 | 0.003 | |
| set_edgeR | 0.012 | 0.001 | 0.015 | |
| set_limma | 0.010 | 0.001 | 0.011 | |
| set_linda | 0.006 | 0.001 | 0.007 | |
| set_metagenomeSeq | 0.006 | 0.000 | 0.007 | |
| set_mixMC | 0.004 | 0.000 | 0.004 | |
| weights_ZINB | 0.603 | 0.009 | 0.753 | |