| Back to Multiple platform build/check report for BioC 3.22: simplified long |
|
This page was generated on 2025-11-01 12:04 -0400 (Sat, 01 Nov 2025).
| Hostname | OS | Arch (*) | R version | Installed pkgs |
|---|---|---|---|---|
| nebbiolo2 | Linux (Ubuntu 24.04.3 LTS) | x86_64 | 4.5.1 Patched (2025-08-23 r88802) -- "Great Square Root" | 4901 |
| lconway | macOS 12.7.6 Monterey | x86_64 | 4.5.1 Patched (2025-09-10 r88807) -- "Great Square Root" | 4691 |
| kjohnson3 | macOS 13.7.7 Ventura | arm64 | 4.5.1 Patched (2025-09-10 r88807) -- "Great Square Root" | 4637 |
| Click on any hostname to see more info about the system (e.g. compilers) (*) as reported by 'uname -p', except on Windows and Mac OS X | ||||
| Package 165/2361 | Hostname | OS / Arch | INSTALL | BUILD | CHECK | BUILD BIN | ||||||||
| benchdamic 1.16.0 (landing page) Matteo Calgaro
| nebbiolo2 | Linux (Ubuntu 24.04.3 LTS) / x86_64 | OK | OK | OK | |||||||||
| lconway | macOS 12.7.6 Monterey / x86_64 | OK | OK | OK | OK | |||||||||
| kjohnson3 | macOS 13.7.7 Ventura / arm64 | OK | OK | OK | OK | |||||||||
|
To the developers/maintainers of the benchdamic package: - Allow up to 24 hours (and sometimes 48 hours) for your latest push to git@git.bioconductor.org:packages/benchdamic.git to reflect on this report. See Troubleshooting Build Report for more information. - Use the following Renviron settings to reproduce errors and warnings. - If 'R CMD check' started to fail recently on the Linux builder(s) over a missing dependency, add the missing dependency to 'Suggests:' in your DESCRIPTION file. See Renviron.bioc for more information. |
| Package: benchdamic |
| Version: 1.16.0 |
| Command: /Library/Frameworks/R.framework/Resources/bin/R CMD check --install=check:benchdamic.install-out.txt --library=/Library/Frameworks/R.framework/Resources/library --no-vignettes --timings benchdamic_1.16.0.tar.gz |
| StartedAt: 2025-10-31 18:41:46 -0400 (Fri, 31 Oct 2025) |
| EndedAt: 2025-10-31 18:45:50 -0400 (Fri, 31 Oct 2025) |
| EllapsedTime: 243.9 seconds |
| RetCode: 0 |
| Status: OK |
| CheckDir: benchdamic.Rcheck |
| Warnings: 0 |
##############################################################################
##############################################################################
###
### Running command:
###
### /Library/Frameworks/R.framework/Resources/bin/R CMD check --install=check:benchdamic.install-out.txt --library=/Library/Frameworks/R.framework/Resources/library --no-vignettes --timings benchdamic_1.16.0.tar.gz
###
##############################################################################
##############################################################################
* using log directory ‘/Users/biocbuild/bbs-3.22-bioc/meat/benchdamic.Rcheck’
* using R version 4.5.1 Patched (2025-09-10 r88807)
* using platform: aarch64-apple-darwin20
* R was compiled by
Apple clang version 16.0.0 (clang-1600.0.26.6)
GNU Fortran (GCC) 14.2.0
* running under: macOS Ventura 13.7.7
* using session charset: UTF-8
* using option ‘--no-vignettes’
* checking for file ‘benchdamic/DESCRIPTION’ ... OK
* checking extension type ... Package
* this is package ‘benchdamic’ version ‘1.16.0’
* package encoding: UTF-8
* checking package namespace information ... OK
* checking package dependencies ... INFO
Imports includes 32 non-default packages.
Importing from so many packages makes the package vulnerable to any of
them becoming unavailable. Move as many as possible to Suggests and
use conditionally.
* checking if this is a source package ... OK
* checking if there is a namespace ... OK
* checking for hidden files and directories ... OK
* checking for portable file names ... OK
* checking for sufficient/correct file permissions ... OK
* checking whether package ‘benchdamic’ can be installed ... OK
* checking installed package size ... OK
* checking package directory ... OK
* checking ‘build’ directory ... OK
* checking DESCRIPTION meta-information ... OK
* checking top-level files ... OK
* checking for left-over files ... OK
* checking index information ... OK
* checking package subdirectories ... OK
* checking code files for non-ASCII characters ... OK
* checking R files for syntax errors ... OK
* checking whether the package can be loaded ... OK
* checking whether the package can be loaded with stated dependencies ... OK
* checking whether the package can be unloaded cleanly ... OK
* checking whether the namespace can be loaded with stated dependencies ... OK
* checking whether the namespace can be unloaded cleanly ... OK
* checking dependencies in R code ... NOTE
Namespace in Imports field not imported from: ‘microbiome’
All declared Imports should be used.
* checking S3 generic/method consistency ... OK
* checking replacement functions ... OK
* checking foreign function calls ... OK
* checking R code for possible problems ... OK
* checking Rd files ... OK
* checking Rd metadata ... OK
* checking Rd cross-references ... NOTE
Non-topic package-anchored link(s) in Rd file 'norm_DESeq2.Rd':
‘[DESeq2]{estimateSizeFactors}’
See section 'Cross-references' in the 'Writing R Extensions' manual.
* checking for missing documentation entries ... OK
* checking for code/documentation mismatches ... OK
* checking Rd \usage sections ... OK
* checking Rd contents ... OK
* checking for unstated dependencies in examples ... OK
* checking contents of ‘data’ directory ... OK
* checking data for non-ASCII characters ... OK
* checking LazyData ... OK
* checking data for ASCII and uncompressed saves ... OK
* checking files in ‘vignettes’ ... OK
* checking examples ... OK
* checking for unstated dependencies in ‘tests’ ... OK
* checking tests ...
Running ‘testthat.R’
OK
* checking for unstated dependencies in vignettes ... OK
* checking package vignettes ... OK
* checking running R code from vignettes ... SKIPPED
* checking re-building of vignette outputs ... SKIPPED
* checking PDF version of manual ... OK
* DONE
Status: 2 NOTEs
See
‘/Users/biocbuild/bbs-3.22-bioc/meat/benchdamic.Rcheck/00check.log’
for details.
benchdamic.Rcheck/00install.out
############################################################################## ############################################################################## ### ### Running command: ### ### /Library/Frameworks/R.framework/Resources/bin/R CMD INSTALL benchdamic ### ############################################################################## ############################################################################## * installing to library ‘/Library/Frameworks/R.framework/Versions/4.5-arm64/Resources/library’ * installing *source* package ‘benchdamic’ ... ** this is package ‘benchdamic’ version ‘1.16.0’ ** using staged installation ** R ** data *** moving datasets to lazyload DB ** inst ** byte-compile and prepare package for lazy loading Found more than one class "dist" in cache; using the first, from namespace 'BiocGenerics' Also defined by ‘spam’ ** help *** installing help indices ** building package indices ** installing vignettes ** testing if installed package can be loaded from temporary location Found more than one class "dist" in cache; using the first, from namespace 'BiocGenerics' Also defined by ‘spam’ ** testing if installed package can be loaded from final location Found more than one class "dist" in cache; using the first, from namespace 'BiocGenerics' Also defined by ‘spam’ ** testing if installed package keeps a record of temporary installation path * DONE (benchdamic)
benchdamic.Rcheck/tests/testthat.Rout
R version 4.5.1 Patched (2025-09-10 r88807) -- "Great Square Root"
Copyright (C) 2025 The R Foundation for Statistical Computing
Platform: aarch64-apple-darwin20
R is free software and comes with ABSOLUTELY NO WARRANTY.
You are welcome to redistribute it under certain conditions.
Type 'license()' or 'licence()' for distribution details.
R is a collaborative project with many contributors.
Type 'contributors()' for more information and
'citation()' on how to cite R or R packages in publications.
Type 'demo()' for some demos, 'help()' for on-line help, or
'help.start()' for an HTML browser interface to help.
Type 'q()' to quit R.
> library(testthat)
> library(benchdamic)
Found more than one class "dist" in cache; using the first, from namespace 'BiocGenerics'
Also defined by 'spam'
>
> test_check("benchdamic")
|------------(25%)----------(50%)----------(75%)----------|
|------------(25%)----------(50%)----------(75%)----------|
|------------(25%)----------(50%)----------(75%)----------|
|------------(25%)----------(50%)----------(75%)----------|
|------------(25%)----------(50%)----------(75%)----------|
[ FAIL 0 | WARN 0 | SKIP 0 | PASS 334 ]
>
> proc.time()
user system elapsed
24.974 1.360 29.821
benchdamic.Rcheck/benchdamic-Ex.timings
| name | user | system | elapsed | |
| CAT | 0.002 | 0.000 | 0.001 | |
| DA_ALDEx2 | 1.402 | 0.267 | 1.697 | |
| DA_ANCOM | 0.229 | 0.006 | 0.237 | |
| DA_DESeq2 | 0.920 | 0.013 | 0.934 | |
| DA_MAST | 0.394 | 0.009 | 0.404 | |
| DA_Maaslin2 | 0.082 | 0.012 | 0.105 | |
| DA_NOISeq | 0.667 | 0.005 | 0.684 | |
| DA_Seurat | 0.819 | 0.015 | 0.837 | |
| DA_ZicoSeq | 0.219 | 0.008 | 0.230 | |
| DA_basic | 0.010 | 0.002 | 0.011 | |
| DA_corncob | 0.208 | 0.016 | 0.244 | |
| DA_dearseq | 0.022 | 0.001 | 0.024 | |
| DA_edgeR | 0.064 | 0.003 | 0.068 | |
| DA_limma | 0.026 | 0.002 | 0.028 | |
| DA_linda | 0.016 | 0.001 | 0.017 | |
| DA_maaslin3 | 0.171 | 0.006 | 0.184 | |
| DA_metagenomeSeq | 0.098 | 0.004 | 0.105 | |
| DA_mixMC | 0.179 | 0.002 | 0.181 | |
| RMSE | 0.001 | 0.000 | 0.000 | |
| addKnowledge | 0.056 | 0.003 | 0.059 | |
| areaCAT | 1.359 | 0.038 | 1.934 | |
| checkNormalization | 0.001 | 0.000 | 0.000 | |
| createColors | 0.002 | 0.000 | 0.002 | |
| createConcordance | 1.859 | 0.036 | 3.045 | |
| createEnrichment | 0.105 | 0.004 | 0.174 | |
| createMocks | 0.002 | 0.001 | 0.017 | |
| createPositives | 0.436 | 0.012 | 0.728 | |
| createSplits | 0.013 | 0.001 | 0.025 | |
| createTIEC | 1.122 | 0.017 | 1.475 | |
| enrichmentTest | 0.039 | 0.003 | 0.110 | |
| extractDA | 0.073 | 0.003 | 0.129 | |
| extractStatistics | 0.056 | 0.002 | 0.097 | |
| fitDM | 0.011 | 0.001 | 0.012 | |
| fitHURDLE | 0.222 | 0.001 | 0.401 | |
| fitModels | 0.785 | 0.012 | 1.254 | |
| fitNB | 0.019 | 0.000 | 0.026 | |
| fitZIG | 0.016 | 0.001 | 0.022 | |
| fitZINB | 0.159 | 0.001 | 0.267 | |
| getDA | 0.031 | 0.002 | 0.051 | |
| getPositives | 0.027 | 0.002 | 0.043 | |
| getStatistics | 0.025 | 0.004 | 0.042 | |
| get_counts_metadata | 0.149 | 0.003 | 0.268 | |
| iterative_ordering | 0.006 | 0.001 | 0.011 | |
| meanDifferences | 0.000 | 0.000 | 0.001 | |
| norm_CSS | 0.028 | 0.000 | 0.044 | |
| norm_DESeq2 | 0.167 | 0.000 | 0.287 | |
| norm_TSS | 0.01 | 0.00 | 0.02 | |
| norm_edgeR | 0.018 | 0.000 | 0.024 | |
| plotConcordance | 2.031 | 0.031 | 3.248 | |
| plotContingency | 0.466 | 0.006 | 0.678 | |
| plotEnrichment | 0.501 | 0.006 | 0.813 | |
| plotFDR | 1.049 | 0.011 | 1.682 | |
| plotFPR | 1.052 | 0.014 | 1.714 | |
| plotKS | 1.175 | 0.016 | 1.839 | |
| plotLogP | 0.925 | 0.012 | 1.388 | |
| plotMD | 1.425 | 0.012 | 2.302 | |
| plotMutualFindings | 0.602 | 0.007 | 0.989 | |
| plotPositives | 0.310 | 0.004 | 0.519 | |
| plotQQ | 1.089 | 0.014 | 1.630 | |
| plotRMSE | 1.003 | 0.014 | 1.416 | |
| prepareObserved | 0.000 | 0.000 | 0.001 | |
| runDA | 0.184 | 0.002 | 0.307 | |
| runMocks | 0.245 | 0.003 | 0.440 | |
| runNormalizations | 0.219 | 0.002 | 0.370 | |
| runSplits | 1.449 | 0.021 | 2.304 | |
| setNormalizations | 0.001 | 0.001 | 0.001 | |
| set_ALDEx2 | 0.005 | 0.001 | 0.006 | |
| set_ANCOM | 0.004 | 0.000 | 0.011 | |
| set_DESeq2 | 0.002 | 0.000 | 0.002 | |
| set_MAST | 0.001 | 0.000 | 0.001 | |
| set_Maaslin2 | 0.002 | 0.000 | 0.002 | |
| set_NOISeq | 0.001 | 0.001 | 0.008 | |
| set_Seurat | 0.005 | 0.000 | 0.007 | |
| set_ZicoSeq | 0.003 | 0.000 | 0.005 | |
| set_basic | 0.000 | 0.000 | 0.001 | |
| set_corncob | 0.002 | 0.001 | 0.001 | |
| set_dearseq | 0.000 | 0.000 | 0.001 | |
| set_edgeR | 0.004 | 0.000 | 0.004 | |
| set_limma | 0.003 | 0.000 | 0.003 | |
| set_linda | 0.003 | 0.000 | 0.004 | |
| set_maaslin3 | 0.005 | 0.001 | 0.018 | |
| set_metagenomeSeq | 0.001 | 0.000 | 0.002 | |
| set_mixMC | 0.000 | 0.000 | 0.001 | |
| weights_ZINB | 0.203 | 0.002 | 0.319 | |