| Back to Multiple platform build/check report for BioC 3.22: simplified long |
|
This page was generated on 2025-11-24 12:03 -0500 (Mon, 24 Nov 2025).
| Hostname | OS | Arch (*) | R version | Installed pkgs |
|---|---|---|---|---|
| nebbiolo2 | Linux (Ubuntu 24.04.3 LTS) | x86_64 | 4.5.2 (2025-10-31) -- "[Not] Part in a Rumble" | 4873 |
| merida1 | macOS 12.7.6 Monterey | x86_64 | 4.5.2 Patched (2025-11-05 r88990) -- "[Not] Part in a Rumble" | 4654 |
| kjohnson1 | macOS 13.7.5 Ventura | arm64 | 4.5.2 Patched (2025-11-04 r88984) -- "[Not] Part in a Rumble" | 4600 |
| taishan | Linux (openEuler 24.03 LTS) | aarch64 | 4.5.0 (2025-04-11) -- "How About a Twenty-Six" | 4668 |
| Click on any hostname to see more info about the system (e.g. compilers) (*) as reported by 'uname -p', except on Windows and Mac OS X | ||||
| Package 165/2361 | Hostname | OS / Arch | INSTALL | BUILD | CHECK | BUILD BIN | ||||||||
| benchdamic 1.16.0 (landing page) Matteo Calgaro
| nebbiolo2 | Linux (Ubuntu 24.04.3 LTS) / x86_64 | OK | OK | OK | |||||||||
| merida1 | macOS 12.7.6 Monterey / x86_64 | OK | TIMEOUT | skipped | skipped | |||||||||
| kjohnson1 | macOS 13.7.5 Ventura / arm64 | OK | OK | OK | OK | |||||||||
| taishan | Linux (openEuler 24.03 LTS) / aarch64 | OK | OK | ERROR | ||||||||||
|
To the developers/maintainers of the benchdamic package: - Allow up to 24 hours (and sometimes 48 hours) for your latest push to git@git.bioconductor.org:packages/benchdamic.git to reflect on this report. See Troubleshooting Build Report for more information. - Use the following Renviron settings to reproduce errors and warnings. - If 'R CMD check' started to fail recently on the Linux builder(s) over a missing dependency, add the missing dependency to 'Suggests:' in your DESCRIPTION file. See Renviron.bioc for more information. |
| Package: benchdamic |
| Version: 1.16.0 |
| Command: /home/biocbuild/bbs-3.22-bioc/R/bin/R CMD check --install=check:benchdamic.install-out.txt --library=/home/biocbuild/bbs-3.22-bioc/R/site-library --timings benchdamic_1.16.0.tar.gz |
| StartedAt: 2025-11-20 22:12:25 -0500 (Thu, 20 Nov 2025) |
| EndedAt: 2025-11-20 22:45:41 -0500 (Thu, 20 Nov 2025) |
| EllapsedTime: 1995.8 seconds |
| RetCode: 0 |
| Status: OK |
| CheckDir: benchdamic.Rcheck |
| Warnings: 0 |
##############################################################################
##############################################################################
###
### Running command:
###
### /home/biocbuild/bbs-3.22-bioc/R/bin/R CMD check --install=check:benchdamic.install-out.txt --library=/home/biocbuild/bbs-3.22-bioc/R/site-library --timings benchdamic_1.16.0.tar.gz
###
##############################################################################
##############################################################################
* using log directory ‘/home/biocbuild/bbs-3.22-bioc/meat/benchdamic.Rcheck’
* using R version 4.5.2 (2025-10-31)
* using platform: x86_64-pc-linux-gnu
* R was compiled by
gcc (Ubuntu 13.3.0-6ubuntu2~24.04) 13.3.0
GNU Fortran (Ubuntu 13.3.0-6ubuntu2~24.04) 13.3.0
* running under: Ubuntu 24.04.3 LTS
* using session charset: UTF-8
* checking for file ‘benchdamic/DESCRIPTION’ ... OK
* checking extension type ... Package
* this is package ‘benchdamic’ version ‘1.16.0’
* package encoding: UTF-8
* checking package namespace information ... OK
* checking package dependencies ... INFO
Imports includes 32 non-default packages.
Importing from so many packages makes the package vulnerable to any of
them becoming unavailable. Move as many as possible to Suggests and
use conditionally.
* checking if this is a source package ... OK
* checking if there is a namespace ... OK
* checking for hidden files and directories ... OK
* checking for portable file names ... OK
* checking for sufficient/correct file permissions ... OK
* checking whether package ‘benchdamic’ can be installed ... OK
* checking installed package size ... OK
* checking package directory ... OK
* checking ‘build’ directory ... OK
* checking DESCRIPTION meta-information ... OK
* checking top-level files ... OK
* checking for left-over files ... OK
* checking index information ... OK
* checking package subdirectories ... OK
* checking code files for non-ASCII characters ... OK
* checking R files for syntax errors ... OK
* checking whether the package can be loaded ... OK
* checking whether the package can be loaded with stated dependencies ... OK
* checking whether the package can be unloaded cleanly ... OK
* checking whether the namespace can be loaded with stated dependencies ... OK
* checking whether the namespace can be unloaded cleanly ... OK
* checking loading without being on the library search path ... OK
* checking dependencies in R code ... NOTE
Namespace in Imports field not imported from: ‘microbiome’
All declared Imports should be used.
* checking S3 generic/method consistency ... OK
* checking replacement functions ... OK
* checking foreign function calls ... OK
* checking R code for possible problems ... OK
* checking Rd files ... OK
* checking Rd metadata ... OK
* checking Rd cross-references ... NOTE
Non-topic package-anchored link(s) in Rd file 'norm_DESeq2.Rd':
‘[DESeq2]{estimateSizeFactors}’
See section 'Cross-references' in the 'Writing R Extensions' manual.
* checking for missing documentation entries ... OK
* checking for code/documentation mismatches ... OK
* checking Rd \usage sections ... OK
* checking Rd contents ... OK
* checking for unstated dependencies in examples ... OK
* checking contents of ‘data’ directory ... OK
* checking data for non-ASCII characters ... OK
* checking LazyData ... OK
* checking data for ASCII and uncompressed saves ... OK
* checking files in ‘vignettes’ ... OK
* checking examples ... OK
Examples with CPU (user + system) or elapsed time > 5s
user system elapsed
areaCAT 9.741 0.256 13.617
createConcordance 7.494 0.127 8.535
* checking for unstated dependencies in ‘tests’ ... OK
* checking tests ...
Running ‘testthat.R’
OK
* checking for unstated dependencies in vignettes ... OK
* checking package vignettes ... OK
* checking re-building of vignette outputs ... OK
* checking PDF version of manual ... OK
* DONE
Status: 2 NOTEs
See
‘/home/biocbuild/bbs-3.22-bioc/meat/benchdamic.Rcheck/00check.log’
for details.
benchdamic.Rcheck/00install.out
############################################################################## ############################################################################## ### ### Running command: ### ### /home/biocbuild/bbs-3.22-bioc/R/bin/R CMD INSTALL benchdamic ### ############################################################################## ############################################################################## * installing to library ‘/home/biocbuild/bbs-3.22-bioc/R/site-library’ * installing *source* package ‘benchdamic’ ... ** this is package ‘benchdamic’ version ‘1.16.0’ ** using staged installation ** R ** data *** moving datasets to lazyload DB ** inst ** byte-compile and prepare package for lazy loading Found more than one class "dist" in cache; using the first, from namespace 'BiocGenerics' Also defined by ‘spam’ ** help *** installing help indices ** building package indices ** installing vignettes ** testing if installed package can be loaded from temporary location Found more than one class "dist" in cache; using the first, from namespace 'BiocGenerics' Also defined by ‘spam’ ** testing if installed package can be loaded from final location Found more than one class "dist" in cache; using the first, from namespace 'BiocGenerics' Also defined by ‘spam’ ** testing if installed package keeps a record of temporary installation path * DONE (benchdamic)
benchdamic.Rcheck/tests/testthat.Rout
R version 4.5.2 (2025-10-31) -- "[Not] Part in a Rumble"
Copyright (C) 2025 The R Foundation for Statistical Computing
Platform: x86_64-pc-linux-gnu
R is free software and comes with ABSOLUTELY NO WARRANTY.
You are welcome to redistribute it under certain conditions.
Type 'license()' or 'licence()' for distribution details.
R is a collaborative project with many contributors.
Type 'contributors()' for more information and
'citation()' on how to cite R or R packages in publications.
Type 'demo()' for some demos, 'help()' for on-line help, or
'help.start()' for an HTML browser interface to help.
Type 'q()' to quit R.
> library(testthat)
> library(benchdamic)
Found more than one class "dist" in cache; using the first, from namespace 'BiocGenerics'
Also defined by 'spam'
>
> test_check("benchdamic")
|------------(25%)----------(50%)----------(75%)----------|
|------------(25%)----------(50%)----------(75%)----------|
|------------(25%)----------(50%)----------(75%)----------|
|------------(25%)----------(50%)----------(75%)----------|
|------------(25%)----------(50%)----------(75%)----------|
[ FAIL 0 | WARN 0 | SKIP 0 | PASS 334 ]
>
> proc.time()
user system elapsed
69.917 4.039 81.919
benchdamic.Rcheck/benchdamic-Ex.timings
| name | user | system | elapsed | |
| CAT | 0.001 | 0.002 | 0.004 | |
| DA_ALDEx2 | 4.69 | 0.23 | 4.92 | |
| DA_ANCOM | 0.739 | 0.057 | 0.797 | |
| DA_DESeq2 | 2.580 | 0.015 | 2.594 | |
| DA_MAST | 1.196 | 0.022 | 1.194 | |
| DA_Maaslin2 | 0.210 | 0.009 | 0.219 | |
| DA_NOISeq | 1.306 | 0.039 | 1.344 | |
| DA_Seurat | 1.837 | 0.005 | 1.842 | |
| DA_ZicoSeq | 0.609 | 0.013 | 0.623 | |
| DA_basic | 0.028 | 0.001 | 0.030 | |
| DA_corncob | 0.829 | 0.008 | 0.848 | |
| DA_dearseq | 0.081 | 0.001 | 0.137 | |
| DA_edgeR | 0.311 | 0.003 | 0.506 | |
| DA_limma | 0.164 | 0.001 | 0.303 | |
| DA_linda | 0.102 | 0.001 | 0.204 | |
| DA_maaslin3 | 0.978 | 0.008 | 1.636 | |
| DA_metagenomeSeq | 0.449 | 0.002 | 0.451 | |
| DA_mixMC | 1.418 | 0.020 | 2.235 | |
| RMSE | 0.002 | 0.000 | 0.001 | |
| addKnowledge | 0.463 | 0.031 | 0.781 | |
| areaCAT | 9.741 | 0.256 | 13.617 | |
| checkNormalization | 0.001 | 0.000 | 0.000 | |
| createColors | 0.008 | 0.002 | 0.021 | |
| createConcordance | 7.494 | 0.127 | 8.535 | |
| createEnrichment | 0.242 | 0.002 | 0.244 | |
| createMocks | 0.002 | 0.000 | 0.002 | |
| createPositives | 1.150 | 0.012 | 1.341 | |
| createSplits | 0.028 | 0.001 | 0.030 | |
| createTIEC | 3.070 | 0.035 | 3.110 | |
| enrichmentTest | 0.107 | 0.000 | 0.107 | |
| extractDA | 0.158 | 0.001 | 0.159 | |
| extractStatistics | 0.158 | 0.000 | 0.158 | |
| fitDM | 0.028 | 0.000 | 0.028 | |
| fitHURDLE | 0.602 | 0.006 | 0.608 | |
| fitModels | 2.098 | 0.021 | 2.121 | |
| fitNB | 0.041 | 0.000 | 0.041 | |
| fitZIG | 0.049 | 0.000 | 0.049 | |
| fitZINB | 0.385 | 0.003 | 0.388 | |
| getDA | 0.069 | 0.001 | 0.069 | |
| getPositives | 0.071 | 0.001 | 0.072 | |
| getStatistics | 0.063 | 0.001 | 0.063 | |
| get_counts_metadata | 0.103 | 0.001 | 0.104 | |
| iterative_ordering | 0.008 | 0.000 | 0.008 | |
| meanDifferences | 0.002 | 0.000 | 0.001 | |
| norm_CSS | 0.064 | 0.000 | 0.063 | |
| norm_DESeq2 | 0.423 | 0.000 | 0.423 | |
| norm_TSS | 0.029 | 0.001 | 0.029 | |
| norm_edgeR | 0.033 | 0.000 | 0.033 | |
| plotConcordance | 4.580 | 0.033 | 4.613 | |
| plotContingency | 1.329 | 0.024 | 1.354 | |
| plotEnrichment | 1.465 | 0.009 | 1.475 | |
| plotFDR | 2.426 | 0.003 | 2.429 | |
| plotFPR | 2.484 | 0.034 | 2.518 | |
| plotKS | 2.412 | 0.012 | 2.424 | |
| plotLogP | 2.470 | 0.001 | 2.471 | |
| plotMD | 3.541 | 0.067 | 3.608 | |
| plotMutualFindings | 1.361 | 0.002 | 1.364 | |
| plotPositives | 0.783 | 0.001 | 0.784 | |
| plotQQ | 2.461 | 0.014 | 2.475 | |
| plotRMSE | 2.694 | 0.048 | 2.742 | |
| prepareObserved | 0.001 | 0.000 | 0.002 | |
| runDA | 0.489 | 0.004 | 0.494 | |
| runMocks | 0.660 | 0.007 | 0.667 | |
| runNormalizations | 0.422 | 0.001 | 0.422 | |
| runSplits | 3.430 | 0.025 | 3.454 | |
| setNormalizations | 0.001 | 0.000 | 0.000 | |
| set_ALDEx2 | 0.007 | 0.000 | 0.006 | |
| set_ANCOM | 0.008 | 0.000 | 0.007 | |
| set_DESeq2 | 0.006 | 0.001 | 0.007 | |
| set_MAST | 0.003 | 0.000 | 0.003 | |
| set_Maaslin2 | 0.004 | 0.001 | 0.004 | |
| set_NOISeq | 0.004 | 0.000 | 0.003 | |
| set_Seurat | 0.006 | 0.000 | 0.006 | |
| set_ZicoSeq | 0.006 | 0.000 | 0.006 | |
| set_basic | 0.001 | 0.001 | 0.002 | |
| set_corncob | 0.003 | 0.000 | 0.004 | |
| set_dearseq | 0.002 | 0.000 | 0.002 | |
| set_edgeR | 0.011 | 0.000 | 0.011 | |
| set_limma | 0.008 | 0.000 | 0.007 | |
| set_linda | 0.005 | 0.000 | 0.005 | |
| set_maaslin3 | 0.006 | 0.000 | 0.006 | |
| set_metagenomeSeq | 0.003 | 0.002 | 0.005 | |
| set_mixMC | 0.002 | 0.000 | 0.002 | |
| weights_ZINB | 0.405 | 0.000 | 0.405 | |