| Back to Multiple platform build/check report for BioC 3.22: simplified long |
|
This page was generated on 2025-11-01 12:04 -0400 (Sat, 01 Nov 2025).
| Hostname | OS | Arch (*) | R version | Installed pkgs |
|---|---|---|---|---|
| nebbiolo2 | Linux (Ubuntu 24.04.3 LTS) | x86_64 | 4.5.1 Patched (2025-08-23 r88802) -- "Great Square Root" | 4901 |
| lconway | macOS 12.7.6 Monterey | x86_64 | 4.5.1 Patched (2025-09-10 r88807) -- "Great Square Root" | 4691 |
| kjohnson3 | macOS 13.7.7 Ventura | arm64 | 4.5.1 Patched (2025-09-10 r88807) -- "Great Square Root" | 4637 |
| Click on any hostname to see more info about the system (e.g. compilers) (*) as reported by 'uname -p', except on Windows and Mac OS X | ||||
| Package 1653/2361 | Hostname | OS / Arch | INSTALL | BUILD | CHECK | BUILD BIN | ||||||||
| PRONE 1.4.0 (landing page) Lis Arend
| nebbiolo2 | Linux (Ubuntu 24.04.3 LTS) / x86_64 | OK | OK | OK | |||||||||
| lconway | macOS 12.7.6 Monterey / x86_64 | OK | OK | OK | OK | |||||||||
| kjohnson3 | macOS 13.7.7 Ventura / arm64 | OK | OK | OK | OK | |||||||||
|
To the developers/maintainers of the PRONE package: - Allow up to 24 hours (and sometimes 48 hours) for your latest push to git@git.bioconductor.org:packages/PRONE.git to reflect on this report. See Troubleshooting Build Report for more information. - Use the following Renviron settings to reproduce errors and warnings. - If 'R CMD check' started to fail recently on the Linux builder(s) over a missing dependency, add the missing dependency to 'Suggests:' in your DESCRIPTION file. See Renviron.bioc for more information. |
| Package: PRONE |
| Version: 1.4.0 |
| Command: /Library/Frameworks/R.framework/Resources/bin/R CMD check --install=check:PRONE.install-out.txt --library=/Library/Frameworks/R.framework/Resources/library --no-vignettes --timings PRONE_1.4.0.tar.gz |
| StartedAt: 2025-10-31 23:25:22 -0400 (Fri, 31 Oct 2025) |
| EndedAt: 2025-10-31 23:31:07 -0400 (Fri, 31 Oct 2025) |
| EllapsedTime: 345.1 seconds |
| RetCode: 0 |
| Status: OK |
| CheckDir: PRONE.Rcheck |
| Warnings: 0 |
##############################################################################
##############################################################################
###
### Running command:
###
### /Library/Frameworks/R.framework/Resources/bin/R CMD check --install=check:PRONE.install-out.txt --library=/Library/Frameworks/R.framework/Resources/library --no-vignettes --timings PRONE_1.4.0.tar.gz
###
##############################################################################
##############################################################################
* using log directory ‘/Users/biocbuild/bbs-3.22-bioc/meat/PRONE.Rcheck’
* using R version 4.5.1 Patched (2025-09-10 r88807)
* using platform: x86_64-apple-darwin20
* R was compiled by
Apple clang version 14.0.0 (clang-1400.0.29.202)
GNU Fortran (GCC) 14.2.0
* running under: macOS Monterey 12.7.6
* using session charset: UTF-8
* using option ‘--no-vignettes’
* checking for file ‘PRONE/DESCRIPTION’ ... OK
* checking extension type ... Package
* this is package ‘PRONE’ version ‘1.4.0’
* package encoding: UTF-8
* checking package namespace information ... OK
* checking package dependencies ... INFO
Imports includes 34 non-default packages.
Importing from so many packages makes the package vulnerable to any of
them becoming unavailable. Move as many as possible to Suggests and
use conditionally.
* checking if this is a source package ... OK
* checking if there is a namespace ... OK
* checking for hidden files and directories ... OK
* checking for portable file names ... OK
* checking for sufficient/correct file permissions ... OK
* checking whether package ‘PRONE’ can be installed ... OK
* checking installed package size ... OK
* checking package directory ... OK
* checking ‘build’ directory ... OK
* checking DESCRIPTION meta-information ... OK
* checking top-level files ... OK
* checking for left-over files ... OK
* checking index information ... OK
* checking package subdirectories ... OK
* checking code files for non-ASCII characters ... OK
* checking R files for syntax errors ... OK
* checking whether the package can be loaded ... OK
* checking whether the package can be loaded with stated dependencies ... OK
* checking whether the package can be unloaded cleanly ... OK
* checking whether the namespace can be loaded with stated dependencies ... OK
* checking whether the namespace can be unloaded cleanly ... OK
* checking dependencies in R code ... NOTE
Unexported objects imported by ':::' calls:
‘NormalyzerDE:::calculateAvgMadMem’
‘NormalyzerDE:::calculateAvgReplicateVariation’
‘NormalyzerDE:::calculatePercentageAvgDiffInMat’
‘NormalyzerDE:::calculateReplicateCV’
‘NormalyzerDE:::calculateSummarizedCorrelationVector’
See the note in ?`:::` about the use of this operator.
* checking S3 generic/method consistency ... OK
* checking replacement functions ... OK
* checking foreign function calls ... OK
* checking R code for possible problems ... NOTE
plot_upset_DE: no visible global function definition for
‘packageVersion’
Undefined global functions or variables:
packageVersion
Consider adding
importFrom("utils", "packageVersion")
to your NAMESPACE file.
* checking Rd files ... OK
* checking Rd metadata ... OK
* checking Rd cross-references ... OK
* checking for missing documentation entries ... OK
* checking for code/documentation mismatches ... OK
* checking Rd \usage sections ... OK
* checking Rd contents ... OK
* checking for unstated dependencies in examples ... OK
* checking contents of ‘data’ directory ... OK
* checking data for non-ASCII characters ... OK
* checking data for ASCII and uncompressed saves ... OK
* checking files in ‘vignettes’ ... OK
* checking examples ... OK
Examples with CPU (user + system) or elapsed time > 5s
user system elapsed
plot_boxplots 5.633 0.079 5.725
* checking for unstated dependencies in vignettes ... OK
* checking package vignettes ... OK
* checking running R code from vignettes ... SKIPPED
* checking re-building of vignette outputs ... SKIPPED
* checking PDF version of manual ... OK
* DONE
Status: 2 NOTEs
See
‘/Users/biocbuild/bbs-3.22-bioc/meat/PRONE.Rcheck/00check.log’
for details.
PRONE.Rcheck/00install.out
############################################################################## ############################################################################## ### ### Running command: ### ### /Library/Frameworks/R.framework/Resources/bin/R CMD INSTALL PRONE ### ############################################################################## ############################################################################## * installing to library ‘/Library/Frameworks/R.framework/Versions/4.5-x86_64/Resources/library’ * installing *source* package ‘PRONE’ ... ** this is package ‘PRONE’ version ‘1.4.0’ ** using staged installation ** R ** data ** inst ** byte-compile and prepare package for lazy loading ** help *** installing help indices *** copying figures ** building package indices ** installing vignettes ** testing if installed package can be loaded from temporary location ** testing if installed package can be loaded from final location ** testing if installed package keeps a record of temporary installation path * DONE (PRONE)
PRONE.Rcheck/PRONE-Ex.timings
| name | user | system | elapsed | |
| apply_thresholds | 0.022 | 0.002 | 0.024 | |
| detect_outliers_POMA | 1.870 | 0.078 | 1.953 | |
| eigenMSNorm | 0.669 | 0.055 | 0.726 | |
| export_data | 0.017 | 0.001 | 0.018 | |
| extract_consensus_DE_candidates | 0.064 | 0.002 | 0.067 | |
| filter_out_NA_proteins_by_threshold | 0.209 | 0.004 | 0.213 | |
| filter_out_complete_NA_proteins | 0.056 | 0.003 | 0.058 | |
| filter_out_proteins_by_ID | 0.178 | 0.004 | 0.181 | |
| filter_out_proteins_by_value | 0.148 | 0.003 | 0.151 | |
| get_NA_overview | 0.023 | 0.002 | 0.026 | |
| get_normalization_methods | 0 | 0 | 0 | |
| get_overview_DE | 0.030 | 0.002 | 0.032 | |
| get_proteins_by_value | 0.132 | 0.004 | 0.136 | |
| get_spiked_stats_DE | 0.055 | 0.003 | 0.058 | |
| globalIntNorm | 0.101 | 0.002 | 0.103 | |
| globalMeanNorm | 0.136 | 0.004 | 0.139 | |
| globalMedianNorm | 0.129 | 0.003 | 0.131 | |
| impute_se | 0.682 | 0.014 | 0.697 | |
| irsNorm | 0.055 | 0.001 | 0.057 | |
| limmaNorm | 0.060 | 0.002 | 0.063 | |
| load_data | 0.067 | 0.003 | 0.071 | |
| load_spike_data | 0.052 | 0.003 | 0.056 | |
| loessCycNorm | 0.109 | 0.010 | 0.118 | |
| loessFNorm | 0.078 | 0.003 | 0.081 | |
| meanNorm | 0.036 | 0.002 | 0.038 | |
| medianAbsDevNorm | 0.100 | 0.004 | 0.105 | |
| medianNorm | 0.062 | 0.002 | 0.065 | |
| normalize_se | 3.588 | 0.079 | 3.678 | |
| normalize_se_combination | 4.366 | 0.086 | 4.464 | |
| normalize_se_single | 3.226 | 0.037 | 3.271 | |
| normicsNorm | 2.989 | 0.028 | 3.025 | |
| plot_NA_density | 0.383 | 0.006 | 0.390 | |
| plot_NA_frequency | 0.169 | 0.002 | 0.171 | |
| plot_NA_heatmap | 1.243 | 0.077 | 1.322 | |
| plot_PCA | 1.494 | 0.010 | 1.508 | |
| plot_ROC_AUC_spiked | 1.302 | 0.019 | 1.324 | |
| plot_TP_FP_spiked_bar | 0.362 | 0.005 | 0.369 | |
| plot_TP_FP_spiked_box | 0.463 | 0.006 | 0.470 | |
| plot_TP_FP_spiked_scatter | 0.490 | 0.007 | 0.498 | |
| plot_boxplots | 5.633 | 0.079 | 5.725 | |
| plot_condition_overview | 0.306 | 0.005 | 0.312 | |
| plot_densities | 2.706 | 0.032 | 2.746 | |
| plot_fold_changes_spiked | 0.620 | 0.008 | 0.629 | |
| plot_heatmap | 4.234 | 0.028 | 4.269 | |
| plot_heatmap_DE | 1.459 | 0.020 | 1.485 | |
| plot_histogram_spiked | 0.422 | 0.005 | 0.428 | |
| plot_identified_spiked_proteins | 0.517 | 0.007 | 0.526 | |
| plot_intersection_enrichment | 0.970 | 0.041 | 2.248 | |
| plot_intragroup_PCV | 0.725 | 0.007 | 0.734 | |
| plot_intragroup_PEV | 0.458 | 0.004 | 0.462 | |
| plot_intragroup_PMAD | 0.515 | 0.004 | 0.520 | |
| plot_intragroup_correlation | 0.546 | 0.004 | 0.552 | |
| plot_jaccard_heatmap | 0.362 | 0.005 | 0.367 | |
| plot_logFC_thresholds_spiked | 0.790 | 0.008 | 0.800 | |
| plot_markers_boxplots | 0.885 | 0.005 | 0.893 | |
| plot_nr_prot_samples | 0.330 | 0.004 | 0.335 | |
| plot_overview_DE_bar | 0.393 | 0.004 | 0.397 | |
| plot_overview_DE_tile | 0.211 | 0.003 | 0.214 | |
| plot_profiles_spiked | 0.799 | 0.008 | 0.809 | |
| plot_pvalues_spiked | 0.555 | 0.007 | 0.564 | |
| plot_stats_spiked_heatmap | 0.487 | 0.007 | 0.493 | |
| plot_tot_int_samples | 0.265 | 0.004 | 0.268 | |
| plot_upset | 0.858 | 0.010 | 0.869 | |
| plot_upset_DE | 0.031 | 0.003 | 0.034 | |
| plot_volcano_DE | 4.404 | 0.026 | 4.438 | |
| quantileNorm | 0.041 | 0.003 | 0.044 | |
| readPRONE_example | 0.001 | 0.001 | 0.002 | |
| remove_POMA_outliers | 0.611 | 0.005 | 0.617 | |
| remove_assays_from_SE | 0.034 | 0.002 | 0.035 | |
| remove_reference_samples | 0.033 | 0.002 | 0.035 | |
| remove_samples_manually | 0.026 | 0.002 | 0.029 | |
| rlrMACycNorm | 0.553 | 0.006 | 0.560 | |
| rlrMANorm | 0.136 | 0.010 | 0.146 | |
| rlrNorm | 0.089 | 0.002 | 0.092 | |
| robnormNorm | 0.085 | 0.005 | 0.090 | |
| run_DE | 2.415 | 0.021 | 2.441 | |
| specify_comparisons | 0.025 | 0.002 | 0.027 | |
| subset_SE_by_norm | 0.084 | 0.003 | 0.087 | |
| tmmNorm | 0.118 | 0.012 | 0.129 | |
| vsnNorm | 0.056 | 0.002 | 0.057 | |