| Back to Multiple platform build/check report for BioC 3.22: simplified long |
|
This page was generated on 2025-11-20 12:04 -0500 (Thu, 20 Nov 2025).
| Hostname | OS | Arch (*) | R version | Installed pkgs |
|---|---|---|---|---|
| nebbiolo2 | Linux (Ubuntu 24.04.3 LTS) | x86_64 | 4.5.2 (2025-10-31) -- "[Not] Part in a Rumble" | 4615 |
| merida1 | macOS 12.7.6 Monterey | x86_64 | 4.5.2 Patched (2025-11-05 r88990) -- "[Not] Part in a Rumble" | 4610 |
| kjohnson1 | macOS 13.7.5 Ventura | arm64 | 4.5.2 Patched (2025-11-04 r88984) -- "[Not] Part in a Rumble" | 4598 |
| taishan | Linux (openEuler 24.03 LTS) | aarch64 | 4.5.0 (2025-04-11) -- "How About a Twenty-Six" | 4668 |
| Click on any hostname to see more info about the system (e.g. compilers) (*) as reported by 'uname -p', except on Windows and Mac OS X | ||||
| Package 1653/2361 | Hostname | OS / Arch | INSTALL | BUILD | CHECK | BUILD BIN | ||||||||
| PRONE 1.4.0 (landing page) Lis Arend
| nebbiolo2 | Linux (Ubuntu 24.04.3 LTS) / x86_64 | OK | OK | OK | |||||||||
| merida1 | macOS 12.7.6 Monterey / x86_64 | OK | OK | OK | OK | |||||||||
| kjohnson1 | macOS 13.7.5 Ventura / arm64 | OK | OK | OK | OK | |||||||||
| taishan | Linux (openEuler 24.03 LTS) / aarch64 | OK | OK | OK | ||||||||||
|
To the developers/maintainers of the PRONE package: - Allow up to 24 hours (and sometimes 48 hours) for your latest push to git@git.bioconductor.org:packages/PRONE.git to reflect on this report. See Troubleshooting Build Report for more information. - Use the following Renviron settings to reproduce errors and warnings. - If 'R CMD check' started to fail recently on the Linux builder(s) over a missing dependency, add the missing dependency to 'Suggests:' in your DESCRIPTION file. See Renviron.bioc for more information. |
| Package: PRONE |
| Version: 1.4.0 |
| Command: /home/biocbuild/bbs-3.22-bioc/R/bin/R CMD check --install=check:PRONE.install-out.txt --library=/home/biocbuild/bbs-3.22-bioc/R/site-library --timings PRONE_1.4.0.tar.gz |
| StartedAt: 2025-11-18 07:22:08 -0500 (Tue, 18 Nov 2025) |
| EndedAt: 2025-11-18 07:30:32 -0500 (Tue, 18 Nov 2025) |
| EllapsedTime: 503.5 seconds |
| RetCode: 0 |
| Status: OK |
| CheckDir: PRONE.Rcheck |
| Warnings: 0 |
##############################################################################
##############################################################################
###
### Running command:
###
### /home/biocbuild/bbs-3.22-bioc/R/bin/R CMD check --install=check:PRONE.install-out.txt --library=/home/biocbuild/bbs-3.22-bioc/R/site-library --timings PRONE_1.4.0.tar.gz
###
##############################################################################
##############################################################################
* using log directory ‘/home/biocbuild/bbs-3.22-bioc/meat/PRONE.Rcheck’
* using R version 4.5.2 (2025-10-31)
* using platform: x86_64-pc-linux-gnu
* R was compiled by
gcc (Ubuntu 13.3.0-6ubuntu2~24.04) 13.3.0
GNU Fortran (Ubuntu 13.3.0-6ubuntu2~24.04) 13.3.0
* running under: Ubuntu 24.04.3 LTS
* using session charset: UTF-8
* checking for file ‘PRONE/DESCRIPTION’ ... OK
* checking extension type ... Package
* this is package ‘PRONE’ version ‘1.4.0’
* package encoding: UTF-8
* checking package namespace information ... OK
* checking package dependencies ... INFO
Imports includes 34 non-default packages.
Importing from so many packages makes the package vulnerable to any of
them becoming unavailable. Move as many as possible to Suggests and
use conditionally.
* checking if this is a source package ... OK
* checking if there is a namespace ... OK
* checking for hidden files and directories ... OK
* checking for portable file names ... OK
* checking for sufficient/correct file permissions ... OK
* checking whether package ‘PRONE’ can be installed ... OK
* checking installed package size ... OK
* checking package directory ... OK
* checking ‘build’ directory ... OK
* checking DESCRIPTION meta-information ... OK
* checking top-level files ... OK
* checking for left-over files ... OK
* checking index information ... OK
* checking package subdirectories ... OK
* checking code files for non-ASCII characters ... OK
* checking R files for syntax errors ... OK
* checking whether the package can be loaded ... OK
* checking whether the package can be loaded with stated dependencies ... OK
* checking whether the package can be unloaded cleanly ... OK
* checking whether the namespace can be loaded with stated dependencies ... OK
* checking whether the namespace can be unloaded cleanly ... OK
* checking loading without being on the library search path ... OK
* checking dependencies in R code ... NOTE
Unexported objects imported by ':::' calls:
‘NormalyzerDE:::calculateAvgMadMem’
‘NormalyzerDE:::calculateAvgReplicateVariation’
‘NormalyzerDE:::calculatePercentageAvgDiffInMat’
‘NormalyzerDE:::calculateReplicateCV’
‘NormalyzerDE:::calculateSummarizedCorrelationVector’
See the note in ?`:::` about the use of this operator.
* checking S3 generic/method consistency ... OK
* checking replacement functions ... OK
* checking foreign function calls ... OK
* checking R code for possible problems ... NOTE
plot_upset_DE: no visible global function definition for
‘packageVersion’
Undefined global functions or variables:
packageVersion
Consider adding
importFrom("utils", "packageVersion")
to your NAMESPACE file.
* checking Rd files ... OK
* checking Rd metadata ... OK
* checking Rd cross-references ... OK
* checking for missing documentation entries ... OK
* checking for code/documentation mismatches ... OK
* checking Rd \usage sections ... OK
* checking Rd contents ... OK
* checking for unstated dependencies in examples ... OK
* checking contents of ‘data’ directory ... OK
* checking data for non-ASCII characters ... OK
* checking data for ASCII and uncompressed saves ... OK
* checking files in ‘vignettes’ ... OK
* checking examples ... OK
Examples with CPU (user + system) or elapsed time > 5s
user system elapsed
plot_boxplots 5.674 0.183 5.758
* checking for unstated dependencies in vignettes ... OK
* checking package vignettes ... OK
* checking re-building of vignette outputs ... OK
* checking PDF version of manual ... OK
* DONE
Status: 2 NOTEs
See
‘/home/biocbuild/bbs-3.22-bioc/meat/PRONE.Rcheck/00check.log’
for details.
PRONE.Rcheck/00install.out
############################################################################## ############################################################################## ### ### Running command: ### ### /home/biocbuild/bbs-3.22-bioc/R/bin/R CMD INSTALL PRONE ### ############################################################################## ############################################################################## * installing to library ‘/home/biocbuild/bbs-3.22-bioc/R/site-library’ * installing *source* package ‘PRONE’ ... ** this is package ‘PRONE’ version ‘1.4.0’ ** using staged installation ** R ** data ** inst ** byte-compile and prepare package for lazy loading ** help *** installing help indices *** copying figures ** building package indices ** installing vignettes ** testing if installed package can be loaded from temporary location ** testing if installed package can be loaded from final location ** testing if installed package keeps a record of temporary installation path * DONE (PRONE)
PRONE.Rcheck/PRONE-Ex.timings
| name | user | system | elapsed | |
| apply_thresholds | 0.032 | 0.001 | 0.033 | |
| detect_outliers_POMA | 1.876 | 0.088 | 1.964 | |
| eigenMSNorm | 0.607 | 0.069 | 0.676 | |
| export_data | 0.029 | 0.000 | 0.028 | |
| extract_consensus_DE_candidates | 0.079 | 0.002 | 0.081 | |
| filter_out_NA_proteins_by_threshold | 0.217 | 0.002 | 0.211 | |
| filter_out_complete_NA_proteins | 0.054 | 0.000 | 0.054 | |
| filter_out_proteins_by_ID | 0.161 | 0.000 | 0.161 | |
| filter_out_proteins_by_value | 0.16 | 0.00 | 0.16 | |
| get_NA_overview | 0.037 | 0.000 | 0.037 | |
| get_normalization_methods | 0.001 | 0.000 | 0.000 | |
| get_overview_DE | 0.038 | 0.004 | 0.043 | |
| get_proteins_by_value | 0.149 | 0.011 | 0.159 | |
| get_spiked_stats_DE | 0.110 | 0.005 | 0.116 | |
| globalIntNorm | 0.128 | 0.001 | 0.129 | |
| globalMeanNorm | 0.127 | 0.000 | 0.128 | |
| globalMedianNorm | 0.131 | 0.005 | 0.136 | |
| impute_se | 0.792 | 0.009 | 0.723 | |
| irsNorm | 0.056 | 0.000 | 0.057 | |
| limmaNorm | 0.069 | 0.000 | 0.069 | |
| load_data | 0.048 | 0.000 | 0.048 | |
| load_spike_data | 0.039 | 0.001 | 0.041 | |
| loessCycNorm | 0.119 | 0.004 | 0.123 | |
| loessFNorm | 0.085 | 0.002 | 0.086 | |
| meanNorm | 0.045 | 0.000 | 0.045 | |
| medianAbsDevNorm | 0.099 | 0.001 | 0.099 | |
| medianNorm | 0.062 | 0.000 | 0.062 | |
| normalize_se | 3.478 | 0.091 | 3.569 | |
| normalize_se_combination | 4.227 | 0.213 | 4.441 | |
| normalize_se_single | 3.167 | 0.075 | 3.241 | |
| normicsNorm | 3.058 | 0.025 | 3.083 | |
| plot_NA_density | 0.425 | 0.004 | 0.415 | |
| plot_NA_frequency | 0.244 | 0.003 | 0.231 | |
| plot_NA_heatmap | 1.301 | 0.033 | 1.335 | |
| plot_PCA | 1.372 | 0.005 | 1.376 | |
| plot_ROC_AUC_spiked | 1.230 | 0.003 | 1.217 | |
| plot_TP_FP_spiked_bar | 0.332 | 0.004 | 0.335 | |
| plot_TP_FP_spiked_box | 0.433 | 0.001 | 0.434 | |
| plot_TP_FP_spiked_scatter | 0.434 | 0.031 | 0.465 | |
| plot_boxplots | 5.674 | 0.183 | 5.758 | |
| plot_condition_overview | 0.281 | 0.000 | 0.281 | |
| plot_densities | 2.738 | 0.062 | 2.720 | |
| plot_fold_changes_spiked | 0.546 | 0.002 | 0.532 | |
| plot_heatmap | 3.687 | 0.003 | 3.691 | |
| plot_heatmap_DE | 1.213 | 0.002 | 1.216 | |
| plot_histogram_spiked | 0.409 | 0.002 | 0.405 | |
| plot_identified_spiked_proteins | 0.451 | 0.004 | 0.454 | |
| plot_intersection_enrichment | 0.839 | 0.014 | 4.080 | |
| plot_intragroup_PCV | 0.600 | 0.000 | 0.601 | |
| plot_intragroup_PEV | 0.467 | 0.000 | 0.467 | |
| plot_intragroup_PMAD | 0.468 | 0.004 | 0.472 | |
| plot_intragroup_correlation | 0.490 | 0.018 | 0.509 | |
| plot_jaccard_heatmap | 0.316 | 0.018 | 0.317 | |
| plot_logFC_thresholds_spiked | 0.766 | 0.065 | 0.831 | |
| plot_markers_boxplots | 0.880 | 0.079 | 0.951 | |
| plot_nr_prot_samples | 0.329 | 0.025 | 0.354 | |
| plot_overview_DE_bar | 0.455 | 0.024 | 0.479 | |
| plot_overview_DE_tile | 0.262 | 0.013 | 0.275 | |
| plot_profiles_spiked | 0.864 | 0.095 | 0.945 | |
| plot_pvalues_spiked | 0.528 | 0.044 | 0.571 | |
| plot_stats_spiked_heatmap | 0.442 | 0.019 | 0.460 | |
| plot_tot_int_samples | 0.270 | 0.006 | 0.276 | |
| plot_upset | 0.876 | 0.058 | 0.934 | |
| plot_upset_DE | 0.031 | 0.001 | 0.032 | |
| plot_volcano_DE | 4.256 | 0.227 | 4.483 | |
| quantileNorm | 0.047 | 0.002 | 0.051 | |
| readPRONE_example | 0.001 | 0.000 | 0.002 | |
| remove_POMA_outliers | 0.708 | 0.067 | 0.775 | |
| remove_assays_from_SE | 0.048 | 0.002 | 0.049 | |
| remove_reference_samples | 0.050 | 0.001 | 0.050 | |
| remove_samples_manually | 0.042 | 0.000 | 0.042 | |
| rlrMACycNorm | 0.594 | 0.017 | 0.612 | |
| rlrMANorm | 0.097 | 0.004 | 0.101 | |
| rlrNorm | 0.113 | 0.016 | 0.129 | |
| robnormNorm | 0.078 | 0.002 | 0.079 | |
| run_DE | 2.353 | 0.082 | 2.401 | |
| specify_comparisons | 0.035 | 0.003 | 0.033 | |
| subset_SE_by_norm | 0.116 | 0.015 | 0.131 | |
| tmmNorm | 0.131 | 0.008 | 0.139 | |
| vsnNorm | 0.070 | 0.006 | 0.076 | |