Back to Multiple platform build/check report for BioC 3.22:   simplified   long
ABCDEFGHIJKLMNO[P]QRSTUVWXYZ

This page was generated on 2025-11-10 12:51 -0500 (Mon, 10 Nov 2025).

HostnameOSArch (*)R versionInstalled pkgs
nebbiolo2Linux (Ubuntu 24.04.3 LTS)x86_644.5.1 Patched (2025-08-23 r88802) -- "Great Square Root" 4902
kjohnson3macOS 13.7.7 Venturaarm644.5.1 Patched (2025-09-10 r88807) -- "Great Square Root" 4638
Click on any hostname to see more info about the system (e.g. compilers)      (*) as reported by 'uname -p', except on Windows and Mac OS X

Package 1653/2361HostnameOS / ArchINSTALLBUILDCHECKBUILD BIN
PRONE 1.4.0  (landing page)
Lis Arend
Snapshot Date: 2025-11-09 13:45 -0500 (Sun, 09 Nov 2025)
git_url: https://git.bioconductor.org/packages/PRONE
git_branch: RELEASE_3_22
git_last_commit: 2b31a49
git_last_commit_date: 2025-10-29 11:32:38 -0500 (Wed, 29 Oct 2025)
nebbiolo2Linux (Ubuntu 24.04.3 LTS) / x86_64  OK    OK    OK  UNNEEDED, same version is already published
kjohnson3macOS 13.7.7 Ventura / arm64  OK    OK    OK    OK  UNNEEDED, same version is already published


CHECK results for PRONE on kjohnson3

To the developers/maintainers of the PRONE package:
- Allow up to 24 hours (and sometimes 48 hours) for your latest push to git@git.bioconductor.org:packages/PRONE.git to reflect on this report. See Troubleshooting Build Report for more information.
- Use the following Renviron settings to reproduce errors and warnings.
- If 'R CMD check' started to fail recently on the Linux builder(s) over a missing dependency, add the missing dependency to 'Suggests:' in your DESCRIPTION file. See Renviron.bioc for more information.

raw results


Summary

Package: PRONE
Version: 1.4.0
Command: /Library/Frameworks/R.framework/Resources/bin/R CMD check --install=check:PRONE.install-out.txt --library=/Library/Frameworks/R.framework/Resources/library --no-vignettes --timings PRONE_1.4.0.tar.gz
StartedAt: 2025-11-09 21:30:21 -0500 (Sun, 09 Nov 2025)
EndedAt: 2025-11-09 21:32:33 -0500 (Sun, 09 Nov 2025)
EllapsedTime: 131.6 seconds
RetCode: 0
Status:   OK  
CheckDir: PRONE.Rcheck
Warnings: 0

Command output

##############################################################################
##############################################################################
###
### Running command:
###
###   /Library/Frameworks/R.framework/Resources/bin/R CMD check --install=check:PRONE.install-out.txt --library=/Library/Frameworks/R.framework/Resources/library --no-vignettes --timings PRONE_1.4.0.tar.gz
###
##############################################################################
##############################################################################


* using log directory ‘/Users/biocbuild/bbs-3.22-bioc/meat/PRONE.Rcheck’
* using R version 4.5.1 Patched (2025-09-10 r88807)
* using platform: aarch64-apple-darwin20
* R was compiled by
    Apple clang version 16.0.0 (clang-1600.0.26.6)
    GNU Fortran (GCC) 14.2.0
* running under: macOS Ventura 13.7.7
* using session charset: UTF-8
* using option ‘--no-vignettes’
* checking for file ‘PRONE/DESCRIPTION’ ... OK
* checking extension type ... Package
* this is package ‘PRONE’ version ‘1.4.0’
* package encoding: UTF-8
* checking package namespace information ... OK
* checking package dependencies ... INFO
Imports includes 34 non-default packages.
Importing from so many packages makes the package vulnerable to any of
them becoming unavailable.  Move as many as possible to Suggests and
use conditionally.
* checking if this is a source package ... OK
* checking if there is a namespace ... OK
* checking for hidden files and directories ... OK
* checking for portable file names ... OK
* checking for sufficient/correct file permissions ... OK
* checking whether package ‘PRONE’ can be installed ... OK
* checking installed package size ... OK
* checking package directory ... OK
* checking ‘build’ directory ... OK
* checking DESCRIPTION meta-information ... OK
* checking top-level files ... OK
* checking for left-over files ... OK
* checking index information ... OK
* checking package subdirectories ... OK
* checking code files for non-ASCII characters ... OK
* checking R files for syntax errors ... OK
* checking whether the package can be loaded ... OK
* checking whether the package can be loaded with stated dependencies ... OK
* checking whether the package can be unloaded cleanly ... OK
* checking whether the namespace can be loaded with stated dependencies ... OK
* checking whether the namespace can be unloaded cleanly ... OK
* checking dependencies in R code ... NOTE
Unexported objects imported by ':::' calls:
  ‘NormalyzerDE:::calculateAvgMadMem’
  ‘NormalyzerDE:::calculateAvgReplicateVariation’
  ‘NormalyzerDE:::calculatePercentageAvgDiffInMat’
  ‘NormalyzerDE:::calculateReplicateCV’
  ‘NormalyzerDE:::calculateSummarizedCorrelationVector’
  See the note in ?`:::` about the use of this operator.
* checking S3 generic/method consistency ... OK
* checking replacement functions ... OK
* checking foreign function calls ... OK
* checking R code for possible problems ... NOTE
plot_upset_DE: no visible global function definition for
  ‘packageVersion’
Undefined global functions or variables:
  packageVersion
Consider adding
  importFrom("utils", "packageVersion")
to your NAMESPACE file.
* checking Rd files ... OK
* checking Rd metadata ... OK
* checking Rd cross-references ... OK
* checking for missing documentation entries ... OK
* checking for code/documentation mismatches ... OK
* checking Rd \usage sections ... OK
* checking Rd contents ... OK
* checking for unstated dependencies in examples ... OK
* checking contents of ‘data’ directory ... OK
* checking data for non-ASCII characters ... OK
* checking data for ASCII and uncompressed saves ... OK
* checking files in ‘vignettes’ ... OK
* checking examples ... OK
* checking for unstated dependencies in vignettes ... OK
* checking package vignettes ... OK
* checking running R code from vignettes ... SKIPPED
* checking re-building of vignette outputs ... SKIPPED
* checking PDF version of manual ... OK
* DONE

Status: 2 NOTEs
See
  ‘/Users/biocbuild/bbs-3.22-bioc/meat/PRONE.Rcheck/00check.log’
for details.


Installation output

PRONE.Rcheck/00install.out

##############################################################################
##############################################################################
###
### Running command:
###
###   /Library/Frameworks/R.framework/Resources/bin/R CMD INSTALL PRONE
###
##############################################################################
##############################################################################


* installing to library ‘/Library/Frameworks/R.framework/Versions/4.5-arm64/Resources/library’
* installing *source* package ‘PRONE’ ...
** this is package ‘PRONE’ version ‘1.4.0’
** using staged installation
** R
** data
** inst
** byte-compile and prepare package for lazy loading
** help
*** installing help indices
*** copying figures
** building package indices
** installing vignettes
** testing if installed package can be loaded from temporary location
** testing if installed package can be loaded from final location
** testing if installed package keeps a record of temporary installation path
* DONE (PRONE)

Tests output


Example timings

PRONE.Rcheck/PRONE-Ex.timings

nameusersystemelapsed
apply_thresholds0.0140.0010.015
detect_outliers_POMA0.7610.0320.797
eigenMSNorm0.1950.0160.218
export_data0.0130.0010.015
extract_consensus_DE_candidates0.0310.0020.034
filter_out_NA_proteins_by_threshold0.0690.0040.074
filter_out_complete_NA_proteins0.0220.0020.025
filter_out_proteins_by_ID0.0500.0030.053
filter_out_proteins_by_value0.0510.0030.054
get_NA_overview0.0170.0020.018
get_normalization_methods000
get_overview_DE0.0170.0020.019
get_proteins_by_value0.0570.0030.060
get_spiked_stats_DE0.0370.0020.039
globalIntNorm0.0470.0020.049
globalMeanNorm0.0480.0010.049
globalMedianNorm0.0490.0020.055
impute_se0.2490.0070.276
irsNorm0.0230.0020.025
limmaNorm0.0280.0010.030
load_data0.0230.0020.024
load_spike_data0.0190.0010.021
loessCycNorm0.0510.0040.055
loessFNorm0.0360.0020.039
meanNorm0.0190.0010.020
medianAbsDevNorm0.0390.0010.040
medianNorm0.0250.0010.027
normalize_se1.1730.0401.217
normalize_se_combination1.1140.0431.183
normalize_se_single1.4960.0451.621
normicsNorm1.0090.0311.049
plot_NA_density0.1380.0040.142
plot_NA_frequency0.0860.0070.093
plot_NA_heatmap0.4940.0250.521
plot_PCA0.4180.0030.421
plot_ROC_AUC_spiked0.3870.0120.398
plot_TP_FP_spiked_bar0.1100.0020.113
plot_TP_FP_spiked_box0.1360.0020.140
plot_TP_FP_spiked_scatter0.1510.0030.155
plot_boxplots1.4210.0381.459
plot_condition_overview0.0840.0020.086
plot_densities0.8450.0190.900
plot_fold_changes_spiked0.1980.0040.208
plot_heatmap1.2550.0141.338
plot_heatmap_DE0.3950.0100.418
plot_histogram_spiked0.1320.0020.150
plot_identified_spiked_proteins0.1560.0030.159
plot_intersection_enrichment0.2760.0121.495
plot_intragroup_PCV0.2050.0020.209
plot_intragroup_PEV0.1330.0020.136
plot_intragroup_PMAD0.1460.0020.150
plot_intragroup_correlation0.1360.0020.137
plot_jaccard_heatmap0.0970.0020.099
plot_logFC_thresholds_spiked0.2360.0050.240
plot_markers_boxplots0.2460.0020.248
plot_nr_prot_samples0.1530.0060.160
plot_overview_DE_bar0.1350.0010.138
plot_overview_DE_tile0.0810.0030.083
plot_profiles_spiked0.2770.0150.294
plot_pvalues_spiked0.1780.0040.182
plot_stats_spiked_heatmap0.1330.0030.137
plot_tot_int_samples0.1050.0020.107
plot_upset0.2720.0060.278
plot_upset_DE0.0130.0020.014
plot_volcano_DE1.3440.0111.434
quantileNorm0.0190.0010.025
readPRONE_example0.0010.0000.001
remove_POMA_outliers0.2050.0020.207
remove_assays_from_SE0.0210.0010.021
remove_reference_samples0.0210.0010.022
remove_samples_manually0.0180.0010.019
rlrMACycNorm0.2060.0020.223
rlrMANorm0.0350.0020.037
rlrNorm0.0310.0010.032
robnormNorm0.0410.0040.045
run_DE0.7300.0290.770
specify_comparisons0.0140.0010.016
subset_SE_by_norm0.0290.0010.030
tmmNorm0.0500.0030.053
vsnNorm0.0260.0010.027