Back to Multiple platform build/check report for BioC 3.22:   simplified   long
ABCDEFGHIJKL[M]NOPQRSTUVWXYZ

This page was generated on 2025-11-07 12:00 -0500 (Fri, 07 Nov 2025).

HostnameOSArch (*)R versionInstalled pkgs
nebbiolo2Linux (Ubuntu 24.04.3 LTS)x86_644.5.1 Patched (2025-08-23 r88802) -- "Great Square Root" 4902
kjohnson3macOS 13.7.7 Venturaarm644.5.1 Patched (2025-09-10 r88807) -- "Great Square Root" 4638
Click on any hostname to see more info about the system (e.g. compilers)      (*) as reported by 'uname -p', except on Windows and Mac OS X

All results for package MSnbase


To the developers/maintainers of the MSnbase package:
- Allow up to 24 hours (and sometimes 48 hours) for your latest push to git@git.bioconductor.org:packages/MSnbase.git to reflect on this report. See Troubleshooting Build Report for more information.
- Use the following Renviron settings to reproduce errors and warnings.
- If 'R CMD check' started to fail recently on the Linux builder(s) over a missing dependency, add the missing dependency to 'Suggests:' in your DESCRIPTION file. See Renviron.bioc for more information.

raw results

Package 1389/2361HostnameOS / ArchINSTALLBUILDCHECKBUILD BIN
MSnbase 2.36.0  (landing page)
Laurent Gatto
Snapshot Date: 2025-11-06 13:45 -0500 (Thu, 06 Nov 2025)
git_url: https://git.bioconductor.org/packages/MSnbase
git_branch: RELEASE_3_22
git_last_commit: 5d00871
git_last_commit_date: 2025-10-29 10:06:57 -0500 (Wed, 29 Oct 2025)
nebbiolo2Linux (Ubuntu 24.04.3 LTS) / x86_64  OK    OK    OK  UNNEEDED, same version is already published
kjohnson3macOS 13.7.7 Ventura / arm64  OK    OK    OK    OK  UNNEEDED, same version is already published



Results for Bioconductor software packages that depend directly on package MSnbase

QUICK STATSOS / ArchINSTALLBUILDCHECKBUILD BIN
nebbiolo2Linux (Ubuntu 24.04.3 LTS) / x86_64
0021
0120
01514
kjohnson3macOS 13.7.7 Ventura / arm64
0021
0219
02512
0019
Package 1/21HostnameOS / ArchINSTALLBUILDCHECKBUILD BIN
bandle 1.14.0  (landing page)
Oliver M. Crook
git_last_commit: 9a9a1bc
git_last_commit_date: 2025-10-29 11:16:12 -0500
nebbiolo2Linux (Ubuntu 24.04.3 LTS) / x86_64  OK    OK    WARNINGS  UNNEEDED, same version is already published
kjohnson3macOS 13.7.7 Ventura / arm64  OK    OK    WARNINGS    OK  UNNEEDED, same version is already published
Package 2/21HostnameOS / ArchINSTALLBUILDCHECKBUILD BIN
cliqueMS 1.24.0  (landing page)
Oriol Senan Campos
git_last_commit: ce55a9e
git_last_commit_date: 2025-10-29 11:31:29 -0500
nebbiolo2Linux (Ubuntu 24.04.3 LTS) / x86_64  OK    OK    OK  UNNEEDED, same version is already published
kjohnson3macOS 13.7.7 Ventura / arm64  OK    OK    WARNINGS    OK  UNNEEDED, same version is already published
Package 3/21HostnameOS / ArchINSTALLBUILDCHECKBUILD BIN
CluMSID 1.26.0  (landing page)
Tobias Depke
git_last_commit: 4d01b89
git_last_commit_date: 2025-10-29 10:49:24 -0500
nebbiolo2Linux (Ubuntu 24.04.3 LTS) / x86_64  OK    OK    WARNINGS  UNNEEDED, same version is already published
kjohnson3macOS 13.7.7 Ventura / arm64  OK    ERROR  skippedskipped
Package 4/21HostnameOS / ArchINSTALLBUILDCHECKBUILD BIN
DAPAR 1.42.0  (landing page)
Samuel Wieczorek
git_last_commit: c9303a2
git_last_commit_date: 2025-10-29 10:28:00 -0500
nebbiolo2Linux (Ubuntu 24.04.3 LTS) / x86_64  OK    OK    OK  UNNEEDED, same version is already published
kjohnson3macOS 13.7.7 Ventura / arm64  OK    OK    OK    OK  UNNEEDED, same version is already published
Package 5/21HostnameOS / ArchINSTALLBUILDCHECKBUILD BIN
DEP 1.32.0  (landing page)
Arne Smits
git_last_commit: 251eef4
git_last_commit_date: 2025-10-29 10:40:06 -0500
nebbiolo2Linux (Ubuntu 24.04.3 LTS) / x86_64  OK    OK    OK  UNNEEDED, same version is already published
kjohnson3macOS 13.7.7 Ventura / arm64  OK    OK    OK    OK  UNNEEDED, same version is already published
Package 6/21HostnameOS / ArchINSTALLBUILDCHECKBUILD BIN
msmsEDA 1.48.0  (landing page)
Josep Gregori
git_last_commit: 7709fc3
git_last_commit_date: 2025-10-29 10:15:41 -0500
nebbiolo2Linux (Ubuntu 24.04.3 LTS) / x86_64  OK    OK    OK  UNNEEDED, same version is already published
kjohnson3macOS 13.7.7 Ventura / arm64  OK    OK    OK    OK  UNNEEDED, same version is already published
Package 7/21HostnameOS / ArchINSTALLBUILDCHECKBUILD BIN
msmsTests 1.48.0  (landing page)
Josep Gregori i Font
git_last_commit: 51afab8
git_last_commit_date: 2025-10-29 10:15:47 -0500
nebbiolo2Linux (Ubuntu 24.04.3 LTS) / x86_64  OK    OK    OK  UNNEEDED, same version is already published
kjohnson3macOS 13.7.7 Ventura / arm64  OK    OK    OK    OK  UNNEEDED, same version is already published
Package 8/21HostnameOS / ArchINSTALLBUILDCHECKBUILD BIN
MSnID 1.44.0  (landing page)
Vlad Petyuk
git_last_commit: 80a4b14
git_last_commit_date: 2025-10-29 10:21:36 -0500
nebbiolo2Linux (Ubuntu 24.04.3 LTS) / x86_64  OK    OK    OK  UNNEEDED, same version is already published
kjohnson3macOS 13.7.7 Ventura / arm64  OK    OK    ERROR    OK  
Package 9/21HostnameOS / ArchINSTALLBUILDCHECKBUILD BIN
MSstatsQC 2.28.0  (landing page)
Eralp Dogu
git_last_commit: 718daeb
git_last_commit_date: 2025-10-29 10:41:00 -0500
nebbiolo2Linux (Ubuntu 24.04.3 LTS) / x86_64  OK    OK    OK  UNNEEDED, same version is already published
kjohnson3macOS 13.7.7 Ventura / arm64  OK    OK    OK    OK  UNNEEDED, same version is already published
Package 10/21HostnameOS / ArchINSTALLBUILDCHECKBUILD BIN
omXplore 1.4.0  (landing page)
Samuel Wieczorek
git_last_commit: 8dfb94b
git_last_commit_date: 2025-10-29 11:32:10 -0500
nebbiolo2Linux (Ubuntu 24.04.3 LTS) / x86_64  OK    OK    ERROR  
kjohnson3macOS 13.7.7 Ventura / arm64  OK    OK    ERROR    OK  
Package 11/21HostnameOS / ArchINSTALLBUILDCHECKBUILD BIN
peakPantheR 1.24.0  (landing page)
Arnaud Wolfer
git_last_commit: 9bede65
git_last_commit_date: 2025-10-29 10:54:31 -0500
nebbiolo2Linux (Ubuntu 24.04.3 LTS) / x86_64  OK    OK    OK  UNNEEDED, same version is already published
kjohnson3macOS 13.7.7 Ventura / arm64  OK    OK    OK    OK  UNNEEDED, same version is already published
Package 12/21HostnameOS / ArchINSTALLBUILDCHECKBUILD BIN
PrInCE 1.26.0  (landing page)
Michael Skinnider
git_last_commit: 9307f0b
git_last_commit_date: 2025-10-29 10:50:32 -0500
nebbiolo2Linux (Ubuntu 24.04.3 LTS) / x86_64  OK    OK    WARNINGS  UNNEEDED, same version is already published
kjohnson3macOS 13.7.7 Ventura / arm64  OK    OK    WARNINGS    OK  UNNEEDED, same version is already published
Package 13/21HostnameOS / ArchINSTALLBUILDCHECKBUILD BIN
pRoloc 1.50.0  (landing page)
Lisa Breckels
git_last_commit: 264a1bf
git_last_commit_date: 2025-10-29 10:12:55 -0500
nebbiolo2Linux (Ubuntu 24.04.3 LTS) / x86_64  OK    OK    WARNINGS  UNNEEDED, same version is already published
kjohnson3macOS 13.7.7 Ventura / arm64  OK    OK    WARNINGS    OK  UNNEEDED, same version is already published
Package 14/21HostnameOS / ArchINSTALLBUILDCHECKBUILD BIN
pRolocGUI 2.20.0  (landing page)
Lisa Breckels
git_last_commit: 7531dcd
git_last_commit_date: 2025-10-29 10:20:16 -0500
nebbiolo2Linux (Ubuntu 24.04.3 LTS) / x86_64  OK    OK    OK  UNNEEDED, same version is already published
kjohnson3macOS 13.7.7 Ventura / arm64  OK    OK    OK    OK  UNNEEDED, same version is already published
Package 15/21HostnameOS / ArchINSTALLBUILDCHECKBUILD BIN
PRONE 1.4.0  (landing page)
Lis Arend
git_last_commit: 2b31a49
git_last_commit_date: 2025-10-29 11:32:38 -0500
nebbiolo2Linux (Ubuntu 24.04.3 LTS) / x86_64  OK    OK    OK  UNNEEDED, same version is already published
kjohnson3macOS 13.7.7 Ventura / arm64  OK    OK    OK    OK  UNNEEDED, same version is already published
Package 16/21HostnameOS / ArchINSTALLBUILDCHECKBUILD BIN
ptairMS 1.18.0  (landing page)
camille Roquencourt
git_last_commit: 87f2663
git_last_commit_date: 2025-10-29 11:07:57 -0500
nebbiolo2Linux (Ubuntu 24.04.3 LTS) / x86_64  OK    OK    WARNINGS  UNNEEDED, same version is already published
kjohnson3macOS 13.7.7 Ventura / arm64  OK    OK    WARNINGS    OK  UNNEEDED, same version is already published
Package 17/21HostnameOS / ArchINSTALLBUILDCHECKBUILD BIN
qPLEXanalyzer 1.28.0  (landing page)
Ashley Sawle
git_last_commit: 73100d7
git_last_commit_date: 2025-10-29 10:46:08 -0500
nebbiolo2Linux (Ubuntu 24.04.3 LTS) / x86_64  OK    ERROR  skipped
kjohnson3macOS 13.7.7 Ventura / arm64  OK    ERROR  skippedskipped
Package 18/21HostnameOS / ArchINSTALLBUILDCHECKBUILD BIN
RMassBank 3.20.0  (landing page)
RMassBank at Eawag
git_last_commit: 2056806
git_last_commit_date: 2025-10-29 10:11:40 -0500
nebbiolo2Linux (Ubuntu 24.04.3 LTS) / x86_64  OK    OK    OK  UNNEEDED, same version is already published
kjohnson3macOS 13.7.7 Ventura / arm64  OK    OK    OK    OK  UNNEEDED, same version is already published
Package 19/21HostnameOS / ArchINSTALLBUILDCHECKBUILD BIN
squallms 1.4.0  (landing page)
William Kumler
git_last_commit: b2083b7
git_last_commit_date: 2025-10-29 11:30:51 -0500
nebbiolo2Linux (Ubuntu 24.04.3 LTS) / x86_64  OK    OK    OK  UNNEEDED, same version is already published
kjohnson3macOS 13.7.7 Ventura / arm64  OK    OK    OK    OK  UNNEEDED, same version is already published
Package 20/21HostnameOS / ArchINSTALLBUILDCHECKBUILD BIN
topdownr 1.32.0  (landing page)
Sebastian Gibb
git_last_commit: 7bbdc4a
git_last_commit_date: 2025-10-29 10:41:42 -0500
nebbiolo2Linux (Ubuntu 24.04.3 LTS) / x86_64  OK    OK    OK  UNNEEDED, same version is already published
kjohnson3macOS 13.7.7 Ventura / arm64  OK    OK    OK    OK  UNNEEDED, same version is already published
Package 21/21HostnameOS / ArchINSTALLBUILDCHECKBUILD BIN
xcms 4.8.0  (landing page)
Steffen Neumann
git_last_commit: 8c7e9cf
git_last_commit_date: 2025-10-29 09:56:19 -0500
nebbiolo2Linux (Ubuntu 24.04.3 LTS) / x86_64  OK    OK    OK  UNNEEDED, same version is already published
kjohnson3macOS 13.7.7 Ventura / arm64  OK    OK    OK    OK  UNNEEDED, same version is already published