| Back to Multiple platform build/check report for BioC 3.21: simplified long |
|
This page was generated on 2025-10-16 11:37 -0400 (Thu, 16 Oct 2025).
| Hostname | OS | Arch (*) | R version | Installed pkgs |
|---|---|---|---|---|
| nebbiolo1 | Linux (Ubuntu 24.04.3 LTS) | x86_64 | 4.5.1 (2025-06-13) -- "Great Square Root" | 4833 |
| merida1 | macOS 12.7.6 Monterey | x86_64 | 4.5.1 RC (2025-06-05 r88288) -- "Great Square Root" | 4614 |
| kjohnson1 | macOS 13.7.5 Ventura | arm64 | 4.5.1 Patched (2025-06-14 r88325) -- "Great Square Root" | 4555 |
| kunpeng2 | Linux (openEuler 24.03 LTS) | aarch64 | R Under development (unstable) (2025-02-19 r87757) -- "Unsuffered Consequences" | 4586 |
| Click on any hostname to see more info about the system (e.g. compilers) (*) as reported by 'uname -p', except on Windows and Mac OS X | ||||
| Package 515/2341 | Hostname | OS / Arch | INSTALL | BUILD | CHECK | BUILD BIN | ||||||||
| DAPAR 1.40.0 (landing page) Samuel Wieczorek
| nebbiolo1 | Linux (Ubuntu 24.04.3 LTS) / x86_64 | OK | OK | OK | |||||||||
| merida1 | macOS 12.7.6 Monterey / x86_64 | OK | OK | OK | OK | |||||||||
| kjohnson1 | macOS 13.7.5 Ventura / arm64 | OK | OK | OK | OK | |||||||||
| kunpeng2 | Linux (openEuler 24.03 LTS) / aarch64 | OK | OK | OK | ||||||||||
|
To the developers/maintainers of the DAPAR package: - Allow up to 24 hours (and sometimes 48 hours) for your latest push to git@git.bioconductor.org:packages/DAPAR.git to reflect on this report. See Troubleshooting Build Report for more information. - Use the following Renviron settings to reproduce errors and warnings. - If 'R CMD check' started to fail recently on the Linux builder(s) over a missing dependency, add the missing dependency to 'Suggests:' in your DESCRIPTION file. See Renviron.bioc for more information. |
| Package: DAPAR |
| Version: 1.40.0 |
| Command: /home/biocbuild/bbs-3.21-bioc/R/bin/R CMD check --install=check:DAPAR.install-out.txt --library=/home/biocbuild/bbs-3.21-bioc/R/site-library --timings DAPAR_1.40.0.tar.gz |
| StartedAt: 2025-10-15 22:19:50 -0400 (Wed, 15 Oct 2025) |
| EndedAt: 2025-10-15 22:29:28 -0400 (Wed, 15 Oct 2025) |
| EllapsedTime: 577.6 seconds |
| RetCode: 0 |
| Status: OK |
| CheckDir: DAPAR.Rcheck |
| Warnings: 0 |
##############################################################################
##############################################################################
###
### Running command:
###
### /home/biocbuild/bbs-3.21-bioc/R/bin/R CMD check --install=check:DAPAR.install-out.txt --library=/home/biocbuild/bbs-3.21-bioc/R/site-library --timings DAPAR_1.40.0.tar.gz
###
##############################################################################
##############################################################################
* using log directory ‘/home/biocbuild/bbs-3.21-bioc/meat/DAPAR.Rcheck’
* using R version 4.5.1 (2025-06-13)
* using platform: x86_64-pc-linux-gnu
* R was compiled by
gcc (Ubuntu 13.3.0-6ubuntu2~24.04) 13.3.0
GNU Fortran (Ubuntu 13.3.0-6ubuntu2~24.04) 13.3.0
* running under: Ubuntu 24.04.3 LTS
* using session charset: UTF-8
* checking for file ‘DAPAR/DESCRIPTION’ ... OK
* checking extension type ... Package
* this is package ‘DAPAR’ version ‘1.40.0’
* package encoding: UTF-8
* checking package namespace information ... OK
* checking package dependencies ... INFO
Vignette dependency required without any vignettes: ‘knitr’
* checking if this is a source package ... OK
* checking if there is a namespace ... OK
* checking for hidden files and directories ... OK
* checking for portable file names ... OK
* checking for sufficient/correct file permissions ... OK
* checking whether package ‘DAPAR’ can be installed ... OK
* checking installed package size ... OK
* checking package directory ... OK
* checking DESCRIPTION meta-information ... OK
* checking top-level files ... OK
* checking for left-over files ... OK
* checking index information ... OK
* checking package subdirectories ... OK
* checking code files for non-ASCII characters ... OK
* checking R files for syntax errors ... OK
* checking whether the package can be loaded ... OK
* checking whether the package can be loaded with stated dependencies ... OK
* checking whether the package can be unloaded cleanly ... OK
* checking whether the namespace can be loaded with stated dependencies ... OK
* checking whether the namespace can be unloaded cleanly ... OK
* checking loading without being on the library search path ... OK
* checking whether startup messages can be suppressed ... OK
* checking dependencies in R code ... OK
* checking S3 generic/method consistency ... OK
* checking replacement functions ... OK
* checking foreign function calls ... OK
* checking R code for possible problems ... NOTE
Check_Dataset_Validity: no visible global function definition for
‘exprs’
OWAnova: no visible global function definition for ‘aov’
aggregateIterParallel: no visible binding for global variable ‘cond’
averageIntensities: no visible binding for global variable ‘condition’
averageIntensities: no visible binding for global variable ‘feature’
averageIntensities: no visible binding for global variable ‘intensity’
createMSnset: no visible global function definition for
‘installed.packages’
createMSnset: no visible binding for global variable ‘Prostar.loc’
createMSnset2: no visible global function definition for
‘installed.packages’
createMSnset2: no visible binding for global variable ‘Prostar.loc’
diffAnaVolcanoplot_rCharts: no visible binding for global variable ‘x’
diffAnaVolcanoplot_rCharts: no visible binding for global variable ‘y’
diffAnaVolcanoplot_rCharts: no visible binding for global variable ‘g’
display.CC.visNet: no visible binding for global variable
‘layout_nicely’
getTextForGOAnalysis: no visible binding for global variable
‘textGOParams’
getTextForGOAnalysis: no visible binding for global variable ‘input’
globalAdjPval: no visible global function definition for ‘stack’
heatmapForMissingValues: no visible binding for global variable ‘par’
limmaCompleteTest: no visible binding for global variable ‘A’
limmaCompleteTest: no visible binding for global variable ‘B’
limmaCompleteTest: no visible binding for global variable ‘P.Value’
pepa.test: no visible global function definition for ‘nodes<-’
testAnovaModels : <anonymous>: no visible global function definition
for ‘TukeyHSD’
visualizeClusters: no visible binding for global variable
‘adjusted_pvalues’
visualizeClusters: no visible binding for global variable ‘Condition’
visualizeClusters: no visible binding for global variable ‘Intensity’
visualizeClusters: no visible binding for global variable
‘FDR_threshold’
visualizeClusters: no visible binding for global variable ‘feature’
wrapperClassic1wayAnova: no visible binding for global variable
‘Pr(>F)1’
wrapperRunClustering: no visible global function definition for ‘str_c’
Undefined global functions or variables:
A B Condition FDR_threshold Intensity P.Value Pr(>F)1 Prostar.loc
TukeyHSD adjusted_pvalues aov cond condition exprs feature g input
installed.packages intensity layout_nicely nodes<- par stack str_c
textGOParams x y
Consider adding
importFrom("graphics", "par")
importFrom("stats", "TukeyHSD", "aov")
importFrom("utils", "installed.packages", "stack")
to your NAMESPACE file.
* checking Rd files ... OK
* checking Rd metadata ... OK
* checking Rd cross-references ... OK
* checking for missing documentation entries ... OK
* checking for code/documentation mismatches ... OK
* checking Rd \usage sections ... OK
* checking Rd contents ... OK
* checking for unstated dependencies in examples ... OK
* checking examples ... OK
Examples with CPU (user + system) or elapsed time > 5s
user system elapsed
wrapper.compareNormalizationD_HC 38.654 12.870 51.915
wrapper.dapar.impute.mi 15.256 0.457 15.730
barplotEnrichGO_HC 7.845 1.079 8.994
* checking for unstated dependencies in ‘tests’ ... OK
* checking tests ...
Running ‘testthat.R’
OK
* checking PDF version of manual ... OK
* DONE
Status: 1 NOTE
See
‘/home/biocbuild/bbs-3.21-bioc/meat/DAPAR.Rcheck/00check.log’
for details.
DAPAR.Rcheck/00install.out
############################################################################## ############################################################################## ### ### Running command: ### ### /home/biocbuild/bbs-3.21-bioc/R/bin/R CMD INSTALL DAPAR ### ############################################################################## ############################################################################## * installing to library ‘/home/biocbuild/bbs-3.21-bioc/R/site-library’ * installing *source* package ‘DAPAR’ ... ** this is package ‘DAPAR’ version ‘1.40.0’ ** using staged installation ** R ** inst ** byte-compile and prepare package for lazy loading ** help *** installing help indices ** building package indices ** testing if installed package can be loaded from temporary location ** testing if installed package can be loaded from final location ** testing if installed package keeps a record of temporary installation path * DONE (DAPAR)
DAPAR.Rcheck/tests/testthat.Rout
R version 4.5.1 (2025-06-13) -- "Great Square Root"
Copyright (C) 2025 The R Foundation for Statistical Computing
Platform: x86_64-pc-linux-gnu
R is free software and comes with ABSOLUTELY NO WARRANTY.
You are welcome to redistribute it under certain conditions.
Type 'license()' or 'licence()' for distribution details.
R is a collaborative project with many contributors.
Type 'contributors()' for more information and
'citation()' on how to cite R or R packages in publications.
Type 'demo()' for some demos, 'help()' for on-line help, or
'help.start()' for an HTML browser interface to help.
Type 'q()' to quit R.
> library(testthat)
> library(DAPAR)
This is the 'DAPAR' version 1.40.0.
To get started, visit
http://www.prostar-proteomics.org/
>
> test_check("DAPAR")
Iterations:
1 / 1 - Imputation MNAR OK -
Imputation MCAR in progress -
3 % - 6 % - 9 % - 12 % - 15 % - 18 % - 21 % - 24 % - 27 % - 30 % - 33 % - 36 % - 39 % - 42 % - 45 % - 48 % - 51 % - 54 % - 57 % - 60 % - 63 % - 66 % - 69 % - 72 % - 75 % - 78 % - 81 % - 84 % - 87 % - 90 % - 93 % - 96 % - 99 % -
Iterations:
1 / 1 - Imputation MNAR OK -
Imputation MCAR in progress -
3 % - 6 % - 9 % - 12 % - 15 % - 18 % - 21 % - 24 % - 27 % - 30 % - 33 % - 36 % - 39 % - 42 % - 45 % - 48 % - 51 % - 54 % - 57 % - 60 % - 63 % - 66 % - 69 % - 72 % - 75 % - 78 % - 81 % - 84 % - 87 % - 90 % - 93 % - 96 % - 99 % -
Imputation in condition 1 ...
In progress: 10 % - 20 % - 30 % - 40 % - 50 % - 60 % - 70 % - 80 % - 90 % - 100 % -
Imputation in condition 2 ...
In progress: 10 % - 20 % - 30 % - 40 % - 50 % - 60 % - 70 % - 80 % - 90 % - 100 % - [ FAIL 0 | WARN 18 | SKIP 0 | PASS 66 ]
[ FAIL 0 | WARN 18 | SKIP 0 | PASS 66 ]
>
> proc.time()
user system elapsed
35.936 1.288 37.225
DAPAR.Rcheck/DAPAR-Ex.timings
| name | user | system | elapsed | |
| AggregateMetacell | 0.585 | 0.027 | 0.613 | |
| BuildAdjacencyMatrix | 0.478 | 0.014 | 0.492 | |
| BuildColumnToProteinDataset | 0.605 | 0.019 | 0.624 | |
| BuildMetaCell | 2.193 | 0.349 | 2.546 | |
| CVDistD_HC | 2.402 | 0.148 | 2.570 | |
| Children | 0.004 | 0.001 | 0.005 | |
| CountPep | 0.520 | 0.036 | 0.556 | |
| ExtendPalette | 0.030 | 0.001 | 0.031 | |
| GOAnalysisSave | 0 | 0 | 0 | |
| GetCC | 3.701 | 0.347 | 4.048 | |
| GetColorsForConditions | 0.524 | 0.037 | 0.562 | |
| GetDetailedNbPeptides | 0.516 | 0.030 | 0.546 | |
| GetDetailedNbPeptidesUsed | 0 | 0 | 0 | |
| GetIndices_BasedOnConditions | 0.483 | 0.021 | 0.504 | |
| GetIndices_MetacellFiltering | 0.481 | 0.047 | 0.528 | |
| GetIndices_WholeLine | 0.466 | 0.014 | 0.479 | |
| GetIndices_WholeMatrix | 0.457 | 0.040 | 0.497 | |
| GetKeyId | 0.433 | 0.029 | 0.463 | |
| GetMatAdj | 0.496 | 0.041 | 0.537 | |
| GetMetacell | 0 | 0 | 0 | |
| GetMetacellTags | 0.445 | 0.022 | 0.467 | |
| GetNbPeptidesUsed | 0.457 | 0.019 | 0.476 | |
| GetNbTags | 0 | 0 | 0 | |
| GetSoftAvailables | 0 | 0 | 0 | |
| GetTypeofData | 0.440 | 0.026 | 0.466 | |
| Get_AllComparisons | 0.286 | 0.043 | 0.330 | |
| GlobalQuantileAlignment | 0.462 | 0.023 | 0.487 | |
| GraphPepProt | 0.469 | 0.015 | 0.485 | |
| LH0 | 0.000 | 0.000 | 0.001 | |
| LH0.lm | 0 | 0 | 0 | |
| LH1 | 0 | 0 | 0 | |
| LH1.lm | 0.000 | 0.000 | 0.001 | |
| LOESS | 1.219 | 0.024 | 1.243 | |
| MeanCentering | 0.453 | 0.012 | 0.465 | |
| MetaCellFiltering | 0.627 | 0.007 | 0.634 | |
| MetacellFilteringScope | 0 | 0 | 0 | |
| Metacell_DIA_NN | 0.519 | 0.010 | 0.529 | |
| Metacell_generic | 0.463 | 0.015 | 0.478 | |
| Metacell_maxquant | 0.401 | 0.005 | 0.406 | |
| Metacell_proline | 0.386 | 0.006 | 0.392 | |
| NumericalFiltering | 0.503 | 0.012 | 0.515 | |
| NumericalgetIndicesOfLinesToRemove | 0.437 | 0.023 | 0.461 | |
| OWAnova | 0.005 | 0.003 | 0.008 | |
| QuantileCentering | 0.421 | 0.022 | 0.443 | |
| SetCC | 2.870 | 0.376 | 3.246 | |
| SetMatAdj | 0.485 | 0.014 | 0.499 | |
| Set_POV_MEC_tags | 0.458 | 0.015 | 0.474 | |
| StringBasedFiltering | 0.469 | 0.019 | 0.488 | |
| StringBasedFiltering2 | 0.464 | 0.017 | 0.481 | |
| SumByColumns | 1.266 | 0.143 | 1.409 | |
| SymFilteringOperators | 0 | 0 | 0 | |
| UpdateMetacellAfterImputation | 0.455 | 0.014 | 0.469 | |
| aggregateIter | 0.59 | 0.03 | 0.62 | |
| aggregateIterParallel | 0 | 0 | 0 | |
| aggregateMean | 0.514 | 0.023 | 0.536 | |
| aggregateSum | 0.563 | 0.012 | 0.575 | |
| aggregateTopn | 0.515 | 0.029 | 0.544 | |
| applyAnovasOnProteins | 0.141 | 0.003 | 0.145 | |
| averageIntensities | 0.491 | 0.073 | 0.566 | |
| barplotEnrichGO_HC | 7.845 | 1.079 | 8.994 | |
| barplotGroupGO_HC | 4.131 | 0.337 | 4.470 | |
| boxPlotD_HC | 0.254 | 0.033 | 0.287 | |
| buildGraph | 1.812 | 0.118 | 1.931 | |
| check.conditions | 0.436 | 0.010 | 0.445 | |
| check.design | 0.450 | 0.006 | 0.456 | |
| checkClusterability | 2.376 | 0.899 | 3.306 | |
| classic1wayAnova | 0 | 0 | 0 | |
| compareNormalizationD_HC | 0.171 | 0.012 | 0.184 | |
| compute.selection.table | 0.697 | 0.074 | 0.774 | |
| compute_t_tests | 1.010 | 0.076 | 1.090 | |
| corrMatrixD_HC | 0.512 | 0.036 | 0.549 | |
| createMSnset | 1.618 | 0.078 | 1.698 | |
| createMSnset2 | 1.648 | 0.053 | 1.703 | |
| dapar_hc_ExportMenu | 0.122 | 0.031 | 0.154 | |
| dapar_hc_chart | 0.051 | 0.014 | 0.065 | |
| deleteLinesFromIndices | 0.540 | 0.023 | 0.563 | |
| densityPlotD_HC | 2.424 | 0.637 | 3.080 | |
| diffAnaComputeAdjustedPValues | 0.191 | 0.022 | 0.215 | |
| diffAnaComputeFDR | 0 | 0 | 0 | |
| diffAnaGetSignificant | 0.266 | 0.034 | 0.301 | |
| diffAnaSave | 0.259 | 0.025 | 0.284 | |
| diffAnaVolcanoplot | 0.194 | 0.017 | 0.212 | |
| diffAnaVolcanoplot_rCharts | 0.435 | 0.045 | 0.480 | |
| display.CC.visNet | 2.114 | 0.084 | 2.200 | |
| enrich_GO | 4.214 | 0.224 | 4.445 | |
| finalizeAggregation | 0 | 0 | 0 | |
| findMECBlock | 0.496 | 0.013 | 0.510 | |
| formatHSDResults | 0.001 | 0.000 | 0.000 | |
| formatLimmaResult | 0.186 | 0.009 | 0.195 | |
| formatPHResults | 0 | 0 | 0 | |
| formatPHTResults | 0 | 0 | 0 | |
| fudge2LRT | 0.000 | 0.000 | 0.001 | |
| get.pep.prot.cc | 1.840 | 0.008 | 1.849 | |
| getDesignLevel | 0.433 | 0.008 | 0.441 | |
| getIndicesConditions | 0.435 | 0.014 | 0.448 | |
| getIndicesOfLinesToRemove | 0.453 | 0.008 | 0.463 | |
| getListNbValuesInLines | 0.435 | 0.016 | 0.451 | |
| getNumberOf | 0.462 | 0.012 | 0.475 | |
| getNumberOfEmptyLines | 0.465 | 0.016 | 0.482 | |
| getPourcentageOfMV | 0.458 | 0.017 | 0.475 | |
| getProcessingInfo | 0.434 | 0.009 | 0.443 | |
| getProteinsStats | 0.461 | 0.013 | 0.474 | |
| getQuantile4Imp | 0.121 | 0.002 | 0.123 | |
| getTextForAggregation | 0.001 | 0.000 | 0.001 | |
| getTextForAnaDiff | 0.001 | 0.000 | 0.001 | |
| getTextForFiltering | 0.001 | 0.000 | 0.001 | |
| getTextForGOAnalysis | 0 | 0 | 0 | |
| getTextForHypothesisTest | 0.001 | 0.000 | 0.000 | |
| getTextForNewDataset | 0.002 | 0.000 | 0.002 | |
| getTextForNormalization | 0.000 | 0.000 | 0.001 | |
| getTextForpeptideImputation | 0.000 | 0.000 | 0.001 | |
| getTextForproteinImputation | 0.001 | 0.000 | 0.001 | |
| globalAdjPval | 0.409 | 0.026 | 0.436 | |
| group_GO | 4.184 | 0.231 | 4.422 | |
| hc_logFC_DensityPlot | 0.650 | 0.135 | 0.788 | |
| hc_mvTypePlot2 | 0.824 | 0.104 | 0.933 | |
| heatmapD | 0.746 | 0.028 | 0.774 | |
| heatmapForMissingValues | 0.238 | 0.010 | 0.249 | |
| histPValue_HC | 0.232 | 0.018 | 0.251 | |
| impute.pa2 | 0.526 | 0.027 | 0.552 | |
| inner.aggregate.iter | 0.535 | 0.017 | 0.552 | |
| inner.aggregate.topn | 0.488 | 0.020 | 0.509 | |
| inner.mean | 0.500 | 0.011 | 0.510 | |
| inner.sum | 0.528 | 0.021 | 0.549 | |
| is.subset | 0.000 | 0.000 | 0.001 | |
| limmaCompleteTest | 1.346 | 0.024 | 1.372 | |
| listSheets | 0 | 0 | 0 | |
| make.contrast | 0.485 | 0.004 | 0.489 | |
| make.design.1 | 0.467 | 0.016 | 0.483 | |
| make.design.2 | 0.470 | 0.016 | 0.487 | |
| make.design.3 | 0.464 | 0.015 | 0.480 | |
| make.design | 0.546 | 0.020 | 0.567 | |
| match.metacell | 0.494 | 0.012 | 0.507 | |
| metacell.def | 0.005 | 0.000 | 0.004 | |
| metacellHisto_HC | 0.517 | 0.019 | 0.535 | |
| metacellPerLinesHistoPerCondition_HC | 0.610 | 0.029 | 0.640 | |
| metacellPerLinesHisto_HC | 0.691 | 0.075 | 0.767 | |
| metacombine | 0.145 | 0.003 | 0.148 | |
| mvImage | 2.123 | 0.054 | 2.180 | |
| my_hc_ExportMenu | 0.110 | 0.031 | 0.141 | |
| my_hc_chart | 0.121 | 0.021 | 0.142 | |
| nonzero | 0.017 | 0.003 | 0.019 | |
| normalizeMethods.dapar | 0 | 0 | 0 | |
| pepa.test | 0.497 | 0.013 | 0.510 | |
| pkgs.require | 0 | 0 | 0 | |
| plotJitter | 1.900 | 0.056 | 1.956 | |
| plotJitter_rCharts | 1.789 | 0.109 | 1.899 | |
| plotPCA_Eigen | 0.495 | 0.031 | 0.526 | |
| plotPCA_Eigen_hc | 0.432 | 0.009 | 0.442 | |
| plotPCA_Ind | 0.439 | 0.012 | 0.450 | |
| plotPCA_Var | 0.426 | 0.015 | 0.441 | |
| postHocTest | 0.000 | 0.000 | 0.001 | |
| proportionConRev_HC | 0.037 | 0.013 | 0.051 | |
| rbindMSnset | 0.509 | 0.032 | 0.542 | |
| reIntroduceMEC | 0.484 | 0.021 | 0.505 | |
| readExcel | 0 | 0 | 0 | |
| removeLines | 0.465 | 0.024 | 0.489 | |
| samLRT | 0.000 | 0.000 | 0.001 | |
| saveParameters | 0.434 | 0.013 | 0.447 | |
| scatterplotEnrichGO_HC | 4.055 | 0.210 | 4.265 | |
| search.metacell.tags | 0.006 | 0.001 | 0.007 | |
| separateAdjPval | 0.200 | 0.009 | 0.209 | |
| splitAdjacencyMat | 0.513 | 0.017 | 0.531 | |
| test.design | 0.474 | 0.012 | 0.487 | |
| testAnovaModels | 0.145 | 0.006 | 0.150 | |
| thresholdpval4fdr | 0 | 0 | 0 | |
| translatedRandomBeta | 0.000 | 0.008 | 0.008 | |
| univ_AnnotDbPkg | 0.183 | 0.045 | 0.228 | |
| violinPlotD | 0.334 | 0.008 | 0.341 | |
| visualizeClusters | 1.311 | 0.099 | 1.414 | |
| vsn | 0.687 | 0.019 | 0.706 | |
| wrapper.CVDistD_HC | 1.708 | 0.411 | 2.129 | |
| wrapper.compareNormalizationD_HC | 38.654 | 12.870 | 51.915 | |
| wrapper.corrMatrixD_HC | 0.515 | 0.029 | 0.545 | |
| wrapper.dapar.impute.mi | 15.256 | 0.457 | 15.730 | |
| wrapper.heatmapD | 0.671 | 0.017 | 0.689 | |
| wrapper.impute.KNN | 0.491 | 0.009 | 0.499 | |
| wrapper.impute.detQuant | 0.578 | 0.016 | 0.596 | |
| wrapper.impute.fixedValue | 0.530 | 0.014 | 0.544 | |
| wrapper.impute.mle | 0.479 | 0.015 | 0.495 | |
| wrapper.impute.pa | 0.161 | 0.005 | 0.167 | |
| wrapper.impute.pa2 | 0.502 | 0.015 | 0.518 | |
| wrapper.impute.slsa | 0.620 | 0.033 | 0.654 | |
| wrapper.mvImage | 0.182 | 0.012 | 0.195 | |
| wrapper.normalizeD | 0.535 | 0.003 | 0.538 | |
| wrapper.pca | 0.168 | 0.013 | 0.181 | |
| wrapperCalibrationPlot | 0.208 | 0.014 | 0.222 | |
| wrapperClassic1wayAnova | 0 | 0 | 0 | |
| wrapperRunClustering | 3.775 | 0.206 | 3.985 | |
| write.excel | 0.790 | 0.073 | 0.864 | |
| writeMSnsetToCSV | 0.463 | 0.015 | 0.478 | |
| writeMSnsetToExcel | 0.944 | 0.143 | 1.088 | |