| Back to Multiple platform build/check report for BioC 3.22: simplified long |
|
This page was generated on 2025-11-05 12:40 -0500 (Wed, 05 Nov 2025).
| Hostname | OS | Arch (*) | R version | Installed pkgs |
|---|---|---|---|---|
| nebbiolo2 | Linux (Ubuntu 24.04.3 LTS) | x86_64 | 4.5.1 Patched (2025-08-23 r88802) -- "Great Square Root" | 4902 |
| kjohnson3 | macOS 13.7.7 Ventura | arm64 | 4.5.1 Patched (2025-09-10 r88807) -- "Great Square Root" | 4638 |
| Click on any hostname to see more info about the system (e.g. compilers) (*) as reported by 'uname -p', except on Windows and Mac OS X | ||||
| Package 1081/2361 | Hostname | OS / Arch | INSTALL | BUILD | CHECK | BUILD BIN | ||||||||
| ISAnalytics 1.20.0 (landing page) Francesco Gazzo
| nebbiolo2 | Linux (Ubuntu 24.04.3 LTS) / x86_64 | OK | OK | OK | |||||||||
| kjohnson3 | macOS 13.7.7 Ventura / arm64 | OK | OK | OK | OK | |||||||||
|
To the developers/maintainers of the ISAnalytics package: - Allow up to 24 hours (and sometimes 48 hours) for your latest push to git@git.bioconductor.org:packages/ISAnalytics.git to reflect on this report. See Troubleshooting Build Report for more information. - Use the following Renviron settings to reproduce errors and warnings. - If 'R CMD check' started to fail recently on the Linux builder(s) over a missing dependency, add the missing dependency to 'Suggests:' in your DESCRIPTION file. See Renviron.bioc for more information. |
| Package: ISAnalytics |
| Version: 1.20.0 |
| Command: /home/biocbuild/bbs-3.22-bioc/R/bin/R CMD check --install=check:ISAnalytics.install-out.txt --library=/home/biocbuild/bbs-3.22-bioc/R/site-library --timings ISAnalytics_1.20.0.tar.gz |
| StartedAt: 2025-11-05 00:45:23 -0500 (Wed, 05 Nov 2025) |
| EndedAt: 2025-11-05 00:55:17 -0500 (Wed, 05 Nov 2025) |
| EllapsedTime: 593.6 seconds |
| RetCode: 0 |
| Status: OK |
| CheckDir: ISAnalytics.Rcheck |
| Warnings: 0 |
##############################################################################
##############################################################################
###
### Running command:
###
### /home/biocbuild/bbs-3.22-bioc/R/bin/R CMD check --install=check:ISAnalytics.install-out.txt --library=/home/biocbuild/bbs-3.22-bioc/R/site-library --timings ISAnalytics_1.20.0.tar.gz
###
##############################################################################
##############################################################################
* using log directory ‘/home/biocbuild/bbs-3.22-bioc/meat/ISAnalytics.Rcheck’
* using R version 4.5.1 Patched (2025-08-23 r88802)
* using platform: x86_64-pc-linux-gnu
* R was compiled by
gcc (Ubuntu 13.3.0-6ubuntu2~24.04) 13.3.0
GNU Fortran (Ubuntu 13.3.0-6ubuntu2~24.04) 13.3.0
* running under: Ubuntu 24.04.3 LTS
* using session charset: UTF-8
* checking for file ‘ISAnalytics/DESCRIPTION’ ... OK
* this is package ‘ISAnalytics’ version ‘1.20.0’
* package encoding: UTF-8
* checking package namespace information ... OK
* checking package dependencies ... INFO
Imports includes 22 non-default packages.
Importing from so many packages makes the package vulnerable to any of
them becoming unavailable. Move as many as possible to Suggests and
use conditionally.
* checking if this is a source package ... OK
* checking if there is a namespace ... OK
* checking for hidden files and directories ... OK
* checking for portable file names ... OK
* checking for sufficient/correct file permissions ... OK
* checking whether package ‘ISAnalytics’ can be installed ... OK
* checking installed package size ... INFO
installed size is 8.3Mb
sub-directories of 1Mb or more:
data 5.8Mb
* checking package directory ... OK
* checking ‘build’ directory ... OK
* checking DESCRIPTION meta-information ... OK
* checking top-level files ... OK
* checking for left-over files ... OK
* checking index information ... OK
* checking package subdirectories ... OK
* checking code files for non-ASCII characters ... OK
* checking R files for syntax errors ... OK
* checking whether the package can be loaded ... OK
* checking whether the package can be loaded with stated dependencies ... OK
* checking whether the package can be unloaded cleanly ... OK
* checking whether the namespace can be loaded with stated dependencies ... OK
* checking whether the namespace can be unloaded cleanly ... OK
* checking loading without being on the library search path ... OK
* checking whether startup messages can be suppressed ... OK
* checking dependencies in R code ... OK
* checking S3 generic/method consistency ... OK
* checking replacement functions ... OK
* checking foreign function calls ... OK
* checking R code for possible problems ... OK
* checking Rd files ... NOTE
checkRd: (-1) refGenes_hg19.Rd:21: Lost braces; missing escapes or markup?
21 | \item Download from {http://hgdownload.soe.ucsc.edu/goldenPath/hg19/database/}
| ^
* checking Rd metadata ... OK
* checking Rd cross-references ... OK
* checking for missing documentation entries ... OK
* checking for code/documentation mismatches ... OK
* checking Rd \usage sections ... OK
* checking Rd contents ... OK
* checking for unstated dependencies in examples ... OK
* checking contents of ‘data’ directory ... OK
* checking data for non-ASCII characters ... OK
* checking data for ASCII and uncompressed saves ... OK
* checking files in ‘vignettes’ ... OK
* checking examples ... OK
Examples with CPU (user + system) or elapsed time > 5s
user system elapsed
sharing_venn 4.134 0.488 32.460
integration_alluvial_plot 3.780 0.569 11.320
import_parallel_Vispa2Matrices 3.212 0.498 17.933
sharing_heatmap 2.166 0.625 11.118
top_cis_overtime_heatmap 1.922 0.201 8.900
CIS_grubbs_overtime 1.942 0.101 7.612
import_Vispa2_stats 1.647 0.215 7.964
HSC_population_plot 1.510 0.273 7.094
is_sharing 1.603 0.152 9.370
iss_source 1.625 0.043 8.711
realign_after_collisions 1.279 0.093 7.506
remove_collisions 1.239 0.081 7.356
compute_near_integrations 1.069 0.019 8.291
HSC_population_size_estimate 1.015 0.068 6.537
* checking for unstated dependencies in ‘tests’ ... OK
* checking tests ...
Running ‘testthat.R’
OK
* checking for unstated dependencies in vignettes ... OK
* checking package vignettes ... OK
* checking re-building of vignette outputs ... OK
* checking PDF version of manual ... OK
* DONE
Status: 1 NOTE
See
‘/home/biocbuild/bbs-3.22-bioc/meat/ISAnalytics.Rcheck/00check.log’
for details.
ISAnalytics.Rcheck/00install.out
############################################################################## ############################################################################## ### ### Running command: ### ### /home/biocbuild/bbs-3.22-bioc/R/bin/R CMD INSTALL ISAnalytics ### ############################################################################## ############################################################################## * installing to library ‘/home/biocbuild/bbs-3.22-bioc/R/site-library’ * installing *source* package ‘ISAnalytics’ ... ** this is package ‘ISAnalytics’ version ‘1.20.0’ ** using staged installation ** R ** data ** inst ** byte-compile and prepare package for lazy loading ** help *** installing help indices *** copying figures ** building package indices ** installing vignettes ** testing if installed package can be loaded from temporary location ** testing if installed package can be loaded from final location ** testing if installed package keeps a record of temporary installation path * DONE (ISAnalytics)
ISAnalytics.Rcheck/tests/testthat.Rout
R version 4.5.1 Patched (2025-08-23 r88802) -- "Great Square Root"
Copyright (C) 2025 The R Foundation for Statistical Computing
Platform: x86_64-pc-linux-gnu
R is free software and comes with ABSOLUTELY NO WARRANTY.
You are welcome to redistribute it under certain conditions.
Type 'license()' or 'licence()' for distribution details.
R is a collaborative project with many contributors.
Type 'contributors()' for more information and
'citation()' on how to cite R or R packages in publications.
Type 'demo()' for some demos, 'help()' for on-line help, or
'help.start()' for an HTML browser interface to help.
Type 'q()' to quit R.
> library(testthat)
> library(ISAnalytics)
>
> test_check("ISAnalytics")
Loading required namespace: plotly
Loading required namespace: rmarkdown
Report correctly saved
i Report saved to: /tmp/RtmpzbsZRl/file37c0f75f915dd/2025-11-05_collision_removal_report.html
Report correctly saved
i Report saved to: /tmp/RtmpzbsZRl/file37c0f2b1ee835/2025-11-05_outlier_test_pool_fragments_report.html
[ FAIL 0 | WARN 0 | SKIP 0 | PASS 834 ]
>
> proc.time()
user system elapsed
103.121 5.798 280.368
ISAnalytics.Rcheck/ISAnalytics-Ex.timings
| name | user | system | elapsed | |
| CIS_grubbs | 0.829 | 0.038 | 0.866 | |
| CIS_grubbs_overtime | 1.942 | 0.101 | 7.612 | |
| CIS_volcano_plot | 1.517 | 0.227 | 1.744 | |
| HSC_population_plot | 1.510 | 0.273 | 7.094 | |
| HSC_population_size_estimate | 1.015 | 0.068 | 6.537 | |
| NGSdataExplorer | 0 | 0 | 0 | |
| aggregate_metadata | 0.094 | 0.001 | 0.096 | |
| aggregate_values_by_key | 0.063 | 0.000 | 0.063 | |
| annotation_issues | 0.027 | 0.001 | 0.027 | |
| as_sparse_matrix | 0.05 | 0.00 | 0.05 | |
| available_outlier_tests | 0 | 0 | 0 | |
| available_tags | 0.021 | 0.000 | 0.021 | |
| blood_lineages_default | 0.028 | 0.000 | 0.028 | |
| circos_genomic_density | 0 | 0 | 0 | |
| clinical_relevant_suspicious_genes | 0.012 | 0.000 | 0.012 | |
| comparison_matrix | 0.027 | 0.000 | 0.027 | |
| compute_abundance | 0.033 | 0.001 | 0.034 | |
| compute_near_integrations | 1.069 | 0.019 | 8.291 | |
| cumulative_count_union | 0 | 0 | 0 | |
| cumulative_is | 0.183 | 0.000 | 0.184 | |
| date_formats | 0 | 0 | 0 | |
| default_af_transform | 0 | 0 | 0 | |
| default_iss_file_prefixes | 0.000 | 0.000 | 0.001 | |
| default_meta_agg | 0.016 | 0.000 | 0.016 | |
| default_rec_agg_lambdas | 0 | 0 | 0 | |
| default_report_path | 0.008 | 0.000 | 0.007 | |
| default_stats | 1.165 | 0.015 | 1.180 | |
| enable_progress_bars | 0.014 | 0.001 | 0.015 | |
| export_ISA_settings | 0.064 | 0.009 | 0.073 | |
| fisher_scatterplot | 1.132 | 0.115 | 1.247 | |
| gene_frequency_fisher | 0.940 | 0.029 | 0.969 | |
| generate_Vispa2_launch_AF | 0.185 | 0.022 | 0.206 | |
| generate_blank_association_file | 0.013 | 0.000 | 0.013 | |
| generate_default_folder_structure | 0.389 | 0.077 | 0.466 | |
| import_ISA_settings | 0.059 | 0.000 | 0.058 | |
| import_Vispa2_stats | 1.647 | 0.215 | 7.964 | |
| import_association_file | 0.536 | 0.141 | 0.678 | |
| import_parallel_Vispa2Matrices | 3.212 | 0.498 | 17.933 | |
| import_single_Vispa2Matrix | 0.988 | 0.092 | 1.081 | |
| inspect_tags | 0.014 | 0.000 | 0.014 | |
| integration_alluvial_plot | 3.780 | 0.569 | 11.320 | |
| is_sharing | 1.603 | 0.152 | 9.370 | |
| iss_source | 1.625 | 0.043 | 8.711 | |
| known_clinical_oncogenes | 0.010 | 0.001 | 0.010 | |
| mandatory_IS_vars | 0.086 | 0.001 | 0.087 | |
| matching_options | 0 | 0 | 0 | |
| outlier_filter | 0.135 | 0.005 | 0.140 | |
| outliers_by_pool_fragments | 0.157 | 0.007 | 0.164 | |
| pcr_id_column | 0.021 | 0.000 | 0.021 | |
| purity_filter | 0.319 | 0.010 | 0.330 | |
| quantification_types | 0 | 0 | 0 | |
| realign_after_collisions | 1.279 | 0.093 | 7.506 | |
| reduced_AF_columns | 0.040 | 0.000 | 0.041 | |
| refGene_table_cols | 0 | 0 | 0 | |
| remove_collisions | 1.239 | 0.081 | 7.356 | |
| reset_mandatory_IS_vars | 0.005 | 0.000 | 0.005 | |
| sample_statistics | 0.304 | 0.009 | 0.313 | |
| separate_quant_matrices | 0.015 | 0.001 | 0.016 | |
| set_mandatory_IS_vars | 0.085 | 0.014 | 0.100 | |
| set_matrix_file_suffixes | 0.015 | 0.005 | 0.019 | |
| sharing_heatmap | 2.166 | 0.625 | 11.118 | |
| sharing_venn | 4.134 | 0.488 | 32.460 | |
| threshold_filter | 0 | 0 | 0 | |
| top_abund_tableGrob | 0.600 | 0.028 | 0.628 | |
| top_cis_overtime_heatmap | 1.922 | 0.201 | 8.900 | |
| top_integrations | 0.028 | 0.001 | 0.029 | |
| top_targeted_genes | 0.451 | 0.029 | 0.480 | |
| transform_columns | 0.020 | 0.001 | 0.021 | |