Back to Multiple platform build/check report for BioC 3.22:   simplified   long
ABCDEFGH[I]JKLMNOPQRSTUVWXYZ

This page was generated on 2025-11-27 12:05 -0500 (Thu, 27 Nov 2025).

HostnameOSArch (*)R versionInstalled pkgs
nebbiolo2Linux (Ubuntu 24.04.3 LTS)x86_644.5.2 (2025-10-31) -- "[Not] Part in a Rumble" 4876
merida1macOS 12.7.6 Montereyx86_644.5.2 Patched (2025-11-05 r88990) -- "[Not] Part in a Rumble" 4656
kjohnson1macOS 13.7.5 Venturaarm644.5.2 Patched (2025-11-04 r88984) -- "[Not] Part in a Rumble" 4602
taishanLinux (openEuler 24.03 LTS)aarch644.5.0 (2025-04-11) -- "How About a Twenty-Six" 4668
Click on any hostname to see more info about the system (e.g. compilers)      (*) as reported by 'uname -p', except on Windows and Mac OS X

Package 1081/2361HostnameOS / ArchINSTALLBUILDCHECKBUILD BIN
ISAnalytics 1.20.0  (landing page)
Francesco Gazzo
Snapshot Date: 2025-11-24 13:45 -0500 (Mon, 24 Nov 2025)
git_url: https://git.bioconductor.org/packages/ISAnalytics
git_branch: RELEASE_3_22
git_last_commit: 72d44b9
git_last_commit_date: 2025-10-29 11:01:52 -0500 (Wed, 29 Oct 2025)
nebbiolo2Linux (Ubuntu 24.04.3 LTS) / x86_64  OK    OK    OK  UNNEEDED, same version is already published
merida1macOS 12.7.6 Monterey / x86_64  OK    OK    OK    OK  UNNEEDED, same version is already published
kjohnson1macOS 13.7.5 Ventura / arm64  OK    OK    OK    NA  
taishanLinux (openEuler 24.03 LTS) / aarch64  OK    OK    OK  


CHECK results for ISAnalytics on taishan

To the developers/maintainers of the ISAnalytics package:
- Allow up to 24 hours (and sometimes 48 hours) for your latest push to git@git.bioconductor.org:packages/ISAnalytics.git to reflect on this report. See Troubleshooting Build Report for more information.
- Use the following Renviron settings to reproduce errors and warnings.
- If 'R CMD check' started to fail recently on the Linux builder(s) over a missing dependency, add the missing dependency to 'Suggests:' in your DESCRIPTION file. See Renviron.bioc for more information.
- See Martin Grigorov's blog post for how to debug Linux ARM64 related issues on a x86_64 host.

raw results


Summary

Package: ISAnalytics
Version: 1.20.0
Command: /home/biocbuild/R/R/bin/R CMD check --install=check:ISAnalytics.install-out.txt --library=/home/biocbuild/R/R/site-library --no-vignettes --timings ISAnalytics_1.20.0.tar.gz
StartedAt: 2025-11-25 10:56:53 -0000 (Tue, 25 Nov 2025)
EndedAt: 2025-11-25 11:08:22 -0000 (Tue, 25 Nov 2025)
EllapsedTime: 688.9 seconds
RetCode: 0
Status:   OK  
CheckDir: ISAnalytics.Rcheck
Warnings: 0

Command output

##############################################################################
##############################################################################
###
### Running command:
###
###   /home/biocbuild/R/R/bin/R CMD check --install=check:ISAnalytics.install-out.txt --library=/home/biocbuild/R/R/site-library --no-vignettes --timings ISAnalytics_1.20.0.tar.gz
###
##############################################################################
##############################################################################


* using log directory ‘/home/biocbuild/bbs-3.22-bioc/meat/ISAnalytics.Rcheck’
* using R version 4.5.0 (2025-04-11)
* using platform: aarch64-unknown-linux-gnu
* R was compiled by
    aarch64-unknown-linux-gnu-gcc (GCC) 14.2.0
    GNU Fortran (GCC) 14.2.0
* running under: openEuler 24.03 (LTS)
* using session charset: UTF-8
* using option ‘--no-vignettes’
* checking for file ‘ISAnalytics/DESCRIPTION’ ... OK
* this is package ‘ISAnalytics’ version ‘1.20.0’
* package encoding: UTF-8
* checking package namespace information ... OK
* checking package dependencies ... INFO
Imports includes 22 non-default packages.
Importing from so many packages makes the package vulnerable to any of
them becoming unavailable.  Move as many as possible to Suggests and
use conditionally.
* checking if this is a source package ... OK
* checking if there is a namespace ... OK
* checking for hidden files and directories ... OK
* checking for portable file names ... OK
* checking for sufficient/correct file permissions ... OK
* checking whether package ‘ISAnalytics’ can be installed ... OK
* checking installed package size ... INFO
  installed size is  8.3Mb
  sub-directories of 1Mb or more:
    data   5.8Mb
* checking package directory ... OK
* checking ‘build’ directory ... OK
* checking DESCRIPTION meta-information ... OK
* checking top-level files ... OK
* checking for left-over files ... OK
* checking index information ... OK
* checking package subdirectories ... OK
* checking code files for non-ASCII characters ... OK
* checking R files for syntax errors ... OK
* checking whether the package can be loaded ... OK
* checking whether the package can be loaded with stated dependencies ... OK
* checking whether the package can be unloaded cleanly ... OK
* checking whether the namespace can be loaded with stated dependencies ... OK
* checking whether the namespace can be unloaded cleanly ... OK
* checking loading without being on the library search path ... OK
* checking whether startup messages can be suppressed ... OK
* checking dependencies in R code ... OK
* checking S3 generic/method consistency ... OK
* checking replacement functions ... OK
* checking foreign function calls ... OK
* checking R code for possible problems ... OK
* checking Rd files ... NOTE
checkRd: (-1) refGenes_hg19.Rd:21: Lost braces; missing escapes or markup?
    21 | \item Download from {http://hgdownload.soe.ucsc.edu/goldenPath/hg19/database/}
       |                     ^
* checking Rd metadata ... OK
* checking Rd cross-references ... OK
* checking for missing documentation entries ... OK
* checking for code/documentation mismatches ... OK
* checking Rd \usage sections ... OK
* checking Rd contents ... OK
* checking for unstated dependencies in examples ... OK
* checking contents of ‘data’ directory ... OK
* checking data for non-ASCII characters ... OK
* checking data for ASCII and uncompressed saves ... OK
* checking files in ‘vignettes’ ... OK
* checking examples ... OK
Examples with CPU (user + system) or elapsed time > 5s
                                user system elapsed
sharing_venn                   5.598  1.035  47.078
integration_alluvial_plot      5.650  0.294  12.312
import_parallel_Vispa2Matrices 3.339  0.350  20.502
sharing_heatmap                2.656  0.297  14.743
top_cis_overtime_heatmap       2.222  0.189  11.240
import_Vispa2_stats            2.024  0.288   9.944
CIS_grubbs_overtime            2.016  0.214   9.005
iss_source                     1.839  0.112  11.239
is_sharing                     1.819  0.119  12.485
HSC_population_plot            1.745  0.056   8.553
realign_after_collisions       1.437  0.103   9.111
remove_collisions              1.320  0.087   8.856
HSC_population_size_estimate   1.290  0.070   5.325
compute_near_integrations      1.062  0.072   5.573
* checking for unstated dependencies in ‘tests’ ... OK
* checking tests ...
  Running ‘testthat.R’
 OK
* checking for unstated dependencies in vignettes ... OK
* checking package vignettes ... OK
* checking running R code from vignettes ... SKIPPED
* checking re-building of vignette outputs ... SKIPPED
* checking PDF version of manual ... OK
* DONE

Status: 1 NOTE
See
  ‘/home/biocbuild/bbs-3.22-bioc/meat/ISAnalytics.Rcheck/00check.log’
for details.


Installation output

ISAnalytics.Rcheck/00install.out

##############################################################################
##############################################################################
###
### Running command:
###
###   /home/biocbuild/R/R/bin/R CMD INSTALL ISAnalytics
###
##############################################################################
##############################################################################


* installing to library ‘/home/biocbuild/R/R-4.5.0/site-library’
* installing *source* package ‘ISAnalytics’ ...
** this is package ‘ISAnalytics’ version ‘1.20.0’
** using staged installation
** R
** data
** inst
** byte-compile and prepare package for lazy loading
** help
*** installing help indices
*** copying figures
** building package indices
** installing vignettes
** testing if installed package can be loaded from temporary location
** testing if installed package can be loaded from final location
** testing if installed package keeps a record of temporary installation path
* DONE (ISAnalytics)

Tests output

ISAnalytics.Rcheck/tests/testthat.Rout


R version 4.5.0 (2025-04-11) -- "How About a Twenty-Six"
Copyright (C) 2025 The R Foundation for Statistical Computing
Platform: aarch64-unknown-linux-gnu

R is free software and comes with ABSOLUTELY NO WARRANTY.
You are welcome to redistribute it under certain conditions.
Type 'license()' or 'licence()' for distribution details.

R is a collaborative project with many contributors.
Type 'contributors()' for more information and
'citation()' on how to cite R or R packages in publications.

Type 'demo()' for some demos, 'help()' for on-line help, or
'help.start()' for an HTML browser interface to help.
Type 'q()' to quit R.

> library(testthat)
> library(ISAnalytics)
> 
> test_check("ISAnalytics")
Loading required namespace: plotly
Loading required namespace: rmarkdown
Report correctly saved
i Report saved to: /home/biocbuild/tmp/RtmpduE02x/file37e76d5a52819d/2025-11-25_collision_removal_report.html
Report correctly saved
i Report saved to: /home/biocbuild/tmp/RtmpduE02x/file37e76d25156674/2025-11-25_outlier_test_pool_fragments_report.html
[ FAIL 0 | WARN 0 | SKIP 0 | PASS 834 ]
> 
> proc.time()
   user  system elapsed 
139.822   8.675 384.752 

Example timings

ISAnalytics.Rcheck/ISAnalytics-Ex.timings

nameusersystemelapsed
CIS_grubbs1.1560.0281.188
CIS_grubbs_overtime2.0160.2149.005
CIS_volcano_plot2.1820.1952.382
HSC_population_plot1.7450.0568.553
HSC_population_size_estimate1.2900.0705.325
NGSdataExplorer000
aggregate_metadata0.1500.0080.160
aggregate_values_by_key0.0970.0000.097
annotation_issues0.0380.0000.039
as_sparse_matrix0.0760.0000.077
available_outlier_tests000
available_tags0.0340.0000.034
blood_lineages_default0.0450.0000.046
circos_genomic_density000
clinical_relevant_suspicious_genes0.0210.0000.021
comparison_matrix0.0470.0000.047
compute_abundance0.0520.0000.052
compute_near_integrations1.0620.0725.573
cumulative_count_union000
cumulative_is0.2200.0040.225
date_formats0.0010.0000.000
default_af_transform0.0010.0000.000
default_iss_file_prefixes000
default_meta_agg0.0230.0000.023
default_rec_agg_lambdas0.0010.0000.001
default_report_path0.0090.0000.009
default_stats1.3130.0121.329
enable_progress_bars0.0180.0000.019
export_ISA_settings0.0950.0040.099
fisher_scatterplot1.6450.0831.733
gene_frequency_fisher1.2250.0721.301
generate_Vispa2_launch_AF0.2660.0390.304
generate_blank_association_file0.0170.0000.018
generate_default_folder_structure0.5090.1220.630
import_ISA_settings0.0990.0000.098
import_Vispa2_stats2.0240.2889.944
import_association_file0.8050.1480.954
import_parallel_Vispa2Matrices 3.339 0.35020.502
import_single_Vispa2Matrix0.9720.2171.192
inspect_tags0.0180.0000.018
integration_alluvial_plot 5.650 0.29412.312
is_sharing 1.819 0.11912.485
iss_source 1.839 0.11211.239
known_clinical_oncogenes0.0160.0000.017
mandatory_IS_vars0.1210.0160.137
matching_options0.0010.0000.000
outlier_filter0.2160.0040.221
outliers_by_pool_fragments0.2520.0120.265
pcr_id_column0.0310.0000.031
purity_filter0.5400.0240.565
quantification_types000
realign_after_collisions1.4370.1039.111
reduced_AF_columns0.0640.0000.064
refGene_table_cols0.0000.0000.001
remove_collisions1.3200.0878.856
reset_mandatory_IS_vars0.0060.0000.007
sample_statistics0.4580.0160.475
separate_quant_matrices0.0190.0000.020
set_mandatory_IS_vars0.1270.0000.127
set_matrix_file_suffixes0.0260.0000.027
sharing_heatmap 2.656 0.29714.743
sharing_venn 5.598 1.03547.078
threshold_filter000
top_abund_tableGrob0.9080.0560.967
top_cis_overtime_heatmap 2.222 0.18911.240
top_integrations0.0420.0000.042
top_targeted_genes0.6620.0680.730
transform_columns0.0300.0000.031