| Back to Multiple platform build/check report for BioC 3.22: simplified long |
|
This page was generated on 2025-11-24 12:05 -0500 (Mon, 24 Nov 2025).
| Hostname | OS | Arch (*) | R version | Installed pkgs |
|---|---|---|---|---|
| nebbiolo2 | Linux (Ubuntu 24.04.3 LTS) | x86_64 | 4.5.2 (2025-10-31) -- "[Not] Part in a Rumble" | 4873 |
| merida1 | macOS 12.7.6 Monterey | x86_64 | 4.5.2 Patched (2025-11-05 r88990) -- "[Not] Part in a Rumble" | 4654 |
| kjohnson1 | macOS 13.7.5 Ventura | arm64 | 4.5.2 Patched (2025-11-04 r88984) -- "[Not] Part in a Rumble" | 4600 |
| taishan | Linux (openEuler 24.03 LTS) | aarch64 | 4.5.0 (2025-04-11) -- "How About a Twenty-Six" | 4668 |
| Click on any hostname to see more info about the system (e.g. compilers) (*) as reported by 'uname -p', except on Windows and Mac OS X | ||||
| Package 1081/2361 | Hostname | OS / Arch | INSTALL | BUILD | CHECK | BUILD BIN | ||||||||
| ISAnalytics 1.20.0 (landing page) Francesco Gazzo
| nebbiolo2 | Linux (Ubuntu 24.04.3 LTS) / x86_64 | OK | OK | OK | |||||||||
| merida1 | macOS 12.7.6 Monterey / x86_64 | OK | OK | OK | OK | |||||||||
| kjohnson1 | macOS 13.7.5 Ventura / arm64 | OK | OK | OK | OK | |||||||||
| taishan | Linux (openEuler 24.03 LTS) / aarch64 | OK | OK | OK | ||||||||||
|
To the developers/maintainers of the ISAnalytics package: - Allow up to 24 hours (and sometimes 48 hours) for your latest push to git@git.bioconductor.org:packages/ISAnalytics.git to reflect on this report. See Troubleshooting Build Report for more information. - Use the following Renviron settings to reproduce errors and warnings. - If 'R CMD check' started to fail recently on the Linux builder(s) over a missing dependency, add the missing dependency to 'Suggests:' in your DESCRIPTION file. See Renviron.bioc for more information. |
| Package: ISAnalytics |
| Version: 1.20.0 |
| Command: /Library/Frameworks/R.framework/Resources/bin/R CMD check --install=check:ISAnalytics.install-out.txt --library=/Library/Frameworks/R.framework/Resources/library --no-vignettes --timings ISAnalytics_1.20.0.tar.gz |
| StartedAt: 2025-11-21 06:45:27 -0500 (Fri, 21 Nov 2025) |
| EndedAt: 2025-11-21 07:06:55 -0500 (Fri, 21 Nov 2025) |
| EllapsedTime: 1288.6 seconds |
| RetCode: 0 |
| Status: OK |
| CheckDir: ISAnalytics.Rcheck |
| Warnings: 0 |
##############################################################################
##############################################################################
###
### Running command:
###
### /Library/Frameworks/R.framework/Resources/bin/R CMD check --install=check:ISAnalytics.install-out.txt --library=/Library/Frameworks/R.framework/Resources/library --no-vignettes --timings ISAnalytics_1.20.0.tar.gz
###
##############################################################################
##############################################################################
* using log directory ‘/Users/biocbuild/bbs-3.22-bioc/meat/ISAnalytics.Rcheck’
* using R version 4.5.2 Patched (2025-11-05 r88990)
* using platform: x86_64-apple-darwin20
* R was compiled by
Apple clang version 14.0.0 (clang-1400.0.29.202)
GNU Fortran (GCC) 14.2.0
* running under: macOS Monterey 12.7.6
* using session charset: UTF-8
* using option ‘--no-vignettes’
* checking for file ‘ISAnalytics/DESCRIPTION’ ... OK
* this is package ‘ISAnalytics’ version ‘1.20.0’
* package encoding: UTF-8
* checking package namespace information ... OK
* checking package dependencies ... INFO
Imports includes 22 non-default packages.
Importing from so many packages makes the package vulnerable to any of
them becoming unavailable. Move as many as possible to Suggests and
use conditionally.
* checking if this is a source package ... OK
* checking if there is a namespace ... OK
* checking for hidden files and directories ... OK
* checking for portable file names ... OK
* checking for sufficient/correct file permissions ... OK
* checking whether package ‘ISAnalytics’ can be installed ... OK
* checking installed package size ... INFO
installed size is 8.3Mb
sub-directories of 1Mb or more:
data 5.8Mb
* checking package directory ... OK
* checking ‘build’ directory ... OK
* checking DESCRIPTION meta-information ... OK
* checking top-level files ... OK
* checking for left-over files ... OK
* checking index information ... OK
* checking package subdirectories ... OK
* checking code files for non-ASCII characters ... OK
* checking R files for syntax errors ... OK
* checking whether the package can be loaded ... OK
* checking whether the package can be loaded with stated dependencies ... OK
* checking whether the package can be unloaded cleanly ... OK
* checking whether the namespace can be loaded with stated dependencies ... OK
* checking whether the namespace can be unloaded cleanly ... OK
* checking whether startup messages can be suppressed ... OK
* checking dependencies in R code ... OK
* checking S3 generic/method consistency ... OK
* checking replacement functions ... OK
* checking foreign function calls ... OK
* checking R code for possible problems ... OK
* checking Rd files ... NOTE
checkRd: (-1) refGenes_hg19.Rd:21: Lost braces; missing escapes or markup?
21 | \item Download from {http://hgdownload.soe.ucsc.edu/goldenPath/hg19/database/}
| ^
* checking Rd metadata ... OK
* checking Rd cross-references ... OK
* checking for missing documentation entries ... OK
* checking for code/documentation mismatches ... OK
* checking Rd \usage sections ... OK
* checking Rd contents ... OK
* checking for unstated dependencies in examples ... OK
* checking contents of ‘data’ directory ... OK
* checking data for non-ASCII characters ... OK
* checking data for ASCII and uncompressed saves ... OK
* checking files in ‘vignettes’ ... OK
* checking examples ... OK
Examples with CPU (user + system) or elapsed time > 5s
user system elapsed
sharing_venn 8.015 0.328 85.418
integration_alluvial_plot 7.946 0.283 24.911
import_parallel_Vispa2Matrices 4.731 0.265 35.359
sharing_heatmap 4.146 0.100 25.722
CIS_grubbs_overtime 3.086 0.363 17.484
import_Vispa2_stats 3.014 0.229 17.315
top_cis_overtime_heatmap 3.007 0.140 21.050
is_sharing 2.457 0.110 20.193
iss_source 2.485 0.078 18.417
HSC_population_plot 2.375 0.067 15.310
realign_after_collisions 1.949 0.061 15.508
remove_collisions 1.881 0.056 15.987
compute_near_integrations 1.551 0.084 23.888
HSC_population_size_estimate 1.494 0.056 14.110
* checking for unstated dependencies in ‘tests’ ... OK
* checking tests ...
Running ‘testthat.R’
OK
* checking for unstated dependencies in vignettes ... OK
* checking package vignettes ... OK
* checking running R code from vignettes ... SKIPPED
* checking re-building of vignette outputs ... SKIPPED
* checking PDF version of manual ... OK
* DONE
Status: 1 NOTE
See
‘/Users/biocbuild/bbs-3.22-bioc/meat/ISAnalytics.Rcheck/00check.log’
for details.
ISAnalytics.Rcheck/00install.out
############################################################################## ############################################################################## ### ### Running command: ### ### /Library/Frameworks/R.framework/Resources/bin/R CMD INSTALL ISAnalytics ### ############################################################################## ############################################################################## * installing to library ‘/Library/Frameworks/R.framework/Versions/4.5-x86_64/Resources/library’ * installing *source* package ‘ISAnalytics’ ... ** this is package ‘ISAnalytics’ version ‘1.20.0’ ** using staged installation ** R ** data ** inst ** byte-compile and prepare package for lazy loading ** help *** installing help indices *** copying figures ** building package indices ** installing vignettes ** testing if installed package can be loaded from temporary location ** testing if installed package can be loaded from final location ** testing if installed package keeps a record of temporary installation path * DONE (ISAnalytics)
ISAnalytics.Rcheck/tests/testthat.Rout
R version 4.5.2 Patched (2025-11-05 r88990) -- "[Not] Part in a Rumble"
Copyright (C) 2025 The R Foundation for Statistical Computing
Platform: x86_64-apple-darwin20
R is free software and comes with ABSOLUTELY NO WARRANTY.
You are welcome to redistribute it under certain conditions.
Type 'license()' or 'licence()' for distribution details.
R is a collaborative project with many contributors.
Type 'contributors()' for more information and
'citation()' on how to cite R or R packages in publications.
Type 'demo()' for some demos, 'help()' for on-line help, or
'help.start()' for an HTML browser interface to help.
Type 'q()' to quit R.
> library(testthat)
> library(ISAnalytics)
>
> test_check("ISAnalytics")
Loading required namespace: plotly
Loading required namespace: rmarkdown
2025-11-21 06:57:13.203 R[78137:37188168] XType: com.apple.fonts is not accessible.
2025-11-21 06:57:13.206 R[78137:37188168] XType: XTFontStaticRegistry is enabled.
Report correctly saved
i Report saved to: /tmp/RtmpYoBxg9/file131391f0e59bd/2025-11-21_collision_removal_report.html
Report correctly saved
i Report saved to: /tmp/RtmpYoBxg9/file1313914b02107/2025-11-21_outlier_test_pool_fragments_report.html
[ FAIL 0 | WARN 0 | SKIP 0 | PASS 834 ]
>
> proc.time()
user system elapsed
208.090 8.176 723.818
ISAnalytics.Rcheck/ISAnalytics-Ex.timings
| name | user | system | elapsed | |
| CIS_grubbs | 2.112 | 0.100 | 2.410 | |
| CIS_grubbs_overtime | 3.086 | 0.363 | 17.484 | |
| CIS_volcano_plot | 3.699 | 0.089 | 3.994 | |
| HSC_population_plot | 2.375 | 0.067 | 15.310 | |
| HSC_population_size_estimate | 1.494 | 0.056 | 14.110 | |
| NGSdataExplorer | 0 | 0 | 0 | |
| aggregate_metadata | 0.233 | 0.007 | 0.266 | |
| aggregate_values_by_key | 0.146 | 0.015 | 0.177 | |
| annotation_issues | 0.059 | 0.006 | 0.071 | |
| as_sparse_matrix | 0.105 | 0.006 | 0.122 | |
| available_outlier_tests | 0 | 0 | 0 | |
| available_tags | 0.048 | 0.002 | 0.055 | |
| blood_lineages_default | 0.060 | 0.001 | 0.070 | |
| circos_genomic_density | 0 | 0 | 0 | |
| clinical_relevant_suspicious_genes | 0.028 | 0.000 | 0.028 | |
| comparison_matrix | 0.063 | 0.002 | 0.071 | |
| compute_abundance | 0.069 | 0.009 | 0.088 | |
| compute_near_integrations | 1.551 | 0.084 | 23.888 | |
| cumulative_count_union | 0.000 | 0.000 | 0.001 | |
| cumulative_is | 0.360 | 0.015 | 0.411 | |
| date_formats | 0.001 | 0.000 | 0.001 | |
| default_af_transform | 0.001 | 0.001 | 0.001 | |
| default_iss_file_prefixes | 0.000 | 0.001 | 0.000 | |
| default_meta_agg | 0.038 | 0.000 | 0.042 | |
| default_rec_agg_lambdas | 0.001 | 0.001 | 0.003 | |
| default_report_path | 0.014 | 0.002 | 0.017 | |
| default_stats | 2.151 | 0.043 | 2.408 | |
| enable_progress_bars | 0.029 | 0.003 | 0.038 | |
| export_ISA_settings | 0.170 | 0.002 | 0.190 | |
| fisher_scatterplot | 2.877 | 0.195 | 3.358 | |
| gene_frequency_fisher | 2.548 | 0.058 | 2.862 | |
| generate_Vispa2_launch_AF | 0.448 | 0.043 | 0.539 | |
| generate_blank_association_file | 0.030 | 0.004 | 0.038 | |
| generate_default_folder_structure | 0.843 | 0.160 | 1.028 | |
| import_ISA_settings | 0.137 | 0.002 | 0.151 | |
| import_Vispa2_stats | 3.014 | 0.229 | 17.315 | |
| import_association_file | 1.301 | 0.182 | 1.563 | |
| import_parallel_Vispa2Matrices | 4.731 | 0.265 | 35.359 | |
| import_single_Vispa2Matrix | 1.584 | 0.194 | 1.882 | |
| inspect_tags | 0.028 | 0.000 | 0.032 | |
| integration_alluvial_plot | 7.946 | 0.283 | 24.911 | |
| is_sharing | 2.457 | 0.110 | 20.193 | |
| iss_source | 2.485 | 0.078 | 18.417 | |
| known_clinical_oncogenes | 0.023 | 0.001 | 0.023 | |
| mandatory_IS_vars | 0.208 | 0.006 | 0.221 | |
| matching_options | 0 | 0 | 0 | |
| outlier_filter | 0.334 | 0.023 | 0.374 | |
| outliers_by_pool_fragments | 0.348 | 0.008 | 0.376 | |
| pcr_id_column | 0.039 | 0.000 | 0.039 | |
| purity_filter | 0.760 | 0.016 | 0.816 | |
| quantification_types | 0.000 | 0.000 | 0.001 | |
| realign_after_collisions | 1.949 | 0.061 | 15.508 | |
| reduced_AF_columns | 0.097 | 0.001 | 0.100 | |
| refGene_table_cols | 0.000 | 0.000 | 0.001 | |
| remove_collisions | 1.881 | 0.056 | 15.987 | |
| reset_mandatory_IS_vars | 0.011 | 0.002 | 0.013 | |
| sample_statistics | 0.821 | 0.151 | 1.071 | |
| separate_quant_matrices | 0.029 | 0.007 | 0.038 | |
| set_mandatory_IS_vars | 0.201 | 0.004 | 0.228 | |
| set_matrix_file_suffixes | 0.040 | 0.001 | 0.046 | |
| sharing_heatmap | 4.146 | 0.100 | 25.722 | |
| sharing_venn | 8.015 | 0.328 | 85.418 | |
| threshold_filter | 0.000 | 0.001 | 0.002 | |
| top_abund_tableGrob | 1.604 | 0.022 | 1.657 | |
| top_cis_overtime_heatmap | 3.007 | 0.140 | 21.050 | |
| top_integrations | 0.063 | 0.001 | 0.072 | |
| top_targeted_genes | 1.209 | 0.019 | 1.359 | |
| transform_columns | 0.044 | 0.001 | 0.046 | |