Back to Multiple platform build/check report for BioC 3.21:   simplified   long
ABCDE[F]GHIJKLMNOPQRSTUVWXYZ

This page was generated on 2025-04-22 13:19 -0400 (Tue, 22 Apr 2025).

HostnameOSArch (*)R versionInstalled pkgs
nebbiolo1Linux (Ubuntu 24.04.1 LTS)x86_644.5.0 RC (2025-04-04 r88126) -- "How About a Twenty-Six" 4831
palomino7Windows Server 2022 Datacenterx644.5.0 RC (2025-04-04 r88126 ucrt) -- "How About a Twenty-Six" 4573
lconwaymacOS 12.7.1 Montereyx86_644.5.0 RC (2025-04-04 r88126) -- "How About a Twenty-Six" 4599
kjohnson3macOS 13.7.1 Venturaarm644.5.0 RC (2025-04-04 r88126) -- "How About a Twenty-Six" 4553
kunpeng2Linux (openEuler 24.03 LTS)aarch64R Under development (unstable) (2025-02-19 r87757) -- "Unsuffered Consequences" 4570
Click on any hostname to see more info about the system (e.g. compilers)      (*) as reported by 'uname -p', except on Windows and Mac OS X

Package 730/2341HostnameOS / ArchINSTALLBUILDCHECKBUILD BIN
FindIT2 1.14.0  (landing page)
Guandong Shang
Snapshot Date: 2025-04-21 13:40 -0400 (Mon, 21 Apr 2025)
git_url: https://git.bioconductor.org/packages/FindIT2
git_branch: RELEASE_3_21
git_last_commit: b0f7ffc
git_last_commit_date: 2025-04-15 12:34:18 -0400 (Tue, 15 Apr 2025)
nebbiolo1Linux (Ubuntu 24.04.1 LTS) / x86_64  OK    OK    OK  YES
palomino7Windows Server 2022 Datacenter / x64  OK    OK    OK    OK  NO, package depends on 'GenomicRanges' which is only available as a source package that needs compilation
lconwaymacOS 12.7.1 Monterey / x86_64  OK    OK    OK    OK  YES
kjohnson3macOS 13.7.1 Ventura / arm64  OK    OK    OK    OK  YES
kunpeng2Linux (openEuler 24.03 LTS) / aarch64  OK    OK    OK  


CHECK results for FindIT2 on kunpeng2

To the developers/maintainers of the FindIT2 package:
- Allow up to 24 hours (and sometimes 48 hours) for your latest push to git@git.bioconductor.org:packages/FindIT2.git to reflect on this report. See Troubleshooting Build Report for more information.
- Use the following Renviron settings to reproduce errors and warnings.
- If 'R CMD check' started to fail recently on the Linux builder(s) over a missing dependency, add the missing dependency to 'Suggests:' in your DESCRIPTION file. See Renviron.bioc for more information.
- See Martin Grigorov's blog post for how to debug Linux ARM64 related issues on a x86_64 host.

raw results


Summary

Package: FindIT2
Version: 1.14.0
Command: /home/biocbuild/R/R/bin/R CMD check --install=check:FindIT2.install-out.txt --library=/home/biocbuild/R/R/site-library --no-vignettes --timings FindIT2_1.14.0.tar.gz
StartedAt: 2025-04-22 09:00:28 -0000 (Tue, 22 Apr 2025)
EndedAt: 2025-04-22 09:08:14 -0000 (Tue, 22 Apr 2025)
EllapsedTime: 465.5 seconds
RetCode: 0
Status:   OK  
CheckDir: FindIT2.Rcheck
Warnings: 0

Command output

##############################################################################
##############################################################################
###
### Running command:
###
###   /home/biocbuild/R/R/bin/R CMD check --install=check:FindIT2.install-out.txt --library=/home/biocbuild/R/R/site-library --no-vignettes --timings FindIT2_1.14.0.tar.gz
###
##############################################################################
##############################################################################


* using log directory ‘/home/biocbuild/bbs-3.21-bioc/meat/FindIT2.Rcheck’
* using R Under development (unstable) (2025-02-19 r87757)
* using platform: aarch64-unknown-linux-gnu
* R was compiled by
    aarch64-unknown-linux-gnu-gcc (GCC) 14.2.0
    GNU Fortran (GCC) 14.2.0
* running under: openEuler 24.03 (LTS-SP1)
* using session charset: UTF-8
* using option ‘--no-vignettes’
* checking for file ‘FindIT2/DESCRIPTION’ ... OK
* this is package ‘FindIT2’ version ‘1.14.0’
* package encoding: UTF-8
* checking package namespace information ... OK
* checking package dependencies ... INFO
Imports includes 22 non-default packages.
Importing from so many packages makes the package vulnerable to any of
them becoming unavailable.  Move as many as possible to Suggests and
use conditionally.
* checking if this is a source package ... OK
* checking if there is a namespace ... OK
* checking for hidden files and directories ... OK
* checking for portable file names ... OK
* checking for sufficient/correct file permissions ... OK
* checking whether package ‘FindIT2’ can be installed ... OK
* checking installed package size ... OK
* checking package directory ... OK
* checking ‘build’ directory ... OK
* checking DESCRIPTION meta-information ... OK
* checking top-level files ... OK
* checking for left-over files ... OK
* checking index information ... OK
* checking package subdirectories ... OK
* checking code files for non-ASCII characters ... OK
* checking R files for syntax errors ... OK
* checking whether the package can be loaded ... OK
* checking whether the package can be loaded with stated dependencies ... OK
* checking whether the package can be unloaded cleanly ... OK
* checking whether the namespace can be loaded with stated dependencies ... OK
* checking whether the namespace can be unloaded cleanly ... OK
* checking loading without being on the library search path ... OK
* checking dependencies in R code ... OK
* checking S3 generic/method consistency ... OK
* checking replacement functions ... OK
* checking foreign function calls ... OK
* checking R code for possible problems ... OK
* checking Rd files ... OK
* checking Rd metadata ... OK
* checking Rd cross-references ... OK
* checking for missing documentation entries ... OK
* checking for code/documentation mismatches ... OK
* checking Rd \usage sections ... OK
* checking Rd contents ... OK
* checking for unstated dependencies in examples ... OK
* checking contents of ‘data’ directory ... OK
* checking data for non-ASCII characters ... OK
* checking data for ASCII and uncompressed saves ... OK
* checking files in ‘vignettes’ ... OK
* checking examples ... OK
Examples with CPU (user + system) or elapsed time > 5s
                  user system elapsed
calcRP_coverage  8.371  0.176   8.565
findIT_regionRP  8.248  0.087   8.349
calcRP_region    6.657  0.064   6.739
plot_peakGeneCor 5.264  0.112   5.387
calcRP_TFHit     4.789  0.159   5.093
* checking for unstated dependencies in ‘tests’ ... OK
* checking tests ...
  Running ‘testthat.R’
 OK
* checking for unstated dependencies in vignettes ... OK
* checking package vignettes ... OK
* checking running R code from vignettes ... SKIPPED
* checking re-building of vignette outputs ... SKIPPED
* checking PDF version of manual ... OK
* DONE

Status: OK


Installation output

FindIT2.Rcheck/00install.out

##############################################################################
##############################################################################
###
### Running command:
###
###   /home/biocbuild/R/R/bin/R CMD INSTALL FindIT2
###
##############################################################################
##############################################################################


* installing to library ‘/home/biocbuild/R/R-devel_2025-02-19/site-library’
* installing *source* package ‘FindIT2’ ...
** this is package ‘FindIT2’ version ‘1.14.0’
** using staged installation
** R
** data
** inst
** byte-compile and prepare package for lazy loading
** help
*** installing help indices
** building package indices
** installing vignettes
** testing if installed package can be loaded from temporary location
** testing if installed package can be loaded from final location
** testing if installed package keeps a record of temporary installation path
* DONE (FindIT2)

Tests output

FindIT2.Rcheck/tests/testthat.Rout


R Under development (unstable) (2025-02-19 r87757) -- "Unsuffered Consequences"
Copyright (C) 2025 The R Foundation for Statistical Computing
Platform: aarch64-unknown-linux-gnu

R is free software and comes with ABSOLUTELY NO WARRANTY.
You are welcome to redistribute it under certain conditions.
Type 'license()' or 'licence()' for distribution details.

R is a collaborative project with many contributors.
Type 'contributors()' for more information and
'citation()' on how to cite R or R packages in publications.

Type 'demo()' for some demos, 'help()' for on-line help, or
'help.start()' for an HTML browser interface to help.
Type 'q()' to quit R.

> library(testthat)
> library(FindIT2)
Loading required package: GenomicRanges
Loading required package: stats4
Loading required package: BiocGenerics
Loading required package: generics

Attaching package: 'generics'

The following objects are masked from 'package:base':

    as.difftime, as.factor, as.ordered, intersect, is.element, setdiff,
    setequal, union


Attaching package: 'BiocGenerics'

The following objects are masked from 'package:stats':

    IQR, mad, sd, var, xtabs

The following objects are masked from 'package:base':

    Filter, Find, Map, Position, Reduce, anyDuplicated, aperm, append,
    as.data.frame, basename, cbind, colnames, dirname, do.call,
    duplicated, eval, evalq, get, grep, grepl, is.unsorted, lapply,
    mapply, match, mget, order, paste, pmax, pmax.int, pmin, pmin.int,
    rank, rbind, rownames, sapply, saveRDS, table, tapply, unique,
    unsplit, which.max, which.min

Loading required package: S4Vectors

Attaching package: 'S4Vectors'

The following object is masked from 'package:utils':

    findMatches

The following objects are masked from 'package:base':

    I, expand.grid, unname

Loading required package: IRanges
Loading required package: GenomeInfoDb
> if (!requireNamespace("TxDb.Athaliana.BioMart.plantsmart28")) {
+     stop("unable to load TxDb.Athaliana.BioMart.plantsmart28")
+ }
Loading required namespace: TxDb.Athaliana.BioMart.plantsmart28
> 
> test_check("FindIT2")
>> preparing gene features information...		2025-04-22 09:06:53
>> some scan range may cross Chr bound, trimming...		2025-04-22 09:06:55
>> preparing weight info...		2025-04-22 09:06:56
>> loading E50h_sampleChr5.bw info...		2025-04-22 09:06:56
------------
>> extracting and calcluating Chr5 signal...		2025-04-22 09:06:56
>> dealing with Chr5 left gene signal...		2025-04-22 09:07:03
>> norming Chr5RP accoring to the whole Chr RP...		2025-04-22 09:07:03
>> merging all Chr RP together...		2025-04-22 09:07:03
>> done		2025-04-22 09:07:03
>> checking seqlevels match...		2025-04-22 09:07:04
>> your peak_GR seqlevel:Chr5...
>> your Txdb seqlevel:Chr1 Chr2 Chr3 Chr4 Chr5 ChrM ChrC...
Good, your Chrs in peak_GR is all in Txdb
------------
annotatePeak using geneScan mode begins
>> preparing gene features information and scan region...		2025-04-22 09:07:04
>> some scan range may cross Chr bound, trimming...		2025-04-22 09:07:05
>> finding overlap peak in gene scan region...		2025-04-22 09:07:05
>> dealing with left peak not your gene scan region...		2025-04-22 09:07:05
>> merging two set peaks...		2025-04-22 09:07:05
>> calculating distance and dealing with gene strand...		2025-04-22 09:07:05
>> merging all info together ...		2025-04-22 09:07:05
>> done		2025-04-22 09:07:05
>> calculating peakCenter to TSS using peak-gene pair...		2025-04-22 09:07:05
>> pre-filling 1356 noAssoc peak gene's RP with 0...		2025-04-22 09:07:06
>> calculating RP using centerToTSS and peak score2025-04-22 09:07:06
>> merging all info together		2025-04-22 09:07:09
>> done		2025-04-22 09:07:10
>> calculating peakCenter to TSS using peak-gene pair...		2025-04-22 09:07:10
>> pre-filling 1356 noAssoc peak gene's RP with 0...		2025-04-22 09:07:12
>> calculating RP using centerToTSS and peak score2025-04-22 09:07:12
>> merging all info together		2025-04-22 09:07:15
>> done		2025-04-22 09:07:16
>> checking seqlevels match...		2025-04-22 09:07:16
>> your peak_GR seqlevel:Chr5...
>> your Txdb seqlevel:Chr1 Chr2 Chr3 Chr4 Chr5 ChrM ChrC...
Good, your Chrs in peak_GR is all in Txdb
------------
annotatePeak using geneScan mode begins
>> preparing gene features information and scan region...		2025-04-22 09:07:16
>> some scan range may cross Chr bound, trimming...		2025-04-22 09:07:17
>> finding overlap peak in gene scan region...		2025-04-22 09:07:17
>> dealing with left peak not your gene scan region...		2025-04-22 09:07:17
>> merging two set peaks...		2025-04-22 09:07:18
>> calculating distance and dealing with gene strand...		2025-04-22 09:07:18
>> merging all info together ...		2025-04-22 09:07:18
>> done		2025-04-22 09:07:18
>> calculating peakCenter to TSS using peak-gene pair...		2025-04-22 09:07:18
>> calculating RP using centerToTSS and TF hit		2025-04-22 09:07:19
>> merging all info together		2025-04-22 09:07:19
>> done		2025-04-22 09:07:19
>> calculating peakCenter to TSS using peak-gene pair...		2025-04-22 09:07:19
>> calculating RP using centerToTSS and TF hit		2025-04-22 09:07:20
>> merging all info together		2025-04-22 09:07:20
>> done		2025-04-22 09:07:20
>> checking seqlevels match...		2025-04-22 09:07:21
>> your peak_GR seqlevel:Chr5...
>> your Txdb seqlevel:Chr1 Chr2 Chr3 Chr4 Chr5 ChrM ChrC...
Good, your Chrs in peak_GR is all in Txdb
------------
annotatePeak using geneScan mode begins
>> preparing gene features information and scan region...		2025-04-22 09:07:21
>> some scan range may cross Chr bound, trimming...		2025-04-22 09:07:22
>> finding overlap peak in gene scan region...		2025-04-22 09:07:22
>> dealing with left peak not your gene scan region...		2025-04-22 09:07:22
>> merging two set peaks...		2025-04-22 09:07:22
>> calculating distance and dealing with gene strand...		2025-04-22 09:07:22
>> merging all info together ...		2025-04-22 09:07:22
>> done		2025-04-22 09:07:23
>> calculating peakCenter to TSS using peak-gene pair...		2025-04-22 09:07:23
>> pre-filling 1356 noAssoc peak gene's RP with 0...		2025-04-22 09:07:25
>> calculating RP using centerToTSS and peak score2025-04-22 09:07:25
>> merging all info together		2025-04-22 09:07:27
>> done		2025-04-22 09:07:28
>> extracting RP info from regionRP...		2025-04-22 09:07:29
>> dealing with TF_GR_databse...		2025-04-22 09:07:29
>> calculating percent and p-value...		2025-04-22 09:07:29
>> dealing withE5_0h_R1...		2025-04-22 09:07:29
>> dealing withE5_0h_R2...		2025-04-22 09:07:29
>> dealing withE5_4h_R1...		2025-04-22 09:07:29
>> dealing withE5_4h_R2...		2025-04-22 09:07:29
>> dealing withE5_8h_R1...		2025-04-22 09:07:29
>> dealing withE5_8h_R2...		2025-04-22 09:07:29
>> dealing withE5_16h_R1...		2025-04-22 09:07:29
>> dealing withE5_16h_R2...		2025-04-22 09:07:29
>> dealing withE5_24h_R1...		2025-04-22 09:07:29
>> dealing withE5_24h_R2...		2025-04-22 09:07:29
>> dealing withE5_48h_R1...		2025-04-22 09:07:29
>> dealing withE5_48h_R2...		2025-04-22 09:07:30
>> dealing withE5_48h_R3...		2025-04-22 09:07:30
>> dealing withE5_72h_R1...		2025-04-22 09:07:30
>> dealing withE5_72h_R2...		2025-04-22 09:07:30
>> dealing withE5_72h_R3...		2025-04-22 09:07:30
>> merging all info together...		2025-04-22 09:07:30
>> done		2025-04-22 09:07:30
>> preparing gene features information...		2025-04-22 09:07:30
>> some scan range may cross Chr bound, trimming...		2025-04-22 09:07:31
>> calculating p-value for each TF, which may be time consuming...		2025-04-22 09:07:31
>> merging all info together...		2025-04-22 09:07:31
>> done		2025-04-22 09:07:31
>> dealing with TF_GR_database...		2025-04-22 09:07:32
>> calculating coef and converting into z-score using INT...		2025-04-22 09:07:32
>> dealing with E5_0h_R1...		2025-04-22 09:07:32
>> dealing with E5_0h_R2...		2025-04-22 09:07:32
>> dealing with E5_4h_R1...		2025-04-22 09:07:32
>> dealing with E5_4h_R2...		2025-04-22 09:07:32
>> dealing with E5_8h_R1...		2025-04-22 09:07:32
>> dealing with E5_8h_R2...		2025-04-22 09:07:32
>> dealing with E5_16h_R1...		2025-04-22 09:07:32
>> dealing with E5_16h_R2...		2025-04-22 09:07:32
>> dealing with E5_24h_R1...		2025-04-22 09:07:33
>> dealing with E5_24h_R2...		2025-04-22 09:07:33
>> dealing with E5_48h_R1...		2025-04-22 09:07:33
>> dealing with E5_48h_R2...		2025-04-22 09:07:33
>> dealing with E5_48h_R3...		2025-04-22 09:07:33
>> dealing with E5_72h_R1...		2025-04-22 09:07:33
>> dealing with E5_72h_R2...		2025-04-22 09:07:33
>> dealing with E5_72h_R3...		2025-04-22 09:07:33
>> merging all info together...		2025-04-22 09:07:33
>> done		2025-04-22 09:07:33
>> checking seqlevels match...		2025-04-22 09:07:34
>> your peak_GR seqlevel:Chr5...
>> your Txdb seqlevel:Chr1 Chr2 Chr3 Chr4 Chr5 ChrM ChrC...
Good, your Chrs in peak_GR is all in Txdb
------------
annotatePeak using geneScan mode begins
>> preparing gene features information and scan region...		2025-04-22 09:07:34
>> some scan range may cross Chr bound, trimming...		2025-04-22 09:07:35
>> finding overlap peak in gene scan region...		2025-04-22 09:07:35
>> dealing with left peak not your gene scan region...		2025-04-22 09:07:35
>> merging two set peaks...		2025-04-22 09:07:35
>> calculating distance and dealing with gene strand...		2025-04-22 09:07:35
>> merging all info together ...		2025-04-22 09:07:35
>> done		2025-04-22 09:07:35
>> calculating peakCenter to TSS using peak-gene pair...		2025-04-22 09:07:35
>> calculating RP using centerToTSS and TF hit		2025-04-22 09:07:36
>> merging all info together		2025-04-22 09:07:36
>> done		2025-04-22 09:07:36
>> checking seqlevels match...		2025-04-22 09:07:37
>> your peak_GR seqlevel:5...
>> your Txdb seqlevel:Chr1 Chr2 Chr3 Chr4 Chr5 ChrM ChrC...
>> checking seqlevels match...		2025-04-22 09:07:37
>> your peak_GR seqlevel:Chr5 Chr6...
>> your Txdb seqlevel:Chr1 Chr2 Chr3 Chr4 Chr5 ChrM ChrC...
>> checking seqlevels match...		2025-04-22 09:07:42
>> your peak_GR seqlevel:Chr5...
>> your Txdb seqlevel:Chr1 Chr2 Chr3 Chr4 Chr5 ChrM ChrC...
Good, your Chrs in peak_GR is all in Txdb
>> checking seqlevels match...		2025-04-22 09:07:42
>> your peak_GR seqlevel:Chr5...
>> your Txdb seqlevel:Chr1 Chr2 Chr3 Chr4 Chr5 ChrM ChrC...
Good, your Chrs in peak_GR is all in Txdb
------------
annotating Peak using nearest gene mode begins
>> preparing gene features information...		2025-04-22 09:07:42
>> finding nearest gene and calculating distance...		2025-04-22 09:07:43
>> dealing with gene strand ...		2025-04-22 09:07:43
>> merging all info together ...		2025-04-22 09:07:43
>> done		2025-04-22 09:07:43
>> checking seqlevels match...		2025-04-22 09:07:43
>> your peak_GR seqlevel:Chr5...
>> your Txdb seqlevel:Chr1 Chr2 Chr3 Chr4 Chr5 ChrM ChrC...
Good, your Chrs in peak_GR is all in Txdb
>> checking seqlevels match...		2025-04-22 09:07:43
>> your peak_GR seqlevel:Chr5...
>> your Txdb seqlevel:Chr1 Chr2 Chr3 Chr4 Chr5 ChrM ChrC...
Good, your Chrs in peak_GR is all in Txdb
------------
annotating Peak using nearest gene mode begins
>> preparing gene features information...		2025-04-22 09:07:43
>> finding nearest gene and calculating distance...		2025-04-22 09:07:44
>> dealing with gene strand ...		2025-04-22 09:07:45
>> merging all info together ...		2025-04-22 09:07:45
>> done		2025-04-22 09:07:45
>> checking seqlevels match...		2025-04-22 09:07:45
>> your peak_GR seqlevel:Chr5...
>> your Txdb seqlevel:Chr1 Chr2 Chr3 Chr4 Chr5 ChrM ChrC...
Good, your Chrs in peak_GR is all in Txdb
>> checking seqlevels match...		2025-04-22 09:07:46
>> your peak_GR seqlevel:Chr5...
>> your Txdb seqlevel:Chr1 Chr2 Chr3 Chr4 Chr5 ChrM ChrC...
Good, your Chrs in peak_GR is all in Txdb
------------
annotating Peak using nearest gene mode begins
>> preparing gene features information...		2025-04-22 09:07:46
>> finding nearest gene and calculating distance...		2025-04-22 09:07:46
>> dealing with gene strand ...		2025-04-22 09:07:47
>> merging all info together ...		2025-04-22 09:07:47
>> done		2025-04-22 09:07:47
>> checking seqlevels match...		2025-04-22 09:07:48
>> your peak_GR seqlevel:Chr5...
>> your Txdb seqlevel:Chr1 Chr2 Chr3 Chr4 Chr5 ChrM ChrC...
Good, your Chrs in peak_GR is all in Txdb
>> checking seqlevels match...		2025-04-22 09:07:48
>> your peak_GR seqlevel:Chr5...
>> your Txdb seqlevel:Chr1 Chr2 Chr3 Chr4 Chr5 ChrM ChrC...
Good, your Chrs in peak_GR is all in Txdb
------------
annotating Peak using nearest gene mode begins
>> preparing gene features information...		2025-04-22 09:07:48
>> finding nearest gene and calculating distance...		2025-04-22 09:07:49
>> dealing with gene strand ...		2025-04-22 09:07:49
>> merging all info together ...		2025-04-22 09:07:49
>> done		2025-04-22 09:07:49
It seems that there 1 genes have not been annotated by nearestGene mode
>> checking seqlevels match...		2025-04-22 09:07:50
>> your peak_GR seqlevel:Chr5...
>> your Txdb seqlevel:Chr1 Chr2 Chr3 Chr4 Chr5 ChrM ChrC...
Good, your Chrs in peak_GR is all in Txdb
>> checking seqlevels match...		2025-04-22 09:07:50
>> your peak_GR seqlevel:Chr5...
>> your Txdb seqlevel:Chr1 Chr2 Chr3 Chr4 Chr5 ChrM ChrC...
Good, your Chrs in peak_GR is all in Txdb
------------
annotating Peak using nearest gene mode begins
>> preparing gene features information...		2025-04-22 09:07:50
>> finding nearest gene and calculating distance...		2025-04-22 09:07:51
>> dealing with gene strand ...		2025-04-22 09:07:51
>> merging all info together ...		2025-04-22 09:07:51
>> done		2025-04-22 09:07:51
It seems that there 1 genes have not been annotated by nearestGene mode
>> checking seqlevels match...		2025-04-22 09:07:52
>> your peak_GR seqlevel:Chr5...
>> your Txdb seqlevel:Chr1 Chr2 Chr3 Chr4 Chr5 ChrM ChrC...
Good, your Chrs in peak_GR is all in Txdb
>> checking seqlevels match...		2025-04-22 09:07:54
>> your peak_GR seqlevel:Chr5...
>> your Txdb seqlevel:Chr1 Chr2 Chr3 Chr4 Chr5 ChrM ChrC...
Good, your Chrs in peak_GR is all in Txdb
>> some scan range may cross Chr bound, trimming...		2025-04-22 09:07:54
>> checking seqlevels match...		2025-04-22 09:07:55
>> your peak_GR seqlevel:Chr5...
>> your Txdb seqlevel:Chr1 Chr2 Chr3 Chr4 Chr5 ChrM ChrC...
Good, your Chrs in peak_GR is all in Txdb
>> some scan range may cross Chr bound, trimming...		2025-04-22 09:07:56
Good, your two matrix colnames matchs
>> calculating cor and pvalue, which may be time consuming...		2025-04-22 09:07:58
>> merging all info together...		2025-04-22 09:07:58
>> done		2025-04-22 09:07:58
>> checking seqlevels match...		2025-04-22 09:07:58
>> your peak_GR seqlevel:Chr5...
>> your Txdb seqlevel:Chr1 Chr2 Chr3 Chr4 Chr5 ChrM ChrC...
Good, your Chrs in peak_GR is all in Txdb
>> using scanPromoter parameter to scan promoter for each gene...		2025-04-22 09:07:58
>> checking seqlevels match...		2025-04-22 09:07:58
>> your peak_GR seqlevel:Chr5...
>> your Txdb seqlevel:Chr1 Chr2 Chr3 Chr4 Chr5 ChrM ChrC...
Good, your Chrs in peak_GR is all in Txdb
>> some scan range may cross Chr bound, trimming...		2025-04-22 09:07:59
>> there are 85 gene have scaned promoter
>> using scanEnhancer parameter to scan Enhancer for each gene...		2025-04-22 09:08:00
>> checking seqlevels match...		2025-04-22 09:08:00
>> your peak_GR seqlevel:Chr5...
>> your Txdb seqlevel:Chr1 Chr2 Chr3 Chr4 Chr5 ChrM ChrC...
Good, your Chrs in peak_GR is all in Txdb
>> some scan range may cross Chr bound, trimming...		2025-04-22 09:08:01
>> calculating cor and pvalue, which may be time consuming...		2025-04-22 09:08:01
>> merging all info together...		2025-04-22 09:08:01
>> done		2025-04-22 09:08:01
Good, your two matrix colnames matchs
>> calculating cor and pvalue, which may be time consuming...		2025-04-22 09:08:01
>> merging all info together...		2025-04-22 09:08:01
>> done		2025-04-22 09:08:02
>> checking seqlevels match...		2025-04-22 09:08:02
>> your peak_GR seqlevel:Chr5...
>> your Txdb seqlevel:Chr1 Chr2 Chr3 Chr4 Chr5 ChrM ChrC...
Good, your Chrs in peak_GR is all in Txdb
------------
annotatePeak using geneScan mode begins
>> preparing gene features information and scan region...		2025-04-22 09:08:02
>> some scan range may cross Chr bound, trimming...		2025-04-22 09:08:03
>> finding overlap peak in gene scan region...		2025-04-22 09:08:03
>> dealing with left peak not your gene scan region...		2025-04-22 09:08:03
>> merging two set peaks...		2025-04-22 09:08:03
>> calculating distance and dealing with gene strand...		2025-04-22 09:08:03
>> merging all info together ...		2025-04-22 09:08:03
>> done		2025-04-22 09:08:03
Good, your two matrix colnames matchs
>> calculating cor and pvalue, which may be time consuming...		2025-04-22 09:08:05
>> merging all info together...		2025-04-22 09:08:05
>> done		2025-04-22 09:08:05
>> checking seqlevels match...		2025-04-22 09:08:05
>> your peak_GR seqlevel:Chr5...
>> your Txdb seqlevel:Chr1 Chr2 Chr3 Chr4 Chr5 ChrM ChrC...
Good, your Chrs in peak_GR is all in Txdb
>> using scanPromoter parameter to scan promoter for each gene...		2025-04-22 09:08:05
>> checking seqlevels match...		2025-04-22 09:08:05
>> your peak_GR seqlevel:Chr5...
>> your Txdb seqlevel:Chr1 Chr2 Chr3 Chr4 Chr5 ChrM ChrC...
Good, your Chrs in peak_GR is all in Txdb
>> some scan range may cross Chr bound, trimming...		2025-04-22 09:08:06
>> there are 85 gene have scaned promoter
>> using scanEnhancer parameter to scan Enhancer for each gene...		2025-04-22 09:08:06
>> checking seqlevels match...		2025-04-22 09:08:06
>> your peak_GR seqlevel:Chr5...
>> your Txdb seqlevel:Chr1 Chr2 Chr3 Chr4 Chr5 ChrM ChrC...
Good, your Chrs in peak_GR is all in Txdb
>> some scan range may cross Chr bound, trimming...		2025-04-22 09:08:07
>> calculating cor and pvalue, which may be time consuming...		2025-04-22 09:08:08
>> merging all info together...		2025-04-22 09:08:08
>> done		2025-04-22 09:08:08
Joining with `by = join_by(feature_id)`
Joining with `by = join_by(feature_id)`
`geom_smooth()` using formula = 'y ~ x'
Joining with `by = join_by(feature_id)`
Joining with `by = join_by(feature_id)`
`geom_smooth()` using formula = 'y ~ x'
[ FAIL 0 | WARN 0 | SKIP 0 | PASS 65 ]
> 
> proc.time()
   user  system elapsed 
 90.180   1.291  91.623 

Example timings

FindIT2.Rcheck/FindIT2-Ex.timings

nameusersystemelapsed
TF_target_database000
calcRP_TFHit4.7890.1595.093
calcRP_coverage8.3710.1768.565
calcRP_region6.6570.0646.739
enhancerPromoterCor3.4680.0443.519
findIT_MARA0.6050.0080.615
findIT_TFHit1.3480.0041.354
findIT_TTPair0.0970.0000.097
findIT_enrichFisher0.2070.0000.207
findIT_enrichWilcox0.2320.0000.233
findIT_regionRP8.2480.0878.349
getAssocPairNumber1.6180.0081.628
integrate_ChIP_RNA2.8260.0112.845
integrate_replicates0.0020.0000.002
jaccard_findIT_TTpair0.1310.0000.132
jaccard_findIT_enrichFisher0.2700.0000.271
loadPeakFile0.0790.0000.079
mm_geneBound1.6890.0111.704
mm_geneScan1.7040.0001.709
mm_nearestGene1.5240.0041.532
peakGeneCor3.2640.0393.322
plot_annoDistance2.1060.0112.122
plot_peakGeneAlias_summary1.8430.0111.859
plot_peakGeneCor5.2640.1125.387
test_geneSet000