| Back to Multiple platform build/check report for BioC 3.21: simplified long |
|
This page was generated on 2025-10-16 11:40 -0400 (Thu, 16 Oct 2025).
| Hostname | OS | Arch (*) | R version | Installed pkgs |
|---|---|---|---|---|
| nebbiolo1 | Linux (Ubuntu 24.04.3 LTS) | x86_64 | 4.5.1 (2025-06-13) -- "Great Square Root" | 4833 |
| merida1 | macOS 12.7.6 Monterey | x86_64 | 4.5.1 RC (2025-06-05 r88288) -- "Great Square Root" | 4614 |
| kjohnson1 | macOS 13.7.5 Ventura | arm64 | 4.5.1 Patched (2025-06-14 r88325) -- "Great Square Root" | 4555 |
| kunpeng2 | Linux (openEuler 24.03 LTS) | aarch64 | R Under development (unstable) (2025-02-19 r87757) -- "Unsuffered Consequences" | 4586 |
| Click on any hostname to see more info about the system (e.g. compilers) (*) as reported by 'uname -p', except on Windows and Mac OS X | ||||
| Package 730/2341 | Hostname | OS / Arch | INSTALL | BUILD | CHECK | BUILD BIN | ||||||||
| FindIT2 1.14.0 (landing page) Guandong Shang
| nebbiolo1 | Linux (Ubuntu 24.04.3 LTS) / x86_64 | OK | OK | OK | |||||||||
| merida1 | macOS 12.7.6 Monterey / x86_64 | OK | OK | OK | OK | |||||||||
| kjohnson1 | macOS 13.7.5 Ventura / arm64 | OK | OK | OK | OK | |||||||||
| kunpeng2 | Linux (openEuler 24.03 LTS) / aarch64 | OK | OK | OK | ||||||||||
|
To the developers/maintainers of the FindIT2 package: - Allow up to 24 hours (and sometimes 48 hours) for your latest push to git@git.bioconductor.org:packages/FindIT2.git to reflect on this report. See Troubleshooting Build Report for more information. - Use the following Renviron settings to reproduce errors and warnings. - If 'R CMD check' started to fail recently on the Linux builder(s) over a missing dependency, add the missing dependency to 'Suggests:' in your DESCRIPTION file. See Renviron.bioc for more information. |
| Package: FindIT2 |
| Version: 1.14.0 |
| Command: /Library/Frameworks/R.framework/Resources/bin/R CMD check --install=check:FindIT2.install-out.txt --library=/Library/Frameworks/R.framework/Resources/library --no-vignettes --timings FindIT2_1.14.0.tar.gz |
| StartedAt: 2025-10-14 21:39:09 -0400 (Tue, 14 Oct 2025) |
| EndedAt: 2025-10-14 21:46:05 -0400 (Tue, 14 Oct 2025) |
| EllapsedTime: 416.1 seconds |
| RetCode: 0 |
| Status: OK |
| CheckDir: FindIT2.Rcheck |
| Warnings: 0 |
##############################################################################
##############################################################################
###
### Running command:
###
### /Library/Frameworks/R.framework/Resources/bin/R CMD check --install=check:FindIT2.install-out.txt --library=/Library/Frameworks/R.framework/Resources/library --no-vignettes --timings FindIT2_1.14.0.tar.gz
###
##############################################################################
##############################################################################
* using log directory ‘/Users/biocbuild/bbs-3.21-bioc/meat/FindIT2.Rcheck’
* using R version 4.5.1 Patched (2025-06-14 r88325)
* using platform: aarch64-apple-darwin20
* R was compiled by
Apple clang version 16.0.0 (clang-1600.0.26.6)
GNU Fortran (GCC) 14.2.0
* running under: macOS Ventura 13.7.5
* using session charset: UTF-8
* using option ‘--no-vignettes’
* checking for file ‘FindIT2/DESCRIPTION’ ... OK
* this is package ‘FindIT2’ version ‘1.14.0’
* package encoding: UTF-8
* checking package namespace information ... OK
* checking package dependencies ... INFO
Imports includes 22 non-default packages.
Importing from so many packages makes the package vulnerable to any of
them becoming unavailable. Move as many as possible to Suggests and
use conditionally.
* checking if this is a source package ... OK
* checking if there is a namespace ... OK
* checking for hidden files and directories ... OK
* checking for portable file names ... OK
* checking for sufficient/correct file permissions ... OK
* checking whether package ‘FindIT2’ can be installed ... OK
* checking installed package size ... OK
* checking package directory ... OK
* checking ‘build’ directory ... OK
* checking DESCRIPTION meta-information ... OK
* checking top-level files ... OK
* checking for left-over files ... OK
* checking index information ... OK
* checking package subdirectories ... OK
* checking code files for non-ASCII characters ... OK
* checking R files for syntax errors ... OK
* checking whether the package can be loaded ... OK
* checking whether the package can be loaded with stated dependencies ... OK
* checking whether the package can be unloaded cleanly ... OK
* checking whether the namespace can be loaded with stated dependencies ... OK
* checking whether the namespace can be unloaded cleanly ... OK
* checking dependencies in R code ... OK
* checking S3 generic/method consistency ... OK
* checking replacement functions ... OK
* checking foreign function calls ... OK
* checking R code for possible problems ... OK
* checking Rd files ... OK
* checking Rd metadata ... OK
* checking Rd cross-references ... OK
* checking for missing documentation entries ... OK
* checking for code/documentation mismatches ... OK
* checking Rd \usage sections ... OK
* checking Rd contents ... OK
* checking for unstated dependencies in examples ... OK
* checking contents of ‘data’ directory ... OK
* checking data for non-ASCII characters ... OK
* checking data for ASCII and uncompressed saves ... OK
* checking files in ‘vignettes’ ... OK
* checking examples ... OK
Examples with CPU (user + system) or elapsed time > 5s
user system elapsed
findIT_regionRP 7.352 0.218 7.574
calcRP_coverage 4.583 1.152 5.767
calcRP_region 4.902 0.195 5.159
* checking for unstated dependencies in ‘tests’ ... OK
* checking tests ...
Running ‘testthat.R’
OK
* checking for unstated dependencies in vignettes ... OK
* checking package vignettes ... OK
* checking running R code from vignettes ... SKIPPED
* checking re-building of vignette outputs ... SKIPPED
* checking PDF version of manual ... OK
* DONE
Status: OK
FindIT2.Rcheck/00install.out
############################################################################## ############################################################################## ### ### Running command: ### ### /Library/Frameworks/R.framework/Resources/bin/R CMD INSTALL FindIT2 ### ############################################################################## ############################################################################## * installing to library ‘/Library/Frameworks/R.framework/Versions/4.5-arm64/Resources/library’ * installing *source* package ‘FindIT2’ ... ** this is package ‘FindIT2’ version ‘1.14.0’ ** using staged installation ** R ** data ** inst ** byte-compile and prepare package for lazy loading ** help *** installing help indices ** building package indices ** installing vignettes ** testing if installed package can be loaded from temporary location ** testing if installed package can be loaded from final location ** testing if installed package keeps a record of temporary installation path * DONE (FindIT2)
FindIT2.Rcheck/tests/testthat.Rout
R version 4.5.1 Patched (2025-06-14 r88325) -- "Great Square Root"
Copyright (C) 2025 The R Foundation for Statistical Computing
Platform: aarch64-apple-darwin20
R is free software and comes with ABSOLUTELY NO WARRANTY.
You are welcome to redistribute it under certain conditions.
Type 'license()' or 'licence()' for distribution details.
R is a collaborative project with many contributors.
Type 'contributors()' for more information and
'citation()' on how to cite R or R packages in publications.
Type 'demo()' for some demos, 'help()' for on-line help, or
'help.start()' for an HTML browser interface to help.
Type 'q()' to quit R.
> library(testthat)
> library(FindIT2)
Loading required package: GenomicRanges
Loading required package: stats4
Loading required package: BiocGenerics
Loading required package: generics
Attaching package: 'generics'
The following objects are masked from 'package:base':
as.difftime, as.factor, as.ordered, intersect, is.element, setdiff,
setequal, union
Attaching package: 'BiocGenerics'
The following objects are masked from 'package:stats':
IQR, mad, sd, var, xtabs
The following objects are masked from 'package:base':
Filter, Find, Map, Position, Reduce, anyDuplicated, aperm, append,
as.data.frame, basename, cbind, colnames, dirname, do.call,
duplicated, eval, evalq, get, grep, grepl, is.unsorted, lapply,
mapply, match, mget, order, paste, pmax, pmax.int, pmin, pmin.int,
rank, rbind, rownames, sapply, saveRDS, table, tapply, unique,
unsplit, which.max, which.min
Loading required package: S4Vectors
Attaching package: 'S4Vectors'
The following object is masked from 'package:utils':
findMatches
The following objects are masked from 'package:base':
I, expand.grid, unname
Loading required package: IRanges
Loading required package: GenomeInfoDb
> if (!requireNamespace("TxDb.Athaliana.BioMart.plantsmart28")) {
+ stop("unable to load TxDb.Athaliana.BioMart.plantsmart28")
+ }
Loading required namespace: TxDb.Athaliana.BioMart.plantsmart28
>
> test_check("FindIT2")
>> preparing gene features information... 2025-10-14 21:44:54
>> some scan range may cross Chr bound, trimming... 2025-10-14 21:44:56
>> preparing weight info... 2025-10-14 21:44:56
>> loading E50h_sampleChr5.bw info... 2025-10-14 21:44:56
------------
>> extracting and calcluating Chr5 signal... 2025-10-14 21:44:56
>> dealing with Chr5 left gene signal... 2025-10-14 21:45:01
>> norming Chr5RP accoring to the whole Chr RP... 2025-10-14 21:45:01
>> merging all Chr RP together... 2025-10-14 21:45:01
>> done 2025-10-14 21:45:01
>> checking seqlevels match... 2025-10-14 21:45:01
>> your peak_GR seqlevel:Chr5...
>> your Txdb seqlevel:Chr1 Chr2 Chr3 Chr4 Chr5 ChrM ChrC...
Good, your Chrs in peak_GR is all in Txdb
------------
annotatePeak using geneScan mode begins
>> preparing gene features information and scan region... 2025-10-14 21:45:01
>> some scan range may cross Chr bound, trimming... 2025-10-14 21:45:02
>> finding overlap peak in gene scan region... 2025-10-14 21:45:02
>> dealing with left peak not your gene scan region... 2025-10-14 21:45:02
>> merging two set peaks... 2025-10-14 21:45:02
>> calculating distance and dealing with gene strand... 2025-10-14 21:45:02
>> merging all info together ... 2025-10-14 21:45:02
>> done 2025-10-14 21:45:02
>> calculating peakCenter to TSS using peak-gene pair... 2025-10-14 21:45:02
>> pre-filling 1356 noAssoc peak gene's RP with 0... 2025-10-14 21:45:03
>> calculating RP using centerToTSS and peak score2025-10-14 21:45:03
>> merging all info together 2025-10-14 21:45:05
>> done 2025-10-14 21:45:06
>> calculating peakCenter to TSS using peak-gene pair... 2025-10-14 21:45:06
>> pre-filling 1356 noAssoc peak gene's RP with 0... 2025-10-14 21:45:07
>> calculating RP using centerToTSS and peak score2025-10-14 21:45:07
>> merging all info together 2025-10-14 21:45:10
>> done 2025-10-14 21:45:10
>> checking seqlevels match... 2025-10-14 21:45:10
>> your peak_GR seqlevel:Chr5...
>> your Txdb seqlevel:Chr1 Chr2 Chr3 Chr4 Chr5 ChrM ChrC...
Good, your Chrs in peak_GR is all in Txdb
------------
annotatePeak using geneScan mode begins
>> preparing gene features information and scan region... 2025-10-14 21:45:10
>> some scan range may cross Chr bound, trimming... 2025-10-14 21:45:11
>> finding overlap peak in gene scan region... 2025-10-14 21:45:11
>> dealing with left peak not your gene scan region... 2025-10-14 21:45:11
>> merging two set peaks... 2025-10-14 21:45:12
>> calculating distance and dealing with gene strand... 2025-10-14 21:45:12
>> merging all info together ... 2025-10-14 21:45:12
>> done 2025-10-14 21:45:12
>> calculating peakCenter to TSS using peak-gene pair... 2025-10-14 21:45:12
>> calculating RP using centerToTSS and TF hit 2025-10-14 21:45:12
>> merging all info together 2025-10-14 21:45:12
>> done 2025-10-14 21:45:13
>> calculating peakCenter to TSS using peak-gene pair... 2025-10-14 21:45:13
>> calculating RP using centerToTSS and TF hit 2025-10-14 21:45:13
>> merging all info together 2025-10-14 21:45:13
>> done 2025-10-14 21:45:13
>> checking seqlevels match... 2025-10-14 21:45:14
>> your peak_GR seqlevel:Chr5...
>> your Txdb seqlevel:Chr1 Chr2 Chr3 Chr4 Chr5 ChrM ChrC...
Good, your Chrs in peak_GR is all in Txdb
------------
annotatePeak using geneScan mode begins
>> preparing gene features information and scan region... 2025-10-14 21:45:14
>> some scan range may cross Chr bound, trimming... 2025-10-14 21:45:15
>> finding overlap peak in gene scan region... 2025-10-14 21:45:15
>> dealing with left peak not your gene scan region... 2025-10-14 21:45:15
>> merging two set peaks... 2025-10-14 21:45:17
>> calculating distance and dealing with gene strand... 2025-10-14 21:45:17
>> merging all info together ... 2025-10-14 21:45:17
>> done 2025-10-14 21:45:17
>> calculating peakCenter to TSS using peak-gene pair... 2025-10-14 21:45:17
>> pre-filling 1356 noAssoc peak gene's RP with 0... 2025-10-14 21:45:18
>> calculating RP using centerToTSS and peak score2025-10-14 21:45:18
>> merging all info together 2025-10-14 21:45:20
>> done 2025-10-14 21:45:20
>> extracting RP info from regionRP... 2025-10-14 21:45:21
>> dealing with TF_GR_databse... 2025-10-14 21:45:21
>> calculating percent and p-value... 2025-10-14 21:45:21
>> dealing withE5_0h_R1... 2025-10-14 21:45:21
>> dealing withE5_0h_R2... 2025-10-14 21:45:21
>> dealing withE5_4h_R1... 2025-10-14 21:45:21
>> dealing withE5_4h_R2... 2025-10-14 21:45:21
>> dealing withE5_8h_R1... 2025-10-14 21:45:21
>> dealing withE5_8h_R2... 2025-10-14 21:45:21
>> dealing withE5_16h_R1... 2025-10-14 21:45:21
>> dealing withE5_16h_R2... 2025-10-14 21:45:21
>> dealing withE5_24h_R1... 2025-10-14 21:45:21
>> dealing withE5_24h_R2... 2025-10-14 21:45:21
>> dealing withE5_48h_R1... 2025-10-14 21:45:21
>> dealing withE5_48h_R2... 2025-10-14 21:45:21
>> dealing withE5_48h_R3... 2025-10-14 21:45:21
>> dealing withE5_72h_R1... 2025-10-14 21:45:21
>> dealing withE5_72h_R2... 2025-10-14 21:45:22
>> dealing withE5_72h_R3... 2025-10-14 21:45:22
>> merging all info together... 2025-10-14 21:45:22
>> done 2025-10-14 21:45:22
>> preparing gene features information... 2025-10-14 21:45:22
>> some scan range may cross Chr bound, trimming... 2025-10-14 21:45:23
>> calculating p-value for each TF, which may be time consuming... 2025-10-14 21:45:23
>> merging all info together... 2025-10-14 21:45:23
>> done 2025-10-14 21:45:23
>> dealing with TF_GR_database... 2025-10-14 21:45:23
>> calculating coef and converting into z-score using INT... 2025-10-14 21:45:23
>> dealing with E5_0h_R1... 2025-10-14 21:45:23
>> dealing with E5_0h_R2... 2025-10-14 21:45:23
>> dealing with E5_4h_R1... 2025-10-14 21:45:23
>> dealing with E5_4h_R2... 2025-10-14 21:45:23
>> dealing with E5_8h_R1... 2025-10-14 21:45:23
>> dealing with E5_8h_R2... 2025-10-14 21:45:23
>> dealing with E5_16h_R1... 2025-10-14 21:45:24
>> dealing with E5_16h_R2... 2025-10-14 21:45:24
>> dealing with E5_24h_R1... 2025-10-14 21:45:24
>> dealing with E5_24h_R2... 2025-10-14 21:45:24
>> dealing with E5_48h_R1... 2025-10-14 21:45:24
>> dealing with E5_48h_R2... 2025-10-14 21:45:24
>> dealing with E5_48h_R3... 2025-10-14 21:45:24
>> dealing with E5_72h_R1... 2025-10-14 21:45:24
>> dealing with E5_72h_R2... 2025-10-14 21:45:24
>> dealing with E5_72h_R3... 2025-10-14 21:45:24
>> merging all info together... 2025-10-14 21:45:24
>> done 2025-10-14 21:45:24
>> checking seqlevels match... 2025-10-14 21:45:25
>> your peak_GR seqlevel:Chr5...
>> your Txdb seqlevel:Chr1 Chr2 Chr3 Chr4 Chr5 ChrM ChrC...
Good, your Chrs in peak_GR is all in Txdb
------------
annotatePeak using geneScan mode begins
>> preparing gene features information and scan region... 2025-10-14 21:45:25
>> some scan range may cross Chr bound, trimming... 2025-10-14 21:45:25
>> finding overlap peak in gene scan region... 2025-10-14 21:45:25
>> dealing with left peak not your gene scan region... 2025-10-14 21:45:25
>> merging two set peaks... 2025-10-14 21:45:26
>> calculating distance and dealing with gene strand... 2025-10-14 21:45:26
>> merging all info together ... 2025-10-14 21:45:26
>> done 2025-10-14 21:45:26
>> calculating peakCenter to TSS using peak-gene pair... 2025-10-14 21:45:26
>> calculating RP using centerToTSS and TF hit 2025-10-14 21:45:28
>> merging all info together 2025-10-14 21:45:28
>> done 2025-10-14 21:45:28
>> checking seqlevels match... 2025-10-14 21:45:28
>> your peak_GR seqlevel:5...
>> your Txdb seqlevel:Chr1 Chr2 Chr3 Chr4 Chr5 ChrM ChrC...
>> checking seqlevels match... 2025-10-14 21:45:28
>> your peak_GR seqlevel:Chr5 Chr6...
>> your Txdb seqlevel:Chr1 Chr2 Chr3 Chr4 Chr5 ChrM ChrC...
>> checking seqlevels match... 2025-10-14 21:45:31
>> your peak_GR seqlevel:Chr5...
>> your Txdb seqlevel:Chr1 Chr2 Chr3 Chr4 Chr5 ChrM ChrC...
Good, your Chrs in peak_GR is all in Txdb
>> checking seqlevels match... 2025-10-14 21:45:31
>> your peak_GR seqlevel:Chr5...
>> your Txdb seqlevel:Chr1 Chr2 Chr3 Chr4 Chr5 ChrM ChrC...
Good, your Chrs in peak_GR is all in Txdb
------------
annotating Peak using nearest gene mode begins
>> preparing gene features information... 2025-10-14 21:45:32
>> finding nearest gene and calculating distance... 2025-10-14 21:45:32
>> dealing with gene strand ... 2025-10-14 21:45:32
>> merging all info together ... 2025-10-14 21:45:32
>> done 2025-10-14 21:45:32
>> checking seqlevels match... 2025-10-14 21:45:33
>> your peak_GR seqlevel:Chr5...
>> your Txdb seqlevel:Chr1 Chr2 Chr3 Chr4 Chr5 ChrM ChrC...
Good, your Chrs in peak_GR is all in Txdb
>> checking seqlevels match... 2025-10-14 21:45:33
>> your peak_GR seqlevel:Chr5...
>> your Txdb seqlevel:Chr1 Chr2 Chr3 Chr4 Chr5 ChrM ChrC...
Good, your Chrs in peak_GR is all in Txdb
------------
annotating Peak using nearest gene mode begins
>> preparing gene features information... 2025-10-14 21:45:33
>> finding nearest gene and calculating distance... 2025-10-14 21:45:33
>> dealing with gene strand ... 2025-10-14 21:45:34
>> merging all info together ... 2025-10-14 21:45:34
>> done 2025-10-14 21:45:34
>> checking seqlevels match... 2025-10-14 21:45:34
>> your peak_GR seqlevel:Chr5...
>> your Txdb seqlevel:Chr1 Chr2 Chr3 Chr4 Chr5 ChrM ChrC...
Good, your Chrs in peak_GR is all in Txdb
>> checking seqlevels match... 2025-10-14 21:45:34
>> your peak_GR seqlevel:Chr5...
>> your Txdb seqlevel:Chr1 Chr2 Chr3 Chr4 Chr5 ChrM ChrC...
Good, your Chrs in peak_GR is all in Txdb
------------
annotating Peak using nearest gene mode begins
>> preparing gene features information... 2025-10-14 21:45:34
>> finding nearest gene and calculating distance... 2025-10-14 21:45:35
>> dealing with gene strand ... 2025-10-14 21:45:35
>> merging all info together ... 2025-10-14 21:45:35
>> done 2025-10-14 21:45:35
>> checking seqlevels match... 2025-10-14 21:45:37
>> your peak_GR seqlevel:Chr5...
>> your Txdb seqlevel:Chr1 Chr2 Chr3 Chr4 Chr5 ChrM ChrC...
Good, your Chrs in peak_GR is all in Txdb
>> checking seqlevels match... 2025-10-14 21:45:38
>> your peak_GR seqlevel:Chr5...
>> your Txdb seqlevel:Chr1 Chr2 Chr3 Chr4 Chr5 ChrM ChrC...
Good, your Chrs in peak_GR is all in Txdb
------------
annotating Peak using nearest gene mode begins
>> preparing gene features information... 2025-10-14 21:45:38
>> finding nearest gene and calculating distance... 2025-10-14 21:45:38
>> dealing with gene strand ... 2025-10-14 21:45:38
>> merging all info together ... 2025-10-14 21:45:39
>> done 2025-10-14 21:45:39
It seems that there 1 genes have not been annotated by nearestGene mode
>> checking seqlevels match... 2025-10-14 21:45:39
>> your peak_GR seqlevel:Chr5...
>> your Txdb seqlevel:Chr1 Chr2 Chr3 Chr4 Chr5 ChrM ChrC...
Good, your Chrs in peak_GR is all in Txdb
>> checking seqlevels match... 2025-10-14 21:45:39
>> your peak_GR seqlevel:Chr5...
>> your Txdb seqlevel:Chr1 Chr2 Chr3 Chr4 Chr5 ChrM ChrC...
Good, your Chrs in peak_GR is all in Txdb
------------
annotating Peak using nearest gene mode begins
>> preparing gene features information... 2025-10-14 21:45:40
>> finding nearest gene and calculating distance... 2025-10-14 21:45:40
>> dealing with gene strand ... 2025-10-14 21:45:41
>> merging all info together ... 2025-10-14 21:45:41
>> done 2025-10-14 21:45:41
It seems that there 1 genes have not been annotated by nearestGene mode
>> checking seqlevels match... 2025-10-14 21:45:41
>> your peak_GR seqlevel:Chr5...
>> your Txdb seqlevel:Chr1 Chr2 Chr3 Chr4 Chr5 ChrM ChrC...
Good, your Chrs in peak_GR is all in Txdb
>> checking seqlevels match... 2025-10-14 21:45:42
>> your peak_GR seqlevel:Chr5...
>> your Txdb seqlevel:Chr1 Chr2 Chr3 Chr4 Chr5 ChrM ChrC...
Good, your Chrs in peak_GR is all in Txdb
>> some scan range may cross Chr bound, trimming... 2025-10-14 21:45:43
>> checking seqlevels match... 2025-10-14 21:45:44
>> your peak_GR seqlevel:Chr5...
>> your Txdb seqlevel:Chr1 Chr2 Chr3 Chr4 Chr5 ChrM ChrC...
Good, your Chrs in peak_GR is all in Txdb
>> some scan range may cross Chr bound, trimming... 2025-10-14 21:45:45
Good, your two matrix colnames matchs
>> calculating cor and pvalue, which may be time consuming... 2025-10-14 21:45:46
>> merging all info together... 2025-10-14 21:45:46
>> done 2025-10-14 21:45:46
>> checking seqlevels match... 2025-10-14 21:45:46
>> your peak_GR seqlevel:Chr5...
>> your Txdb seqlevel:Chr1 Chr2 Chr3 Chr4 Chr5 ChrM ChrC...
Good, your Chrs in peak_GR is all in Txdb
>> using scanPromoter parameter to scan promoter for each gene... 2025-10-14 21:45:47
>> checking seqlevels match... 2025-10-14 21:45:47
>> your peak_GR seqlevel:Chr5...
>> your Txdb seqlevel:Chr1 Chr2 Chr3 Chr4 Chr5 ChrM ChrC...
Good, your Chrs in peak_GR is all in Txdb
>> some scan range may cross Chr bound, trimming... 2025-10-14 21:45:47
>> there are 85 gene have scaned promoter
>> using scanEnhancer parameter to scan Enhancer for each gene... 2025-10-14 21:45:48
>> checking seqlevels match... 2025-10-14 21:45:48
>> your peak_GR seqlevel:Chr5...
>> your Txdb seqlevel:Chr1 Chr2 Chr3 Chr4 Chr5 ChrM ChrC...
Good, your Chrs in peak_GR is all in Txdb
>> some scan range may cross Chr bound, trimming... 2025-10-14 21:45:48
>> calculating cor and pvalue, which may be time consuming... 2025-10-14 21:45:49
>> merging all info together... 2025-10-14 21:45:49
>> done 2025-10-14 21:45:49
Good, your two matrix colnames matchs
>> calculating cor and pvalue, which may be time consuming... 2025-10-14 21:45:49
>> merging all info together... 2025-10-14 21:45:49
>> done 2025-10-14 21:45:49
>> checking seqlevels match... 2025-10-14 21:45:49
>> your peak_GR seqlevel:Chr5...
>> your Txdb seqlevel:Chr1 Chr2 Chr3 Chr4 Chr5 ChrM ChrC...
Good, your Chrs in peak_GR is all in Txdb
------------
annotatePeak using geneScan mode begins
>> preparing gene features information and scan region... 2025-10-14 21:45:49
>> some scan range may cross Chr bound, trimming... 2025-10-14 21:45:50
>> finding overlap peak in gene scan region... 2025-10-14 21:45:50
>> dealing with left peak not your gene scan region... 2025-10-14 21:45:50
>> merging two set peaks... 2025-10-14 21:45:50
>> calculating distance and dealing with gene strand... 2025-10-14 21:45:50
>> merging all info together ... 2025-10-14 21:45:50
>> done 2025-10-14 21:45:50
Good, your two matrix colnames matchs
>> calculating cor and pvalue, which may be time consuming... 2025-10-14 21:45:51
>> merging all info together... 2025-10-14 21:45:51
>> done 2025-10-14 21:45:51
>> checking seqlevels match... 2025-10-14 21:45:51
>> your peak_GR seqlevel:Chr5...
>> your Txdb seqlevel:Chr1 Chr2 Chr3 Chr4 Chr5 ChrM ChrC...
Good, your Chrs in peak_GR is all in Txdb
>> using scanPromoter parameter to scan promoter for each gene... 2025-10-14 21:45:51
>> checking seqlevels match... 2025-10-14 21:45:51
>> your peak_GR seqlevel:Chr5...
>> your Txdb seqlevel:Chr1 Chr2 Chr3 Chr4 Chr5 ChrM ChrC...
Good, your Chrs in peak_GR is all in Txdb
>> some scan range may cross Chr bound, trimming... 2025-10-14 21:45:52
>> there are 85 gene have scaned promoter
>> using scanEnhancer parameter to scan Enhancer for each gene... 2025-10-14 21:45:52
>> checking seqlevels match... 2025-10-14 21:45:52
>> your peak_GR seqlevel:Chr5...
>> your Txdb seqlevel:Chr1 Chr2 Chr3 Chr4 Chr5 ChrM ChrC...
Good, your Chrs in peak_GR is all in Txdb
>> some scan range may cross Chr bound, trimming... 2025-10-14 21:45:53
>> calculating cor and pvalue, which may be time consuming... 2025-10-14 21:45:53
>> merging all info together... 2025-10-14 21:45:54
>> done 2025-10-14 21:45:54
Joining with `by = join_by(feature_id)`
Joining with `by = join_by(feature_id)`
`geom_smooth()` using formula = 'y ~ x'
Joining with `by = join_by(feature_id)`
Joining with `by = join_by(feature_id)`
`geom_smooth()` using formula = 'y ~ x'
[ FAIL 0 | WARN 0 | SKIP 0 | PASS 65 ]
>
> proc.time()
user system elapsed
71.526 3.343 75.400
FindIT2.Rcheck/FindIT2-Ex.timings
| name | user | system | elapsed | |
| TF_target_database | 0.001 | 0.001 | 0.001 | |
| calcRP_TFHit | 4.111 | 0.169 | 4.318 | |
| calcRP_coverage | 4.583 | 1.152 | 5.767 | |
| calcRP_region | 4.902 | 0.195 | 5.159 | |
| enhancerPromoterCor | 2.559 | 0.097 | 2.697 | |
| findIT_MARA | 0.474 | 0.015 | 0.489 | |
| findIT_TFHit | 1.021 | 0.027 | 1.049 | |
| findIT_TTPair | 0.088 | 0.005 | 0.094 | |
| findIT_enrichFisher | 0.158 | 0.004 | 0.162 | |
| findIT_enrichWilcox | 0.217 | 0.009 | 0.225 | |
| findIT_regionRP | 7.352 | 0.218 | 7.574 | |
| getAssocPairNumber | 1.196 | 0.048 | 1.242 | |
| integrate_ChIP_RNA | 2.254 | 0.158 | 2.414 | |
| integrate_replicates | 0.002 | 0.000 | 0.003 | |
| jaccard_findIT_TTpair | 0.110 | 0.007 | 0.117 | |
| jaccard_findIT_enrichFisher | 0.204 | 0.005 | 0.209 | |
| loadPeakFile | 0.091 | 0.007 | 0.100 | |
| mm_geneBound | 1.221 | 0.048 | 1.269 | |
| mm_geneScan | 1.272 | 0.062 | 1.335 | |
| mm_nearestGene | 1.173 | 0.041 | 1.214 | |
| peakGeneCor | 2.277 | 0.093 | 2.373 | |
| plot_annoDistance | 1.780 | 0.058 | 1.861 | |
| plot_peakGeneAlias_summary | 1.509 | 0.056 | 1.582 | |
| plot_peakGeneCor | 3.153 | 0.077 | 3.258 | |
| test_geneSet | 0.000 | 0.000 | 0.001 | |