| Back to Multiple platform build/check report for BioC 3.21: simplified long |
|
This page was generated on 2025-10-16 11:38 -0400 (Thu, 16 Oct 2025).
| Hostname | OS | Arch (*) | R version | Installed pkgs |
|---|---|---|---|---|
| nebbiolo1 | Linux (Ubuntu 24.04.3 LTS) | x86_64 | 4.5.1 (2025-06-13) -- "Great Square Root" | 4833 |
| merida1 | macOS 12.7.6 Monterey | x86_64 | 4.5.1 RC (2025-06-05 r88288) -- "Great Square Root" | 4614 |
| kjohnson1 | macOS 13.7.5 Ventura | arm64 | 4.5.1 Patched (2025-06-14 r88325) -- "Great Square Root" | 4555 |
| kunpeng2 | Linux (openEuler 24.03 LTS) | aarch64 | R Under development (unstable) (2025-02-19 r87757) -- "Unsuffered Consequences" | 4586 |
| Click on any hostname to see more info about the system (e.g. compilers) (*) as reported by 'uname -p', except on Windows and Mac OS X | ||||
| Package 730/2341 | Hostname | OS / Arch | INSTALL | BUILD | CHECK | BUILD BIN | ||||||||
| FindIT2 1.14.0 (landing page) Guandong Shang
| nebbiolo1 | Linux (Ubuntu 24.04.3 LTS) / x86_64 | OK | OK | OK | |||||||||
| merida1 | macOS 12.7.6 Monterey / x86_64 | OK | OK | OK | OK | |||||||||
| kjohnson1 | macOS 13.7.5 Ventura / arm64 | OK | OK | OK | OK | |||||||||
| kunpeng2 | Linux (openEuler 24.03 LTS) / aarch64 | OK | OK | OK | ||||||||||
|
To the developers/maintainers of the FindIT2 package: - Allow up to 24 hours (and sometimes 48 hours) for your latest push to git@git.bioconductor.org:packages/FindIT2.git to reflect on this report. See Troubleshooting Build Report for more information. - Use the following Renviron settings to reproduce errors and warnings. - If 'R CMD check' started to fail recently on the Linux builder(s) over a missing dependency, add the missing dependency to 'Suggests:' in your DESCRIPTION file. See Renviron.bioc for more information. |
| Package: FindIT2 |
| Version: 1.14.0 |
| Command: /home/biocbuild/bbs-3.21-bioc/R/bin/R CMD check --install=check:FindIT2.install-out.txt --library=/home/biocbuild/bbs-3.21-bioc/R/site-library --timings FindIT2_1.14.0.tar.gz |
| StartedAt: 2025-10-15 23:15:48 -0400 (Wed, 15 Oct 2025) |
| EndedAt: 2025-10-15 23:22:35 -0400 (Wed, 15 Oct 2025) |
| EllapsedTime: 406.7 seconds |
| RetCode: 0 |
| Status: OK |
| CheckDir: FindIT2.Rcheck |
| Warnings: 0 |
##############################################################################
##############################################################################
###
### Running command:
###
### /home/biocbuild/bbs-3.21-bioc/R/bin/R CMD check --install=check:FindIT2.install-out.txt --library=/home/biocbuild/bbs-3.21-bioc/R/site-library --timings FindIT2_1.14.0.tar.gz
###
##############################################################################
##############################################################################
* using log directory ‘/home/biocbuild/bbs-3.21-bioc/meat/FindIT2.Rcheck’
* using R version 4.5.1 (2025-06-13)
* using platform: x86_64-pc-linux-gnu
* R was compiled by
gcc (Ubuntu 13.3.0-6ubuntu2~24.04) 13.3.0
GNU Fortran (Ubuntu 13.3.0-6ubuntu2~24.04) 13.3.0
* running under: Ubuntu 24.04.3 LTS
* using session charset: UTF-8
* checking for file ‘FindIT2/DESCRIPTION’ ... OK
* this is package ‘FindIT2’ version ‘1.14.0’
* package encoding: UTF-8
* checking package namespace information ... OK
* checking package dependencies ... INFO
Imports includes 22 non-default packages.
Importing from so many packages makes the package vulnerable to any of
them becoming unavailable. Move as many as possible to Suggests and
use conditionally.
* checking if this is a source package ... OK
* checking if there is a namespace ... OK
* checking for hidden files and directories ... OK
* checking for portable file names ... OK
* checking for sufficient/correct file permissions ... OK
* checking whether package ‘FindIT2’ can be installed ... OK
* checking installed package size ... OK
* checking package directory ... OK
* checking ‘build’ directory ... OK
* checking DESCRIPTION meta-information ... OK
* checking top-level files ... OK
* checking for left-over files ... OK
* checking index information ... OK
* checking package subdirectories ... OK
* checking code files for non-ASCII characters ... OK
* checking R files for syntax errors ... OK
* checking whether the package can be loaded ... OK
* checking whether the package can be loaded with stated dependencies ... OK
* checking whether the package can be unloaded cleanly ... OK
* checking whether the namespace can be loaded with stated dependencies ... OK
* checking whether the namespace can be unloaded cleanly ... OK
* checking loading without being on the library search path ... OK
* checking dependencies in R code ... OK
* checking S3 generic/method consistency ... OK
* checking replacement functions ... OK
* checking foreign function calls ... OK
* checking R code for possible problems ... OK
* checking Rd files ... OK
* checking Rd metadata ... OK
* checking Rd cross-references ... OK
* checking for missing documentation entries ... OK
* checking for code/documentation mismatches ... OK
* checking Rd \usage sections ... OK
* checking Rd contents ... OK
* checking for unstated dependencies in examples ... OK
* checking contents of ‘data’ directory ... OK
* checking data for non-ASCII characters ... OK
* checking data for ASCII and uncompressed saves ... OK
* checking files in ‘vignettes’ ... OK
* checking examples ... OK
Examples with CPU (user + system) or elapsed time > 5s
user system elapsed
findIT_regionRP 5.345 0.037 5.382
calcRP_region 5.241 0.071 5.314
* checking for unstated dependencies in ‘tests’ ... OK
* checking tests ...
Running ‘testthat.R’
OK
* checking for unstated dependencies in vignettes ... OK
* checking package vignettes ... OK
* checking re-building of vignette outputs ... OK
* checking PDF version of manual ... OK
* DONE
Status: OK
FindIT2.Rcheck/00install.out
############################################################################## ############################################################################## ### ### Running command: ### ### /home/biocbuild/bbs-3.21-bioc/R/bin/R CMD INSTALL FindIT2 ### ############################################################################## ############################################################################## * installing to library ‘/home/biocbuild/bbs-3.21-bioc/R/site-library’ * installing *source* package ‘FindIT2’ ... ** this is package ‘FindIT2’ version ‘1.14.0’ ** using staged installation ** R ** data ** inst ** byte-compile and prepare package for lazy loading ** help *** installing help indices ** building package indices ** installing vignettes ** testing if installed package can be loaded from temporary location ** testing if installed package can be loaded from final location ** testing if installed package keeps a record of temporary installation path * DONE (FindIT2)
FindIT2.Rcheck/tests/testthat.Rout
R version 4.5.1 (2025-06-13) -- "Great Square Root"
Copyright (C) 2025 The R Foundation for Statistical Computing
Platform: x86_64-pc-linux-gnu
R is free software and comes with ABSOLUTELY NO WARRANTY.
You are welcome to redistribute it under certain conditions.
Type 'license()' or 'licence()' for distribution details.
R is a collaborative project with many contributors.
Type 'contributors()' for more information and
'citation()' on how to cite R or R packages in publications.
Type 'demo()' for some demos, 'help()' for on-line help, or
'help.start()' for an HTML browser interface to help.
Type 'q()' to quit R.
> library(testthat)
> library(FindIT2)
Loading required package: GenomicRanges
Loading required package: stats4
Loading required package: BiocGenerics
Loading required package: generics
Attaching package: 'generics'
The following objects are masked from 'package:base':
as.difftime, as.factor, as.ordered, intersect, is.element, setdiff,
setequal, union
Attaching package: 'BiocGenerics'
The following objects are masked from 'package:stats':
IQR, mad, sd, var, xtabs
The following objects are masked from 'package:base':
Filter, Find, Map, Position, Reduce, anyDuplicated, aperm, append,
as.data.frame, basename, cbind, colnames, dirname, do.call,
duplicated, eval, evalq, get, grep, grepl, is.unsorted, lapply,
mapply, match, mget, order, paste, pmax, pmax.int, pmin, pmin.int,
rank, rbind, rownames, sapply, saveRDS, table, tapply, unique,
unsplit, which.max, which.min
Loading required package: S4Vectors
Attaching package: 'S4Vectors'
The following object is masked from 'package:utils':
findMatches
The following objects are masked from 'package:base':
I, expand.grid, unname
Loading required package: IRanges
Loading required package: GenomeInfoDb
> if (!requireNamespace("TxDb.Athaliana.BioMart.plantsmart28")) {
+ stop("unable to load TxDb.Athaliana.BioMart.plantsmart28")
+ }
Loading required namespace: TxDb.Athaliana.BioMart.plantsmart28
>
> test_check("FindIT2")
>> preparing gene features information... 2025-10-15 23:20:44
>> some scan range may cross Chr bound, trimming... 2025-10-15 23:20:45
>> preparing weight info... 2025-10-15 23:20:45
>> loading E50h_sampleChr5.bw info... 2025-10-15 23:20:45
------------
>> extracting and calcluating Chr5 signal... 2025-10-15 23:20:45
>> dealing with Chr5 left gene signal... 2025-10-15 23:20:49
>> norming Chr5RP accoring to the whole Chr RP... 2025-10-15 23:20:49
>> merging all Chr RP together... 2025-10-15 23:20:49
>> done 2025-10-15 23:20:49
>> checking seqlevels match... 2025-10-15 23:20:49
>> your peak_GR seqlevel:Chr5...
>> your Txdb seqlevel:Chr1 Chr2 Chr3 Chr4 Chr5 ChrM ChrC...
Good, your Chrs in peak_GR is all in Txdb
------------
annotatePeak using geneScan mode begins
>> preparing gene features information and scan region... 2025-10-15 23:20:49
>> some scan range may cross Chr bound, trimming... 2025-10-15 23:20:50
>> finding overlap peak in gene scan region... 2025-10-15 23:20:50
>> dealing with left peak not your gene scan region... 2025-10-15 23:20:50
>> merging two set peaks... 2025-10-15 23:20:50
>> calculating distance and dealing with gene strand... 2025-10-15 23:20:50
>> merging all info together ... 2025-10-15 23:20:50
>> done 2025-10-15 23:20:50
>> calculating peakCenter to TSS using peak-gene pair... 2025-10-15 23:20:50
>> pre-filling 1356 noAssoc peak gene's RP with 0... 2025-10-15 23:20:51
>> calculating RP using centerToTSS and peak score2025-10-15 23:20:51
>> merging all info together 2025-10-15 23:20:52
>> done 2025-10-15 23:20:53
>> calculating peakCenter to TSS using peak-gene pair... 2025-10-15 23:20:53
>> pre-filling 1356 noAssoc peak gene's RP with 0... 2025-10-15 23:20:54
>> calculating RP using centerToTSS and peak score2025-10-15 23:20:54
>> merging all info together 2025-10-15 23:20:56
>> done 2025-10-15 23:20:57
>> checking seqlevels match... 2025-10-15 23:20:57
>> your peak_GR seqlevel:Chr5...
>> your Txdb seqlevel:Chr1 Chr2 Chr3 Chr4 Chr5 ChrM ChrC...
Good, your Chrs in peak_GR is all in Txdb
------------
annotatePeak using geneScan mode begins
>> preparing gene features information and scan region... 2025-10-15 23:20:57
>> some scan range may cross Chr bound, trimming... 2025-10-15 23:20:58
>> finding overlap peak in gene scan region... 2025-10-15 23:20:58
>> dealing with left peak not your gene scan region... 2025-10-15 23:20:58
>> merging two set peaks... 2025-10-15 23:20:58
>> calculating distance and dealing with gene strand... 2025-10-15 23:20:58
>> merging all info together ... 2025-10-15 23:20:58
>> done 2025-10-15 23:20:58
>> calculating peakCenter to TSS using peak-gene pair... 2025-10-15 23:20:58
>> calculating RP using centerToTSS and TF hit 2025-10-15 23:20:59
>> merging all info together 2025-10-15 23:20:59
>> done 2025-10-15 23:20:59
>> calculating peakCenter to TSS using peak-gene pair... 2025-10-15 23:20:59
>> calculating RP using centerToTSS and TF hit 2025-10-15 23:20:59
>> merging all info together 2025-10-15 23:20:59
>> done 2025-10-15 23:20:59
>> checking seqlevels match... 2025-10-15 23:21:00
>> your peak_GR seqlevel:Chr5...
>> your Txdb seqlevel:Chr1 Chr2 Chr3 Chr4 Chr5 ChrM ChrC...
Good, your Chrs in peak_GR is all in Txdb
------------
annotatePeak using geneScan mode begins
>> preparing gene features information and scan region... 2025-10-15 23:21:00
>> some scan range may cross Chr bound, trimming... 2025-10-15 23:21:01
>> finding overlap peak in gene scan region... 2025-10-15 23:21:01
>> dealing with left peak not your gene scan region... 2025-10-15 23:21:01
>> merging two set peaks... 2025-10-15 23:21:01
>> calculating distance and dealing with gene strand... 2025-10-15 23:21:01
>> merging all info together ... 2025-10-15 23:21:01
>> done 2025-10-15 23:21:01
>> calculating peakCenter to TSS using peak-gene pair... 2025-10-15 23:21:01
>> pre-filling 1356 noAssoc peak gene's RP with 0... 2025-10-15 23:21:03
>> calculating RP using centerToTSS and peak score2025-10-15 23:21:03
>> merging all info together 2025-10-15 23:21:05
>> done 2025-10-15 23:21:05
>> extracting RP info from regionRP... 2025-10-15 23:21:06
>> dealing with TF_GR_databse... 2025-10-15 23:21:06
>> calculating percent and p-value... 2025-10-15 23:21:06
>> dealing withE5_0h_R1... 2025-10-15 23:21:06
>> dealing withE5_0h_R2... 2025-10-15 23:21:06
>> dealing withE5_4h_R1... 2025-10-15 23:21:06
>> dealing withE5_4h_R2... 2025-10-15 23:21:06
>> dealing withE5_8h_R1... 2025-10-15 23:21:06
>> dealing withE5_8h_R2... 2025-10-15 23:21:06
>> dealing withE5_16h_R1... 2025-10-15 23:21:06
>> dealing withE5_16h_R2... 2025-10-15 23:21:06
>> dealing withE5_24h_R1... 2025-10-15 23:21:06
>> dealing withE5_24h_R2... 2025-10-15 23:21:06
>> dealing withE5_48h_R1... 2025-10-15 23:21:06
>> dealing withE5_48h_R2... 2025-10-15 23:21:06
>> dealing withE5_48h_R3... 2025-10-15 23:21:06
>> dealing withE5_72h_R1... 2025-10-15 23:21:06
>> dealing withE5_72h_R2... 2025-10-15 23:21:06
>> dealing withE5_72h_R3... 2025-10-15 23:21:06
>> merging all info together... 2025-10-15 23:21:06
>> done 2025-10-15 23:21:06
>> preparing gene features information... 2025-10-15 23:21:07
>> some scan range may cross Chr bound, trimming... 2025-10-15 23:21:07
>> calculating p-value for each TF, which may be time consuming... 2025-10-15 23:21:07
>> merging all info together... 2025-10-15 23:21:07
>> done 2025-10-15 23:21:07
>> dealing with TF_GR_database... 2025-10-15 23:21:07
>> calculating coef and converting into z-score using INT... 2025-10-15 23:21:08
>> dealing with E5_0h_R1... 2025-10-15 23:21:08
>> dealing with E5_0h_R2... 2025-10-15 23:21:08
>> dealing with E5_4h_R1... 2025-10-15 23:21:08
>> dealing with E5_4h_R2... 2025-10-15 23:21:08
>> dealing with E5_8h_R1... 2025-10-15 23:21:08
>> dealing with E5_8h_R2... 2025-10-15 23:21:08
>> dealing with E5_16h_R1... 2025-10-15 23:21:08
>> dealing with E5_16h_R2... 2025-10-15 23:21:08
>> dealing with E5_24h_R1... 2025-10-15 23:21:08
>> dealing with E5_24h_R2... 2025-10-15 23:21:08
>> dealing with E5_48h_R1... 2025-10-15 23:21:08
>> dealing with E5_48h_R2... 2025-10-15 23:21:08
>> dealing with E5_48h_R3... 2025-10-15 23:21:08
>> dealing with E5_72h_R1... 2025-10-15 23:21:08
>> dealing with E5_72h_R2... 2025-10-15 23:21:09
>> dealing with E5_72h_R3... 2025-10-15 23:21:09
>> merging all info together... 2025-10-15 23:21:09
>> done 2025-10-15 23:21:09
>> checking seqlevels match... 2025-10-15 23:21:09
>> your peak_GR seqlevel:Chr5...
>> your Txdb seqlevel:Chr1 Chr2 Chr3 Chr4 Chr5 ChrM ChrC...
Good, your Chrs in peak_GR is all in Txdb
------------
annotatePeak using geneScan mode begins
>> preparing gene features information and scan region... 2025-10-15 23:21:09
>> some scan range may cross Chr bound, trimming... 2025-10-15 23:21:10
>> finding overlap peak in gene scan region... 2025-10-15 23:21:10
>> dealing with left peak not your gene scan region... 2025-10-15 23:21:10
>> merging two set peaks... 2025-10-15 23:21:10
>> calculating distance and dealing with gene strand... 2025-10-15 23:21:10
>> merging all info together ... 2025-10-15 23:21:10
>> done 2025-10-15 23:21:10
>> calculating peakCenter to TSS using peak-gene pair... 2025-10-15 23:21:10
>> calculating RP using centerToTSS and TF hit 2025-10-15 23:21:11
>> merging all info together 2025-10-15 23:21:11
>> done 2025-10-15 23:21:11
>> checking seqlevels match... 2025-10-15 23:21:11
>> your peak_GR seqlevel:5...
>> your Txdb seqlevel:Chr1 Chr2 Chr3 Chr4 Chr5 ChrM ChrC...
>> checking seqlevels match... 2025-10-15 23:21:11
>> your peak_GR seqlevel:Chr5 Chr6...
>> your Txdb seqlevel:Chr1 Chr2 Chr3 Chr4 Chr5 ChrM ChrC...
>> checking seqlevels match... 2025-10-15 23:21:14
>> your peak_GR seqlevel:Chr5...
>> your Txdb seqlevel:Chr1 Chr2 Chr3 Chr4 Chr5 ChrM ChrC...
Good, your Chrs in peak_GR is all in Txdb
>> checking seqlevels match... 2025-10-15 23:21:14
>> your peak_GR seqlevel:Chr5...
>> your Txdb seqlevel:Chr1 Chr2 Chr3 Chr4 Chr5 ChrM ChrC...
Good, your Chrs in peak_GR is all in Txdb
------------
annotating Peak using nearest gene mode begins
>> preparing gene features information... 2025-10-15 23:21:14
>> finding nearest gene and calculating distance... 2025-10-15 23:21:15
>> dealing with gene strand ... 2025-10-15 23:21:15
>> merging all info together ... 2025-10-15 23:21:15
>> done 2025-10-15 23:21:15
>> checking seqlevels match... 2025-10-15 23:21:15
>> your peak_GR seqlevel:Chr5...
>> your Txdb seqlevel:Chr1 Chr2 Chr3 Chr4 Chr5 ChrM ChrC...
Good, your Chrs in peak_GR is all in Txdb
>> checking seqlevels match... 2025-10-15 23:21:15
>> your peak_GR seqlevel:Chr5...
>> your Txdb seqlevel:Chr1 Chr2 Chr3 Chr4 Chr5 ChrM ChrC...
Good, your Chrs in peak_GR is all in Txdb
------------
annotating Peak using nearest gene mode begins
>> preparing gene features information... 2025-10-15 23:21:15
>> finding nearest gene and calculating distance... 2025-10-15 23:21:16
>> dealing with gene strand ... 2025-10-15 23:21:16
>> merging all info together ... 2025-10-15 23:21:16
>> done 2025-10-15 23:21:16
>> checking seqlevels match... 2025-10-15 23:21:16
>> your peak_GR seqlevel:Chr5...
>> your Txdb seqlevel:Chr1 Chr2 Chr3 Chr4 Chr5 ChrM ChrC...
Good, your Chrs in peak_GR is all in Txdb
>> checking seqlevels match... 2025-10-15 23:21:16
>> your peak_GR seqlevel:Chr5...
>> your Txdb seqlevel:Chr1 Chr2 Chr3 Chr4 Chr5 ChrM ChrC...
Good, your Chrs in peak_GR is all in Txdb
------------
annotating Peak using nearest gene mode begins
>> preparing gene features information... 2025-10-15 23:21:16
>> finding nearest gene and calculating distance... 2025-10-15 23:21:17
>> dealing with gene strand ... 2025-10-15 23:21:17
>> merging all info together ... 2025-10-15 23:21:17
>> done 2025-10-15 23:21:17
>> checking seqlevels match... 2025-10-15 23:21:18
>> your peak_GR seqlevel:Chr5...
>> your Txdb seqlevel:Chr1 Chr2 Chr3 Chr4 Chr5 ChrM ChrC...
Good, your Chrs in peak_GR is all in Txdb
>> checking seqlevels match... 2025-10-15 23:21:18
>> your peak_GR seqlevel:Chr5...
>> your Txdb seqlevel:Chr1 Chr2 Chr3 Chr4 Chr5 ChrM ChrC...
Good, your Chrs in peak_GR is all in Txdb
------------
annotating Peak using nearest gene mode begins
>> preparing gene features information... 2025-10-15 23:21:18
>> finding nearest gene and calculating distance... 2025-10-15 23:21:19
>> dealing with gene strand ... 2025-10-15 23:21:19
>> merging all info together ... 2025-10-15 23:21:19
>> done 2025-10-15 23:21:19
It seems that there 1 genes have not been annotated by nearestGene mode
>> checking seqlevels match... 2025-10-15 23:21:19
>> your peak_GR seqlevel:Chr5...
>> your Txdb seqlevel:Chr1 Chr2 Chr3 Chr4 Chr5 ChrM ChrC...
Good, your Chrs in peak_GR is all in Txdb
>> checking seqlevels match... 2025-10-15 23:21:20
>> your peak_GR seqlevel:Chr5...
>> your Txdb seqlevel:Chr1 Chr2 Chr3 Chr4 Chr5 ChrM ChrC...
Good, your Chrs in peak_GR is all in Txdb
------------
annotating Peak using nearest gene mode begins
>> preparing gene features information... 2025-10-15 23:21:20
>> finding nearest gene and calculating distance... 2025-10-15 23:21:20
>> dealing with gene strand ... 2025-10-15 23:21:20
>> merging all info together ... 2025-10-15 23:21:20
>> done 2025-10-15 23:21:20
It seems that there 1 genes have not been annotated by nearestGene mode
>> checking seqlevels match... 2025-10-15 23:21:21
>> your peak_GR seqlevel:Chr5...
>> your Txdb seqlevel:Chr1 Chr2 Chr3 Chr4 Chr5 ChrM ChrC...
Good, your Chrs in peak_GR is all in Txdb
>> checking seqlevels match... 2025-10-15 23:21:22
>> your peak_GR seqlevel:Chr5...
>> your Txdb seqlevel:Chr1 Chr2 Chr3 Chr4 Chr5 ChrM ChrC...
Good, your Chrs in peak_GR is all in Txdb
>> some scan range may cross Chr bound, trimming... 2025-10-15 23:21:23
>> checking seqlevels match... 2025-10-15 23:21:23
>> your peak_GR seqlevel:Chr5...
>> your Txdb seqlevel:Chr1 Chr2 Chr3 Chr4 Chr5 ChrM ChrC...
Good, your Chrs in peak_GR is all in Txdb
>> some scan range may cross Chr bound, trimming... 2025-10-15 23:21:24
Good, your two matrix colnames matchs
>> calculating cor and pvalue, which may be time consuming... 2025-10-15 23:21:25
>> merging all info together... 2025-10-15 23:21:25
>> done 2025-10-15 23:21:25
>> checking seqlevels match... 2025-10-15 23:21:25
>> your peak_GR seqlevel:Chr5...
>> your Txdb seqlevel:Chr1 Chr2 Chr3 Chr4 Chr5 ChrM ChrC...
Good, your Chrs in peak_GR is all in Txdb
>> using scanPromoter parameter to scan promoter for each gene... 2025-10-15 23:21:25
>> checking seqlevels match... 2025-10-15 23:21:25
>> your peak_GR seqlevel:Chr5...
>> your Txdb seqlevel:Chr1 Chr2 Chr3 Chr4 Chr5 ChrM ChrC...
Good, your Chrs in peak_GR is all in Txdb
>> some scan range may cross Chr bound, trimming... 2025-10-15 23:21:26
>> there are 85 gene have scaned promoter
>> using scanEnhancer parameter to scan Enhancer for each gene... 2025-10-15 23:21:26
>> checking seqlevels match... 2025-10-15 23:21:26
>> your peak_GR seqlevel:Chr5...
>> your Txdb seqlevel:Chr1 Chr2 Chr3 Chr4 Chr5 ChrM ChrC...
Good, your Chrs in peak_GR is all in Txdb
>> some scan range may cross Chr bound, trimming... 2025-10-15 23:21:27
>> calculating cor and pvalue, which may be time consuming... 2025-10-15 23:21:27
>> merging all info together... 2025-10-15 23:21:27
>> done 2025-10-15 23:21:27
Good, your two matrix colnames matchs
>> calculating cor and pvalue, which may be time consuming... 2025-10-15 23:21:27
>> merging all info together... 2025-10-15 23:21:27
>> done 2025-10-15 23:21:28
>> checking seqlevels match... 2025-10-15 23:21:28
>> your peak_GR seqlevel:Chr5...
>> your Txdb seqlevel:Chr1 Chr2 Chr3 Chr4 Chr5 ChrM ChrC...
Good, your Chrs in peak_GR is all in Txdb
------------
annotatePeak using geneScan mode begins
>> preparing gene features information and scan region... 2025-10-15 23:21:28
>> some scan range may cross Chr bound, trimming... 2025-10-15 23:21:28
>> finding overlap peak in gene scan region... 2025-10-15 23:21:28
>> dealing with left peak not your gene scan region... 2025-10-15 23:21:28
>> merging two set peaks... 2025-10-15 23:21:29
>> calculating distance and dealing with gene strand... 2025-10-15 23:21:29
>> merging all info together ... 2025-10-15 23:21:29
>> done 2025-10-15 23:21:29
Good, your two matrix colnames matchs
>> calculating cor and pvalue, which may be time consuming... 2025-10-15 23:21:30
>> merging all info together... 2025-10-15 23:21:30
>> done 2025-10-15 23:21:30
>> checking seqlevels match... 2025-10-15 23:21:30
>> your peak_GR seqlevel:Chr5...
>> your Txdb seqlevel:Chr1 Chr2 Chr3 Chr4 Chr5 ChrM ChrC...
Good, your Chrs in peak_GR is all in Txdb
>> using scanPromoter parameter to scan promoter for each gene... 2025-10-15 23:21:30
>> checking seqlevels match... 2025-10-15 23:21:30
>> your peak_GR seqlevel:Chr5...
>> your Txdb seqlevel:Chr1 Chr2 Chr3 Chr4 Chr5 ChrM ChrC...
Good, your Chrs in peak_GR is all in Txdb
>> some scan range may cross Chr bound, trimming... 2025-10-15 23:21:30
>> there are 85 gene have scaned promoter
>> using scanEnhancer parameter to scan Enhancer for each gene... 2025-10-15 23:21:31
>> checking seqlevels match... 2025-10-15 23:21:31
>> your peak_GR seqlevel:Chr5...
>> your Txdb seqlevel:Chr1 Chr2 Chr3 Chr4 Chr5 ChrM ChrC...
Good, your Chrs in peak_GR is all in Txdb
>> some scan range may cross Chr bound, trimming... 2025-10-15 23:21:31
>> calculating cor and pvalue, which may be time consuming... 2025-10-15 23:21:32
>> merging all info together... 2025-10-15 23:21:32
>> done 2025-10-15 23:21:32
Joining with `by = join_by(feature_id)`
Joining with `by = join_by(feature_id)`
`geom_smooth()` using formula = 'y ~ x'
Joining with `by = join_by(feature_id)`
Joining with `by = join_by(feature_id)`
`geom_smooth()` using formula = 'y ~ x'
[ FAIL 0 | WARN 0 | SKIP 0 | PASS 65 ]
>
> proc.time()
user system elapsed
59.573 1.729 61.305
FindIT2.Rcheck/FindIT2-Ex.timings
| name | user | system | elapsed | |
| TF_target_database | 0 | 0 | 0 | |
| calcRP_TFHit | 3.450 | 0.147 | 3.613 | |
| calcRP_coverage | 2.829 | 0.020 | 2.850 | |
| calcRP_region | 5.241 | 0.071 | 5.314 | |
| enhancerPromoterCor | 2.332 | 0.033 | 2.365 | |
| findIT_MARA | 0.428 | 0.026 | 0.453 | |
| findIT_TFHit | 0.800 | 0.006 | 0.805 | |
| findIT_TTPair | 0.069 | 0.000 | 0.068 | |
| findIT_enrichFisher | 0.145 | 0.000 | 0.144 | |
| findIT_enrichWilcox | 0.159 | 0.002 | 0.160 | |
| findIT_regionRP | 5.345 | 0.037 | 5.382 | |
| getAssocPairNumber | 1.045 | 0.028 | 1.075 | |
| integrate_ChIP_RNA | 1.830 | 0.024 | 1.853 | |
| integrate_replicates | 0.003 | 0.000 | 0.002 | |
| jaccard_findIT_TTpair | 0.094 | 0.003 | 0.096 | |
| jaccard_findIT_enrichFisher | 0.186 | 0.005 | 0.192 | |
| loadPeakFile | 0.076 | 0.002 | 0.080 | |
| mm_geneBound | 1.048 | 0.049 | 1.098 | |
| mm_geneScan | 1.084 | 0.015 | 1.098 | |
| mm_nearestGene | 1.835 | 0.123 | 1.958 | |
| peakGeneCor | 2.009 | 0.117 | 2.128 | |
| plot_annoDistance | 1.509 | 0.024 | 1.535 | |
| plot_peakGeneAlias_summary | 1.263 | 0.009 | 1.270 | |
| plot_peakGeneCor | 2.862 | 0.049 | 2.912 | |
| test_geneSet | 0.000 | 0.001 | 0.001 | |