| Back to Multiple platform build/check report for BioC 3.22: simplified long |
|
This page was generated on 2025-11-20 12:04 -0500 (Thu, 20 Nov 2025).
| Hostname | OS | Arch (*) | R version | Installed pkgs |
|---|---|---|---|---|
| nebbiolo2 | Linux (Ubuntu 24.04.3 LTS) | x86_64 | 4.5.2 (2025-10-31) -- "[Not] Part in a Rumble" | 4615 |
| merida1 | macOS 12.7.6 Monterey | x86_64 | 4.5.2 Patched (2025-11-05 r88990) -- "[Not] Part in a Rumble" | 4610 |
| kjohnson1 | macOS 13.7.5 Ventura | arm64 | 4.5.2 Patched (2025-11-04 r88984) -- "[Not] Part in a Rumble" | 4598 |
| taishan | Linux (openEuler 24.03 LTS) | aarch64 | 4.5.0 (2025-04-11) -- "How About a Twenty-Six" | 4668 |
| Click on any hostname to see more info about the system (e.g. compilers) (*) as reported by 'uname -p', except on Windows and Mac OS X | ||||
| Package 565/2361 | Hostname | OS / Arch | INSTALL | BUILD | CHECK | BUILD BIN | ||||||||
Arne Smits
| nebbiolo2 | Linux (Ubuntu 24.04.3 LTS) / x86_64 | OK | OK | OK | |||||||||
| merida1 | macOS 12.7.6 Monterey / x86_64 | OK | OK | OK | OK | |||||||||
| kjohnson1 | macOS 13.7.5 Ventura / arm64 | OK | OK | OK | OK | |||||||||
| taishan | Linux (openEuler 24.03 LTS) / aarch64 | OK | OK | OK | ||||||||||
|
To the developers/maintainers of the DEP package: - Allow up to 24 hours (and sometimes 48 hours) for your latest push to git@git.bioconductor.org:packages/DEP.git to reflect on this report. See Troubleshooting Build Report for more information. - Use the following Renviron settings to reproduce errors and warnings. - If 'R CMD check' started to fail recently on the Linux builder(s) over a missing dependency, add the missing dependency to 'Suggests:' in your DESCRIPTION file. See Renviron.bioc for more information. |
| Package: DEP |
| Version: 1.32.0 |
| Command: /Library/Frameworks/R.framework/Resources/bin/R CMD check --install=check:DEP.install-out.txt --library=/Library/Frameworks/R.framework/Resources/library --no-vignettes --timings DEP_1.32.0.tar.gz |
| StartedAt: 2025-11-18 06:29:59 -0500 (Tue, 18 Nov 2025) |
| EndedAt: 2025-11-18 06:47:05 -0500 (Tue, 18 Nov 2025) |
| EllapsedTime: 1025.6 seconds |
| RetCode: 0 |
| Status: OK |
| CheckDir: DEP.Rcheck |
| Warnings: 0 |
##############################################################################
##############################################################################
###
### Running command:
###
### /Library/Frameworks/R.framework/Resources/bin/R CMD check --install=check:DEP.install-out.txt --library=/Library/Frameworks/R.framework/Resources/library --no-vignettes --timings DEP_1.32.0.tar.gz
###
##############################################################################
##############################################################################
* using log directory ‘/Users/biocbuild/bbs-3.22-bioc/meat/DEP.Rcheck’
* using R version 4.5.2 Patched (2025-11-05 r88990)
* using platform: x86_64-apple-darwin20
* R was compiled by
Apple clang version 14.0.0 (clang-1400.0.29.202)
GNU Fortran (GCC) 14.2.0
* running under: macOS Monterey 12.7.6
* using session charset: UTF-8
* using option ‘--no-vignettes’
* checking for file ‘DEP/DESCRIPTION’ ... OK
* this is package ‘DEP’ version ‘1.32.0’
* package encoding: UTF-8
* checking package namespace information ... OK
* checking package dependencies ... INFO
Imports includes 23 non-default packages.
Importing from so many packages makes the package vulnerable to any of
them becoming unavailable. Move as many as possible to Suggests and
use conditionally.
* checking if this is a source package ... OK
* checking if there is a namespace ... OK
* checking for hidden files and directories ... OK
* checking for portable file names ... OK
* checking for sufficient/correct file permissions ... OK
* checking whether package ‘DEP’ can be installed ... OK
* checking installed package size ... OK
* checking package directory ... OK
* checking ‘build’ directory ... OK
* checking DESCRIPTION meta-information ... OK
* checking top-level files ... OK
* checking for left-over files ... OK
* checking index information ... OK
* checking package subdirectories ... OK
* checking code files for non-ASCII characters ... OK
* checking R files for syntax errors ... OK
* checking whether the package can be loaded ... OK
* checking whether the package can be loaded with stated dependencies ... OK
* checking whether the package can be unloaded cleanly ... OK
* checking whether the namespace can be loaded with stated dependencies ... OK
* checking whether the namespace can be unloaded cleanly ... OK
* checking whether startup messages can be suppressed ... OK
* checking dependencies in R code ... OK
* checking S3 generic/method consistency ... OK
* checking replacement functions ... OK
* checking foreign function calls ... OK
* checking R code for possible problems ... OK
* checking Rd files ... OK
* checking Rd metadata ... OK
* checking Rd cross-references ... NOTE
Non-topic package-anchored link(s) in Rd file 'LFQ.Rd':
‘[MSnbase:impute]{impute}’
Non-topic package-anchored link(s) in Rd file 'TMT.Rd':
‘[MSnbase:impute]{impute}’
Non-topic package-anchored link(s) in Rd file 'impute.Rd':
‘[MSnbase:impute]{impute}’
Non-topic package-anchored link(s) in Rd file 'process.Rd':
‘[MSnbase:impute]{impute}’
See section 'Cross-references' in the 'Writing R Extensions' manual.
* checking for missing documentation entries ... OK
* checking for code/documentation mismatches ... OK
* checking Rd \usage sections ... OK
* checking Rd contents ... OK
* checking for unstated dependencies in examples ... OK
* checking contents of ‘data’ directory ... OK
* checking data for non-ASCII characters ... OK
* checking LazyData ... OK
* checking data for ASCII and uncompressed saves ... OK
* checking R/sysdata.rda ... OK
* checking files in ‘vignettes’ ... OK
* checking examples ... OK
Examples with CPU (user + system) or elapsed time > 5s
user system elapsed
impute 119.279 0.500 125.396
plot_dist 9.094 0.067 9.760
plot_volcano 8.784 0.069 9.268
plot_heatmap 6.330 0.066 6.914
analyze_dep 5.258 0.174 5.685
plot_single 4.868 0.031 5.157
plot_all 4.296 0.059 5.094
* checking for unstated dependencies in ‘tests’ ... OK
* checking tests ...
Running ‘testthat.R’
OK
* checking for unstated dependencies in vignettes ... OK
* checking package vignettes ... OK
* checking running R code from vignettes ... SKIPPED
* checking re-building of vignette outputs ... SKIPPED
* checking PDF version of manual ... OK
* DONE
Status: 1 NOTE
See
‘/Users/biocbuild/bbs-3.22-bioc/meat/DEP.Rcheck/00check.log’
for details.
DEP.Rcheck/00install.out
############################################################################## ############################################################################## ### ### Running command: ### ### /Library/Frameworks/R.framework/Resources/bin/R CMD INSTALL DEP ### ############################################################################## ############################################################################## * installing to library ‘/Library/Frameworks/R.framework/Versions/4.5-x86_64/Resources/library’ * installing *source* package ‘DEP’ ... ** this is package ‘DEP’ version ‘1.32.0’ ** using staged installation ** R ** data *** moving datasets to lazyload DB ** inst ** byte-compile and prepare package for lazy loading ** help *** installing help indices ** building package indices ** installing vignettes ** testing if installed package can be loaded from temporary location Warning in fun(libname, pkgname) : Package 'DEP' is deprecated and will be removed from Bioconductor version 3.23 ** testing if installed package can be loaded from final location Warning in fun(libname, pkgname) : Package 'DEP' is deprecated and will be removed from Bioconductor version 3.23 ** testing if installed package keeps a record of temporary installation path * DONE (DEP)
DEP.Rcheck/tests/testthat.Rout
R version 4.5.2 Patched (2025-11-05 r88990) -- "[Not] Part in a Rumble"
Copyright (C) 2025 The R Foundation for Statistical Computing
Platform: x86_64-apple-darwin20
R is free software and comes with ABSOLUTELY NO WARRANTY.
You are welcome to redistribute it under certain conditions.
Type 'license()' or 'licence()' for distribution details.
R is a collaborative project with many contributors.
Type 'contributors()' for more information and
'citation()' on how to cite R or R packages in publications.
Type 'demo()' for some demos, 'help()' for on-line help, or
'help.start()' for an HTML browser interface to help.
Type 'q()' to quit R.
> library(testthat)
> library(DEP)
Warning message:
In fun(libname, pkgname) :
Package 'DEP' is deprecated and will be removed from Bioconductor
version 3.23
>
> test_check("DEP")
[ FAIL 0 | WARN 15 | SKIP 0 | PASS 333 ]
[ FAIL 0 | WARN 15 | SKIP 0 | PASS 333 ]
>
> proc.time()
user system elapsed
136.476 5.542 157.252
DEP.Rcheck/DEP-Ex.timings
| name | user | system | elapsed | |
| LFQ | 3.025 | 0.056 | 3.267 | |
| TMT | 0.000 | 0.001 | 0.001 | |
| add_rejections | 2.640 | 0.025 | 2.828 | |
| analyze_dep | 5.258 | 0.174 | 5.685 | |
| filter_missval | 1.152 | 0.009 | 1.205 | |
| filter_proteins | 0.701 | 0.008 | 0.756 | |
| get_df_long | 1.798 | 0.025 | 1.976 | |
| get_df_wide | 1.728 | 0.027 | 2.033 | |
| get_prefix | 0.006 | 0.001 | 0.006 | |
| get_results | 2.254 | 0.030 | 2.348 | |
| get_suffix | 0.003 | 0.001 | 0.003 | |
| import_IsobarQuant | 0.000 | 0.000 | 0.001 | |
| import_MaxQuant | 0.117 | 0.003 | 0.121 | |
| impute | 119.279 | 0.500 | 125.396 | |
| make_se | 0.090 | 0.002 | 0.097 | |
| make_se_parse | 0.133 | 0.002 | 0.139 | |
| make_unique | 0.047 | 0.001 | 0.049 | |
| manual_impute | 1.573 | 0.047 | 1.724 | |
| meanSdPlot | 2.091 | 0.064 | 2.281 | |
| normalize_vsn | 0.796 | 0.009 | 0.849 | |
| plot_all | 4.296 | 0.059 | 5.094 | |
| plot_cond | 2.702 | 0.043 | 3.073 | |
| plot_cond_freq | 2.272 | 0.022 | 2.514 | |
| plot_cond_overlap | 2.228 | 0.020 | 2.448 | |
| plot_cor | 3.016 | 0.082 | 3.452 | |
| plot_coverage | 1.453 | 0.048 | 1.651 | |
| plot_detect | 3.405 | 0.064 | 3.776 | |
| plot_dist | 9.094 | 0.067 | 9.760 | |
| plot_frequency | 1.173 | 0.005 | 1.184 | |
| plot_gsea | 1.540 | 0.010 | 1.603 | |
| plot_heatmap | 6.330 | 0.066 | 6.914 | |
| plot_imputation | 2.712 | 0.024 | 2.863 | |
| plot_missval | 3.970 | 0.128 | 4.307 | |
| plot_normalization | 3.669 | 0.045 | 3.883 | |
| plot_numbers | 1.383 | 0.010 | 1.444 | |
| plot_p_hist | 3.486 | 0.082 | 3.769 | |
| plot_pca | 3.448 | 0.048 | 3.662 | |
| plot_single | 4.868 | 0.031 | 5.157 | |
| plot_volcano | 8.784 | 0.069 | 9.268 | |
| process | 3.788 | 0.041 | 4.358 | |
| report | 0 | 0 | 0 | |
| run_app | 0.000 | 0.001 | 0.000 | |
| se2msn | 0.276 | 0.002 | 0.285 | |
| test_diff | 1.967 | 0.017 | 2.098 | |
| test_gsea | 1.555 | 0.008 | 1.631 | |
| theme_DEP1 | 1.240 | 0.013 | 1.319 | |
| theme_DEP2 | 1.350 | 0.006 | 1.421 | |