| Back to Multiple platform build/check report for BioC 3.22: simplified long |
|
This page was generated on 2025-10-31 12:02 -0400 (Fri, 31 Oct 2025).
| Hostname | OS | Arch (*) | R version | Installed pkgs |
|---|---|---|---|---|
| nebbiolo2 | Linux (Ubuntu 24.04.3 LTS) | x86_64 | 4.5.1 Patched (2025-08-23 r88802) -- "Great Square Root" | 4901 |
| lconway | macOS 12.7.6 Monterey | x86_64 | 4.5.1 Patched (2025-09-10 r88807) -- "Great Square Root" | 4691 |
| kjohnson3 | macOS 13.7.7 Ventura | arm64 | 4.5.1 Patched (2025-09-10 r88807) -- "Great Square Root" | 4637 |
| Click on any hostname to see more info about the system (e.g. compilers) (*) as reported by 'uname -p', except on Windows and Mac OS X | ||||
| Package 565/2361 | Hostname | OS / Arch | INSTALL | BUILD | CHECK | BUILD BIN | ||||||||
Arne Smits
| nebbiolo2 | Linux (Ubuntu 24.04.3 LTS) / x86_64 | OK | OK | OK | |||||||||
| lconway | macOS 12.7.6 Monterey / x86_64 | OK | OK | OK | OK | |||||||||
| kjohnson3 | macOS 13.7.7 Ventura / arm64 | OK | OK | OK | OK | |||||||||
|
To the developers/maintainers of the DEP package: - Allow up to 24 hours (and sometimes 48 hours) for your latest push to git@git.bioconductor.org:packages/DEP.git to reflect on this report. See Troubleshooting Build Report for more information. - Use the following Renviron settings to reproduce errors and warnings. - If 'R CMD check' started to fail recently on the Linux builder(s) over a missing dependency, add the missing dependency to 'Suggests:' in your DESCRIPTION file. See Renviron.bioc for more information. |
| Package: DEP |
| Version: 1.32.0 |
| Command: /home/biocbuild/bbs-3.22-bioc/R/bin/R CMD check --install=check:DEP.install-out.txt --library=/home/biocbuild/bbs-3.22-bioc/R/site-library --timings DEP_1.32.0.tar.gz |
| StartedAt: 2025-10-30 22:52:14 -0400 (Thu, 30 Oct 2025) |
| EndedAt: 2025-10-30 23:00:51 -0400 (Thu, 30 Oct 2025) |
| EllapsedTime: 517.5 seconds |
| RetCode: 0 |
| Status: OK |
| CheckDir: DEP.Rcheck |
| Warnings: 0 |
##############################################################################
##############################################################################
###
### Running command:
###
### /home/biocbuild/bbs-3.22-bioc/R/bin/R CMD check --install=check:DEP.install-out.txt --library=/home/biocbuild/bbs-3.22-bioc/R/site-library --timings DEP_1.32.0.tar.gz
###
##############################################################################
##############################################################################
* using log directory ‘/home/biocbuild/bbs-3.22-bioc/meat/DEP.Rcheck’
* using R version 4.5.1 Patched (2025-08-23 r88802)
* using platform: x86_64-pc-linux-gnu
* R was compiled by
gcc (Ubuntu 13.3.0-6ubuntu2~24.04) 13.3.0
GNU Fortran (Ubuntu 13.3.0-6ubuntu2~24.04) 13.3.0
* running under: Ubuntu 24.04.3 LTS
* using session charset: UTF-8
* checking for file ‘DEP/DESCRIPTION’ ... OK
* this is package ‘DEP’ version ‘1.32.0’
* package encoding: UTF-8
* checking package namespace information ... OK
* checking package dependencies ... INFO
Imports includes 23 non-default packages.
Importing from so many packages makes the package vulnerable to any of
them becoming unavailable. Move as many as possible to Suggests and
use conditionally.
* checking if this is a source package ... OK
* checking if there is a namespace ... OK
* checking for hidden files and directories ... OK
* checking for portable file names ... OK
* checking for sufficient/correct file permissions ... OK
* checking whether package ‘DEP’ can be installed ... OK
* checking installed package size ... OK
* checking package directory ... OK
* checking ‘build’ directory ... OK
* checking DESCRIPTION meta-information ... OK
* checking top-level files ... OK
* checking for left-over files ... OK
* checking index information ... OK
* checking package subdirectories ... OK
* checking code files for non-ASCII characters ... OK
* checking R files for syntax errors ... OK
* checking whether the package can be loaded ... OK
* checking whether the package can be loaded with stated dependencies ... OK
* checking whether the package can be unloaded cleanly ... OK
* checking whether the namespace can be loaded with stated dependencies ... OK
* checking whether the namespace can be unloaded cleanly ... OK
* checking loading without being on the library search path ... OK
* checking whether startup messages can be suppressed ... OK
* checking dependencies in R code ... OK
* checking S3 generic/method consistency ... OK
* checking replacement functions ... OK
* checking foreign function calls ... OK
* checking R code for possible problems ... OK
* checking Rd files ... OK
* checking Rd metadata ... OK
* checking Rd cross-references ... NOTE
Non-topic package-anchored link(s) in Rd file 'LFQ.Rd':
‘[MSnbase:impute]{impute}’
Non-topic package-anchored link(s) in Rd file 'TMT.Rd':
‘[MSnbase:impute]{impute}’
Non-topic package-anchored link(s) in Rd file 'impute.Rd':
‘[MSnbase:impute]{impute}’
Non-topic package-anchored link(s) in Rd file 'process.Rd':
‘[MSnbase:impute]{impute}’
See section 'Cross-references' in the 'Writing R Extensions' manual.
* checking for missing documentation entries ... OK
* checking for code/documentation mismatches ... OK
* checking Rd \usage sections ... OK
* checking Rd contents ... OK
* checking for unstated dependencies in examples ... OK
* checking contents of ‘data’ directory ... OK
* checking data for non-ASCII characters ... OK
* checking LazyData ... OK
* checking data for ASCII and uncompressed saves ... OK
* checking R/sysdata.rda ... OK
* checking files in ‘vignettes’ ... OK
* checking examples ... OK
Examples with CPU (user + system) or elapsed time > 5s
user system elapsed
impute 52.163 0.571 52.737
* checking for unstated dependencies in ‘tests’ ... OK
* checking tests ...
Running ‘testthat.R’
OK
* checking for unstated dependencies in vignettes ... OK
* checking package vignettes ... OK
* checking re-building of vignette outputs ... OK
* checking PDF version of manual ... OK
* DONE
Status: 1 NOTE
See
‘/home/biocbuild/bbs-3.22-bioc/meat/DEP.Rcheck/00check.log’
for details.
DEP.Rcheck/00install.out
############################################################################## ############################################################################## ### ### Running command: ### ### /home/biocbuild/bbs-3.22-bioc/R/bin/R CMD INSTALL DEP ### ############################################################################## ############################################################################## * installing to library ‘/home/biocbuild/bbs-3.22-bioc/R/site-library’ * installing *source* package ‘DEP’ ... ** this is package ‘DEP’ version ‘1.32.0’ ** using staged installation ** R ** data *** moving datasets to lazyload DB ** inst ** byte-compile and prepare package for lazy loading ** help *** installing help indices ** building package indices ** installing vignettes ** testing if installed package can be loaded from temporary location Warning in fun(libname, pkgname) : Package 'DEP' is deprecated and will be removed from Bioconductor version 3.23 ** testing if installed package can be loaded from final location Warning in fun(libname, pkgname) : Package 'DEP' is deprecated and will be removed from Bioconductor version 3.23 ** testing if installed package keeps a record of temporary installation path * DONE (DEP)
DEP.Rcheck/tests/testthat.Rout
R version 4.5.1 Patched (2025-08-23 r88802) -- "Great Square Root"
Copyright (C) 2025 The R Foundation for Statistical Computing
Platform: x86_64-pc-linux-gnu
R is free software and comes with ABSOLUTELY NO WARRANTY.
You are welcome to redistribute it under certain conditions.
Type 'license()' or 'licence()' for distribution details.
R is a collaborative project with many contributors.
Type 'contributors()' for more information and
'citation()' on how to cite R or R packages in publications.
Type 'demo()' for some demos, 'help()' for on-line help, or
'help.start()' for an HTML browser interface to help.
Type 'q()' to quit R.
> library(testthat)
> library(DEP)
Warning message:
In fun(libname, pkgname) :
Package 'DEP' is deprecated and will be removed from Bioconductor
version 3.23
>
> test_check("DEP")
[ FAIL 0 | WARN 16 | SKIP 0 | PASS 333 ]
[ FAIL 0 | WARN 16 | SKIP 0 | PASS 333 ]
>
> proc.time()
user system elapsed
55.907 1.982 57.949
DEP.Rcheck/DEP-Ex.timings
| name | user | system | elapsed | |
| LFQ | 1.248 | 0.027 | 1.275 | |
| TMT | 0 | 0 | 0 | |
| add_rejections | 1.445 | 0.071 | 1.516 | |
| analyze_dep | 2.061 | 0.130 | 2.193 | |
| filter_missval | 0.400 | 0.007 | 0.408 | |
| filter_proteins | 0.250 | 0.006 | 0.255 | |
| get_df_long | 0.692 | 0.023 | 0.716 | |
| get_df_wide | 0.699 | 0.007 | 0.704 | |
| get_prefix | 0.002 | 0.000 | 0.002 | |
| get_results | 0.854 | 0.004 | 0.857 | |
| get_suffix | 0.001 | 0.000 | 0.001 | |
| import_IsobarQuant | 0 | 0 | 0 | |
| import_MaxQuant | 0.044 | 0.000 | 0.043 | |
| impute | 52.163 | 0.571 | 52.737 | |
| make_se | 0.036 | 0.001 | 0.038 | |
| make_se_parse | 0.055 | 0.002 | 0.057 | |
| make_unique | 0.017 | 0.000 | 0.016 | |
| manual_impute | 0.609 | 0.020 | 0.629 | |
| meanSdPlot | 0.630 | 0.001 | 0.631 | |
| normalize_vsn | 0.314 | 0.000 | 0.314 | |
| plot_all | 1.775 | 0.003 | 1.778 | |
| plot_cond | 1.066 | 0.001 | 1.066 | |
| plot_cond_freq | 0.905 | 0.001 | 0.905 | |
| plot_cond_overlap | 0.873 | 0.000 | 0.872 | |
| plot_cor | 1.112 | 0.002 | 1.113 | |
| plot_coverage | 0.539 | 0.015 | 0.554 | |
| plot_detect | 0.872 | 0.013 | 0.886 | |
| plot_dist | 3.316 | 0.004 | 3.320 | |
| plot_frequency | 0.470 | 0.009 | 0.480 | |
| plot_gsea | 0.600 | 0.012 | 0.612 | |
| plot_heatmap | 2.332 | 0.017 | 2.349 | |
| plot_imputation | 1.053 | 0.004 | 1.057 | |
| plot_missval | 1.461 | 0.030 | 1.491 | |
| plot_normalization | 1.453 | 0.031 | 1.484 | |
| plot_numbers | 0.55 | 0.00 | 0.55 | |
| plot_p_hist | 1.327 | 0.004 | 1.332 | |
| plot_pca | 1.340 | 0.033 | 1.373 | |
| plot_single | 1.925 | 0.030 | 1.955 | |
| plot_volcano | 4.427 | 0.038 | 4.464 | |
| process | 1.509 | 0.022 | 1.531 | |
| report | 0 | 0 | 0 | |
| run_app | 0 | 0 | 0 | |
| se2msn | 0.112 | 0.000 | 0.112 | |
| test_diff | 0.793 | 0.001 | 0.793 | |
| test_gsea | 0.644 | 0.000 | 0.644 | |
| theme_DEP1 | 0.447 | 0.001 | 0.448 | |
| theme_DEP2 | 0.587 | 0.002 | 0.589 | |