Back to Multiple platform build/check report for BioC 3.22:   simplified   long
AB[C]DEFGHIJKLMNOPQRSTUVWXYZ

This page was generated on 2025-11-24 12:07 -0500 (Mon, 24 Nov 2025).

HostnameOSArch (*)R versionInstalled pkgs
nebbiolo2Linux (Ubuntu 24.04.3 LTS)x86_644.5.2 (2025-10-31) -- "[Not] Part in a Rumble" 4873
merida1macOS 12.7.6 Montereyx86_644.5.2 Patched (2025-11-05 r88990) -- "[Not] Part in a Rumble" 4654
kjohnson1macOS 13.7.5 Venturaarm644.5.2 Patched (2025-11-04 r88984) -- "[Not] Part in a Rumble" 4600
taishanLinux (openEuler 24.03 LTS)aarch644.5.0 (2025-04-11) -- "How About a Twenty-Six" 4668
Click on any hostname to see more info about the system (e.g. compilers)      (*) as reported by 'uname -p', except on Windows and Mac OS X

Package 273/2361HostnameOS / ArchINSTALLBUILDCHECKBUILD BIN
CAGEr 2.16.0  (landing page)
Charles Plessy
Snapshot Date: 2025-11-20 15:01 -0500 (Thu, 20 Nov 2025)
git_url: https://git.bioconductor.org/packages/CAGEr
git_branch: RELEASE_3_22
git_last_commit: b717389
git_last_commit_date: 2025-10-29 10:13:45 -0500 (Wed, 29 Oct 2025)
nebbiolo2Linux (Ubuntu 24.04.3 LTS) / x86_64  OK    OK    OK  UNNEEDED, same version is already published
merida1macOS 12.7.6 Monterey / x86_64  OK    OK    OK    OK  UNNEEDED, same version is already published
kjohnson1macOS 13.7.5 Ventura / arm64  OK    OK    OK    OK  UNNEEDED, same version is already published
taishanLinux (openEuler 24.03 LTS) / aarch64  OK    OK    OK  


CHECK results for CAGEr on taishan

To the developers/maintainers of the CAGEr package:
- Allow up to 24 hours (and sometimes 48 hours) for your latest push to git@git.bioconductor.org:packages/CAGEr.git to reflect on this report. See Troubleshooting Build Report for more information.
- Use the following Renviron settings to reproduce errors and warnings.
- If 'R CMD check' started to fail recently on the Linux builder(s) over a missing dependency, add the missing dependency to 'Suggests:' in your DESCRIPTION file. See Renviron.bioc for more information.
- See Martin Grigorov's blog post for how to debug Linux ARM64 related issues on a x86_64 host.

raw results


Summary

Package: CAGEr
Version: 2.16.0
Command: /home/biocbuild/R/R/bin/R CMD check --install=check:CAGEr.install-out.txt --library=/home/biocbuild/R/R/site-library --no-vignettes --timings CAGEr_2.16.0.tar.gz
StartedAt: 2025-11-21 08:39:43 -0000 (Fri, 21 Nov 2025)
EndedAt: 2025-11-21 08:53:34 -0000 (Fri, 21 Nov 2025)
EllapsedTime: 831.7 seconds
RetCode: 0
Status:   OK  
CheckDir: CAGEr.Rcheck
Warnings: 0

Command output

##############################################################################
##############################################################################
###
### Running command:
###
###   /home/biocbuild/R/R/bin/R CMD check --install=check:CAGEr.install-out.txt --library=/home/biocbuild/R/R/site-library --no-vignettes --timings CAGEr_2.16.0.tar.gz
###
##############################################################################
##############################################################################


* using log directory ‘/home/biocbuild/bbs-3.22-bioc/meat/CAGEr.Rcheck’
* using R version 4.5.0 (2025-04-11)
* using platform: aarch64-unknown-linux-gnu
* R was compiled by
    aarch64-unknown-linux-gnu-gcc (GCC) 14.2.0
    GNU Fortran (GCC) 14.2.0
* running under: openEuler 24.03 (LTS)
* using session charset: UTF-8
* using option ‘--no-vignettes’
* checking for file ‘CAGEr/DESCRIPTION’ ... OK
* this is package ‘CAGEr’ version ‘2.16.0’
* package encoding: UTF-8
* checking package namespace information ... OK
* checking package dependencies ... INFO
Imports includes 30 non-default packages.
Importing from so many packages makes the package vulnerable to any of
them becoming unavailable.  Move as many as possible to Suggests and
use conditionally.
* checking if this is a source package ... OK
* checking if there is a namespace ... OK
* checking for hidden files and directories ... OK
* checking for portable file names ... OK
* checking for sufficient/correct file permissions ... OK
* checking whether package ‘CAGEr’ can be installed ... OK
* checking installed package size ... OK
* checking package directory ... OK
* checking ‘build’ directory ... OK
* checking DESCRIPTION meta-information ... OK
* checking top-level files ... OK
* checking for left-over files ... OK
* checking index information ... OK
* checking package subdirectories ... OK
* checking code files for non-ASCII characters ... OK
* checking R files for syntax errors ... OK
* checking whether the package can be loaded ... OK
* checking whether the package can be loaded with stated dependencies ... OK
* checking whether the package can be unloaded cleanly ... OK
* checking whether the namespace can be loaded with stated dependencies ... OK
* checking whether the namespace can be unloaded cleanly ... OK
* checking loading without being on the library search path ... OK
* checking dependencies in R code ... OK
* checking S3 generic/method consistency ... OK
* checking replacement functions ... OK
* checking foreign function calls ... OK
* checking R code for possible problems ... OK
* checking Rd files ... OK
* checking Rd metadata ... OK
* checking Rd cross-references ... OK
* checking for missing documentation entries ... OK
* checking for code/documentation mismatches ... OK
* checking Rd \usage sections ... OK
* checking Rd contents ... OK
* checking for unstated dependencies in examples ... OK
* checking contents of ‘data’ directory ... OK
* checking data for non-ASCII characters ... OK
* checking LazyData ... OK
* checking data for ASCII and uncompressed saves ... OK
* checking files in ‘vignettes’ ... OK
* checking examples ... OK
Examples with CPU (user + system) or elapsed time > 5s
                             user system elapsed
paraclu                    70.708  0.335  71.236
exportToTrack              59.614  0.299  60.082
scoreShift                 32.455  0.364  32.896
aggregateTagClusters       31.636  0.307  32.036
annotateCTSS               20.022  0.219  20.301
quantilePositions          20.172  0.068  20.321
distclu                    16.264  0.203  16.513
plotExpressionProfiles     12.404  0.080  12.513
CustomConsensusClusters     7.621  0.108   7.751
getExpressionProfiles       7.562  0.020   7.598
cumulativeCTSSdistribution  5.654  0.092   5.763
* checking for unstated dependencies in vignettes ... OK
* checking package vignettes ... OK
* checking running R code from vignettes ... SKIPPED
* checking re-building of vignette outputs ... SKIPPED
* checking PDF version of manual ... OK
* DONE

Status: OK


Installation output

CAGEr.Rcheck/00install.out

##############################################################################
##############################################################################
###
### Running command:
###
###   /home/biocbuild/R/R/bin/R CMD INSTALL CAGEr
###
##############################################################################
##############################################################################


* installing to library ‘/home/biocbuild/R/R-4.5.0/site-library’
* installing *source* package ‘CAGEr’ ...
** this is package ‘CAGEr’ version ‘2.16.0’
** using staged installation
** R
** data
*** moving datasets to lazyload DB
** inst
** byte-compile and prepare package for lazy loading
** help
*** installing help indices
** building package indices
** installing vignettes
** testing if installed package can be loaded from temporary location
** testing if installed package can be loaded from final location
** testing if installed package keeps a record of temporary installation path
* DONE (CAGEr)

Tests output


Example timings

CAGEr.Rcheck/CAGEr-Ex.timings

nameusersystemelapsed
CAGEexp-class3.5150.1323.688
CAGEr_Multicore3.3280.0923.428
CTSS-class0.3910.0000.393
CTSScoordinates0.1370.0080.146
CTSSnormalizedTpm1.0650.0161.084
CTSStagCount0.9690.0961.068
CTSStoGenes0.5840.0510.637
CustomConsensusClusters7.6210.1087.751
GeneExpDESeq20.7120.0080.722
GeneExpSE0.0060.0000.006
QuantileWidthFunctions0.1970.0040.201
TSSlogo4.2270.1164.373
aggregateTagClusters31.636 0.30732.036
annotateCTSS20.022 0.21920.301
byCtss0.0220.0000.021
consensusClusters0.2390.0040.244
consensusClustersDESeq23.2890.0123.310
consensusClustersTpm0.010.000.01
cumulativeCTSSdistribution5.6540.0925.763
distclu16.264 0.20316.513
dot-ctss_summary_for_clusters1.3580.0041.365
exampleCAGEexp000
exportToTrack59.614 0.29960.082
expressionClasses3.0090.0043.019
filteredCTSSidx0.0140.0000.013
flagLowExpCTSS0.0480.0000.048
genomeName000
getCTSS1.3070.0241.334
getExpressionProfiles7.5620.0207.598
getShiftingPromoters2.9100.0002.916
hanabi0.3110.0120.324
hanabiPlot0.3990.0040.404
import.CAGEscanMolecule000
import.CTSS0.1090.0000.109
import.bam000
import.bedCTSS000
import.bedScore000
import.bedmolecule0.0000.0000.001
import.bigwig0.4360.0080.446
importPublicData0.0010.0000.000
inputFiles0.0020.0000.001
inputFilesType0.0020.0000.001
librarySizes0.0020.0000.001
mapStats0.1070.0000.107
mergeCAGEsets2.8720.0322.910
mergeSamples0.6230.0040.629
moleculesGR2CTSS0.1820.0000.183
normalizeTagCount0.6510.0120.661
paraclu70.708 0.33571.236
parseCAGEscanBlocksToGrangeTSS0.0300.0000.031
plotAnnot4.8930.0444.949
plotCorrelation0.3850.0000.386
plotExpressionProfiles12.404 0.08012.513
plotInterquantileWidth3.5170.0043.529
plotReverseCumulatives4.1830.0084.195
quantilePositions20.172 0.06820.321
quickEnhancers000
ranges2annot0.4940.0190.516
ranges2genes0.0840.0000.085
ranges2names0.0810.0000.081
resetCAGEexp0.4430.0120.457
rowSums.RleDataFrame0.030.000.03
rowsum.RleDataFrame0.0330.0000.034
sampleLabels0.0050.0000.005
scoreShift32.455 0.36432.896
seqNameTotalsSE0.0050.0000.005
setColors0.4580.0000.459
strandInvaders0.7890.0670.856
summariseChrExpr0.5320.0040.536
tagClusters0.5410.0000.542