Back to Multiple platform build/check report for BioC 3.22:   simplified   long
AB[C]DEFGHIJKLMNOPQRSTUVWXYZ

This page was generated on 2025-11-01 12:02 -0400 (Sat, 01 Nov 2025).

HostnameOSArch (*)R versionInstalled pkgs
nebbiolo2Linux (Ubuntu 24.04.3 LTS)x86_644.5.1 Patched (2025-08-23 r88802) -- "Great Square Root" 4901
lconwaymacOS 12.7.6 Montereyx86_644.5.1 Patched (2025-09-10 r88807) -- "Great Square Root" 4691
kjohnson3macOS 13.7.7 Venturaarm644.5.1 Patched (2025-09-10 r88807) -- "Great Square Root" 4637
Click on any hostname to see more info about the system (e.g. compilers)      (*) as reported by 'uname -p', except on Windows and Mac OS X

Package 273/2361HostnameOS / ArchINSTALLBUILDCHECKBUILD BIN
CAGEr 2.16.0  (landing page)
Charles Plessy
Snapshot Date: 2025-10-31 13:45 -0400 (Fri, 31 Oct 2025)
git_url: https://git.bioconductor.org/packages/CAGEr
git_branch: RELEASE_3_22
git_last_commit: b717389
git_last_commit_date: 2025-10-29 10:13:45 -0400 (Wed, 29 Oct 2025)
nebbiolo2Linux (Ubuntu 24.04.3 LTS) / x86_64  OK    OK    OK  UNNEEDED, same version is already published
lconwaymacOS 12.7.6 Monterey / x86_64  OK    OK    OK    OK  UNNEEDED, same version is already published
kjohnson3macOS 13.7.7 Ventura / arm64  OK    OK    OK    OK  UNNEEDED, same version is already published


CHECK results for CAGEr on nebbiolo2

To the developers/maintainers of the CAGEr package:
- Allow up to 24 hours (and sometimes 48 hours) for your latest push to git@git.bioconductor.org:packages/CAGEr.git to reflect on this report. See Troubleshooting Build Report for more information.
- Use the following Renviron settings to reproduce errors and warnings.
- If 'R CMD check' started to fail recently on the Linux builder(s) over a missing dependency, add the missing dependency to 'Suggests:' in your DESCRIPTION file. See Renviron.bioc for more information.

raw results


Summary

Package: CAGEr
Version: 2.16.0
Command: /home/biocbuild/bbs-3.22-bioc/R/bin/R CMD check --install=check:CAGEr.install-out.txt --library=/home/biocbuild/bbs-3.22-bioc/R/site-library --timings CAGEr_2.16.0.tar.gz
StartedAt: 2025-10-31 21:53:12 -0400 (Fri, 31 Oct 2025)
EndedAt: 2025-10-31 22:05:49 -0400 (Fri, 31 Oct 2025)
EllapsedTime: 756.8 seconds
RetCode: 0
Status:   OK  
CheckDir: CAGEr.Rcheck
Warnings: 0

Command output

##############################################################################
##############################################################################
###
### Running command:
###
###   /home/biocbuild/bbs-3.22-bioc/R/bin/R CMD check --install=check:CAGEr.install-out.txt --library=/home/biocbuild/bbs-3.22-bioc/R/site-library --timings CAGEr_2.16.0.tar.gz
###
##############################################################################
##############################################################################


* using log directory ‘/home/biocbuild/bbs-3.22-bioc/meat/CAGEr.Rcheck’
* using R version 4.5.1 Patched (2025-08-23 r88802)
* using platform: x86_64-pc-linux-gnu
* R was compiled by
    gcc (Ubuntu 13.3.0-6ubuntu2~24.04) 13.3.0
    GNU Fortran (Ubuntu 13.3.0-6ubuntu2~24.04) 13.3.0
* running under: Ubuntu 24.04.3 LTS
* using session charset: UTF-8
* checking for file ‘CAGEr/DESCRIPTION’ ... OK
* this is package ‘CAGEr’ version ‘2.16.0’
* package encoding: UTF-8
* checking package namespace information ... OK
* checking package dependencies ... INFO
Imports includes 30 non-default packages.
Importing from so many packages makes the package vulnerable to any of
them becoming unavailable.  Move as many as possible to Suggests and
use conditionally.
* checking if this is a source package ... OK
* checking if there is a namespace ... OK
* checking for hidden files and directories ... OK
* checking for portable file names ... OK
* checking for sufficient/correct file permissions ... OK
* checking whether package ‘CAGEr’ can be installed ... OK
* checking installed package size ... OK
* checking package directory ... OK
* checking ‘build’ directory ... OK
* checking DESCRIPTION meta-information ... OK
* checking top-level files ... OK
* checking for left-over files ... OK
* checking index information ... OK
* checking package subdirectories ... OK
* checking code files for non-ASCII characters ... OK
* checking R files for syntax errors ... OK
* checking whether the package can be loaded ... OK
* checking whether the package can be loaded with stated dependencies ... OK
* checking whether the package can be unloaded cleanly ... OK
* checking whether the namespace can be loaded with stated dependencies ... OK
* checking whether the namespace can be unloaded cleanly ... OK
* checking loading without being on the library search path ... OK
* checking dependencies in R code ... OK
* checking S3 generic/method consistency ... OK
* checking replacement functions ... OK
* checking foreign function calls ... OK
* checking R code for possible problems ... OK
* checking Rd files ... OK
* checking Rd metadata ... OK
* checking Rd cross-references ... OK
* checking for missing documentation entries ... OK
* checking for code/documentation mismatches ... OK
* checking Rd \usage sections ... OK
* checking Rd contents ... OK
* checking for unstated dependencies in examples ... OK
* checking contents of ‘data’ directory ... OK
* checking data for non-ASCII characters ... OK
* checking LazyData ... OK
* checking data for ASCII and uncompressed saves ... OK
* checking files in ‘vignettes’ ... OK
* checking examples ... OK
Examples with CPU (user + system) or elapsed time > 5s
                         user system elapsed
paraclu                43.503  0.276  43.780
exportToTrack          35.661  0.104  35.773
scoreShift             21.936  0.264  22.200
aggregateTagClusters   19.259  0.190  19.450
annotateCTSS           12.350  0.059  12.409
quantilePositions      12.326  0.015  12.341
distclu                10.550  0.127  10.678
plotExpressionProfiles  8.192  0.045   8.237
getExpressionProfiles   4.932  0.090   5.023
* checking for unstated dependencies in vignettes ... OK
* checking package vignettes ... OK
* checking re-building of vignette outputs ... OK
* checking PDF version of manual ... OK
* DONE

Status: OK


Installation output

CAGEr.Rcheck/00install.out

##############################################################################
##############################################################################
###
### Running command:
###
###   /home/biocbuild/bbs-3.22-bioc/R/bin/R CMD INSTALL CAGEr
###
##############################################################################
##############################################################################


* installing to library ‘/home/biocbuild/bbs-3.22-bioc/R/site-library’
* installing *source* package ‘CAGEr’ ...
** this is package ‘CAGEr’ version ‘2.16.0’
** using staged installation
** R
** data
*** moving datasets to lazyload DB
** inst
** byte-compile and prepare package for lazy loading
** help
*** installing help indices
** building package indices
** installing vignettes
** testing if installed package can be loaded from temporary location
** testing if installed package can be loaded from final location
** testing if installed package keeps a record of temporary installation path
* DONE (CAGEr)

Tests output


Example timings

CAGEr.Rcheck/CAGEr-Ex.timings

nameusersystemelapsed
CAGEexp-class2.8510.1342.987
CAGEr_Multicore3.5820.0583.640
CTSS-class0.2670.0000.267
CTSScoordinates0.0820.0100.093
CTSSnormalizedTpm0.6990.0270.727
CTSStagCount0.6340.0970.732
CTSStoGenes0.3920.0480.440
CustomConsensusClusters4.7030.1194.822
GeneExpDESeq20.4740.0090.483
GeneExpSE0.0030.0000.004
QuantileWidthFunctions0.1320.0000.132
TSSlogo2.6120.0812.695
aggregateTagClusters19.259 0.19019.450
annotateCTSS12.350 0.05912.409
byCtss0.0160.0000.016
consensusClusters0.1650.0010.166
consensusClustersDESeq22.0290.0012.031
consensusClustersTpm0.0060.0000.005
cumulativeCTSSdistribution3.7360.0513.786
distclu10.550 0.12710.678
dot-ctss_summary_for_clusters0.8470.0010.849
exampleCAGEexp0.0010.0000.001
exportToTrack35.661 0.10435.773
expressionClasses1.8790.0481.927
filteredCTSSidx0.0090.0000.010
flagLowExpCTSS0.0330.0030.035
genomeName0.0010.0000.000
getCTSS0.9080.0310.939
getExpressionProfiles4.9320.0905.023
getShiftingPromoters1.9410.0001.941
hanabi0.2450.0010.246
hanabiPlot0.2770.0170.294
import.CAGEscanMolecule000
import.CTSS0.0790.0010.081
import.bam000
import.bedCTSS000
import.bedScore000
import.bedmolecule000
import.bigwig0.3280.0040.339
importPublicData000
inputFiles0.0010.0000.001
inputFilesType0.0010.0000.001
librarySizes0.0010.0000.000
mapStats0.0780.0060.084
mergeCAGEsets1.9840.0061.991
mergeSamples0.4400.0010.441
moleculesGR2CTSS0.1200.0010.121
normalizeTagCount0.5000.0020.479
paraclu43.503 0.27643.780
parseCAGEscanBlocksToGrangeTSS0.0230.0010.024
plotAnnot3.3580.0143.372
plotCorrelation0.2750.0000.275
plotExpressionProfiles8.1920.0458.237
plotInterquantileWidth2.2690.0022.271
plotReverseCumulatives2.6720.0122.623
quantilePositions12.326 0.01512.341
quickEnhancers0.0010.0000.000
ranges2annot0.3470.0000.347
ranges2genes0.0570.0000.056
ranges2names0.0550.0000.055
resetCAGEexp0.3230.0000.324
rowSums.RleDataFrame0.0230.0010.024
rowsum.RleDataFrame0.0270.0000.027
sampleLabels0.0040.0000.005
scoreShift21.936 0.26422.200
seqNameTotalsSE0.0040.0000.004
setColors0.2960.0000.296
strandInvaders0.6030.0200.602
summariseChrExpr0.3990.0210.420
tagClusters0.4100.0190.430