Back to Multiple platform build/check report for BioC 3.22:   simplified   long
AB[C]DEFGHIJKLMNOPQRSTUVWXYZ

This page was generated on 2025-11-24 12:06 -0500 (Mon, 24 Nov 2025).

HostnameOSArch (*)R versionInstalled pkgs
nebbiolo2Linux (Ubuntu 24.04.3 LTS)x86_644.5.2 (2025-10-31) -- "[Not] Part in a Rumble" 4873
merida1macOS 12.7.6 Montereyx86_644.5.2 Patched (2025-11-05 r88990) -- "[Not] Part in a Rumble" 4654
kjohnson1macOS 13.7.5 Venturaarm644.5.2 Patched (2025-11-04 r88984) -- "[Not] Part in a Rumble" 4600
taishanLinux (openEuler 24.03 LTS)aarch644.5.0 (2025-04-11) -- "How About a Twenty-Six" 4668
Click on any hostname to see more info about the system (e.g. compilers)      (*) as reported by 'uname -p', except on Windows and Mac OS X

Package 273/2361HostnameOS / ArchINSTALLBUILDCHECKBUILD BIN
CAGEr 2.16.0  (landing page)
Charles Plessy
Snapshot Date: 2025-11-20 15:01 -0500 (Thu, 20 Nov 2025)
git_url: https://git.bioconductor.org/packages/CAGEr
git_branch: RELEASE_3_22
git_last_commit: b717389
git_last_commit_date: 2025-10-29 10:13:45 -0500 (Wed, 29 Oct 2025)
nebbiolo2Linux (Ubuntu 24.04.3 LTS) / x86_64  OK    OK    OK  UNNEEDED, same version is already published
merida1macOS 12.7.6 Monterey / x86_64  OK    OK    OK    OK  UNNEEDED, same version is already published
kjohnson1macOS 13.7.5 Ventura / arm64  OK    OK    OK    OK  UNNEEDED, same version is already published
taishanLinux (openEuler 24.03 LTS) / aarch64  OK    OK    OK  


CHECK results for CAGEr on kjohnson1

To the developers/maintainers of the CAGEr package:
- Allow up to 24 hours (and sometimes 48 hours) for your latest push to git@git.bioconductor.org:packages/CAGEr.git to reflect on this report. See Troubleshooting Build Report for more information.
- Use the following Renviron settings to reproduce errors and warnings.
- If 'R CMD check' started to fail recently on the Linux builder(s) over a missing dependency, add the missing dependency to 'Suggests:' in your DESCRIPTION file. See Renviron.bioc for more information.

raw results


Summary

Package: CAGEr
Version: 2.16.0
Command: /Library/Frameworks/R.framework/Resources/bin/R CMD check --install=check:CAGEr.install-out.txt --library=/Library/Frameworks/R.framework/Resources/library --no-vignettes --timings CAGEr_2.16.0.tar.gz
StartedAt: 2025-11-21 17:58:02 -0500 (Fri, 21 Nov 2025)
EndedAt: 2025-11-21 18:14:52 -0500 (Fri, 21 Nov 2025)
EllapsedTime: 1009.9 seconds
RetCode: 0
Status:   OK  
CheckDir: CAGEr.Rcheck
Warnings: 0

Command output

##############################################################################
##############################################################################
###
### Running command:
###
###   /Library/Frameworks/R.framework/Resources/bin/R CMD check --install=check:CAGEr.install-out.txt --library=/Library/Frameworks/R.framework/Resources/library --no-vignettes --timings CAGEr_2.16.0.tar.gz
###
##############################################################################
##############################################################################


* using log directory ‘/Users/biocbuild/bbs-3.22-bioc/meat/CAGEr.Rcheck’
* using R version 4.5.2 Patched (2025-11-04 r88984)
* using platform: aarch64-apple-darwin20
* R was compiled by
    Apple clang version 16.0.0 (clang-1600.0.26.6)
    GNU Fortran (GCC) 14.2.0
* running under: macOS Ventura 13.7.8
* using session charset: UTF-8
* using option ‘--no-vignettes’
* checking for file ‘CAGEr/DESCRIPTION’ ... OK
* this is package ‘CAGEr’ version ‘2.16.0’
* package encoding: UTF-8
* checking package namespace information ... OK
* checking package dependencies ... INFO
Imports includes 30 non-default packages.
Importing from so many packages makes the package vulnerable to any of
them becoming unavailable.  Move as many as possible to Suggests and
use conditionally.
* checking if this is a source package ... OK
* checking if there is a namespace ... OK
* checking for hidden files and directories ... OK
* checking for portable file names ... OK
* checking for sufficient/correct file permissions ... OK
* checking whether package ‘CAGEr’ can be installed ... OK
* checking installed package size ... OK
* checking package directory ... OK
* checking ‘build’ directory ... OK
* checking DESCRIPTION meta-information ... OK
* checking top-level files ... OK
* checking for left-over files ... OK
* checking index information ... OK
* checking package subdirectories ... OK
* checking code files for non-ASCII characters ... OK
* checking R files for syntax errors ... OK
* checking whether the package can be loaded ... OK
* checking whether the package can be loaded with stated dependencies ... OK
* checking whether the package can be unloaded cleanly ... OK
* checking whether the namespace can be loaded with stated dependencies ... OK
* checking whether the namespace can be unloaded cleanly ... OK
* checking dependencies in R code ... OK
* checking S3 generic/method consistency ... OK
* checking replacement functions ... OK
* checking foreign function calls ... OK
* checking R code for possible problems ... OK
* checking Rd files ... OK
* checking Rd metadata ... OK
* checking Rd cross-references ... OK
* checking for missing documentation entries ... OK
* checking for code/documentation mismatches ... OK
* checking Rd \usage sections ... OK
* checking Rd contents ... OK
* checking for unstated dependencies in examples ... OK
* checking contents of ‘data’ directory ... OK
* checking data for non-ASCII characters ... OK
* checking LazyData ... OK
* checking data for ASCII and uncompressed saves ... OK
* checking files in ‘vignettes’ ... OK
* checking examples ... OK
Examples with CPU (user + system) or elapsed time > 5s
                             user system elapsed
paraclu                    46.086  0.297  64.489
exportToTrack              40.319  0.309  57.242
scoreShift                 25.790  0.275  36.213
aggregateTagClusters       23.180  0.178  32.279
annotateCTSS               13.831  0.110  19.639
quantilePositions          13.812  0.108  19.465
distclu                    10.272  0.073  14.277
plotExpressionProfiles      9.866  0.171  13.717
CAGEexp-class               6.043  0.830   9.698
getExpressionProfiles       5.920  0.048   8.345
CustomConsensusClusters     5.266  0.058   7.477
CAGEr_Multicore             4.949  0.047   6.797
cumulativeCTSSdistribution  4.685  0.071   6.710
plotAnnot                   3.839  0.045   5.508
* checking for unstated dependencies in vignettes ... OK
* checking package vignettes ... OK
* checking running R code from vignettes ... SKIPPED
* checking re-building of vignette outputs ... SKIPPED
* checking PDF version of manual ... OK
* DONE

Status: OK


Installation output

CAGEr.Rcheck/00install.out

##############################################################################
##############################################################################
###
### Running command:
###
###   /Library/Frameworks/R.framework/Resources/bin/R CMD INSTALL CAGEr
###
##############################################################################
##############################################################################


* installing to library ‘/Library/Frameworks/R.framework/Versions/4.5-arm64/Resources/library’
* installing *source* package ‘CAGEr’ ...
** this is package ‘CAGEr’ version ‘2.16.0’
** using staged installation
** R
** data
*** moving datasets to lazyload DB
** inst
** byte-compile and prepare package for lazy loading
** help
*** installing help indices
** building package indices
** installing vignettes
** testing if installed package can be loaded from temporary location
** testing if installed package can be loaded from final location
** testing if installed package keeps a record of temporary installation path
* DONE (CAGEr)

Tests output


Example timings

CAGEr.Rcheck/CAGEr-Ex.timings

nameusersystemelapsed
CAGEexp-class6.0430.8309.698
CAGEr_Multicore4.9490.0476.797
CTSS-class0.3190.0050.485
CTSScoordinates0.0890.0020.106
CTSSnormalizedTpm0.8630.0101.230
CTSStagCount0.8140.0451.239
CTSStoGenes0.6440.0460.950
CustomConsensusClusters5.2660.0587.477
GeneExpDESeq20.5900.0150.861
GeneExpSE0.0040.0000.005
QuantileWidthFunctions0.1650.0010.227
TSSlogo3.0000.0544.304
aggregateTagClusters23.180 0.17832.279
annotateCTSS13.831 0.11019.639
byCtss0.0220.0020.057
consensusClusters0.1590.0030.228
consensusClustersDESeq22.1530.0142.936
consensusClustersTpm0.0100.0000.015
cumulativeCTSSdistribution4.6850.0716.710
distclu10.272 0.07314.277
dot-ctss_summary_for_clusters1.0510.0111.571
exampleCAGEexp0.0000.0010.001
exportToTrack40.319 0.30957.242
expressionClasses2.0620.0183.133
filteredCTSSidx0.010.000.01
flagLowExpCTSS0.0440.0000.061
genomeName0.0010.0000.001
getCTSS1.3220.0271.967
getExpressionProfiles5.9200.0488.345
getShiftingPromoters2.0470.0152.884
hanabi0.2870.0100.414
hanabiPlot0.3780.0210.554
import.CAGEscanMolecule000
import.CTSS0.1010.0020.140
import.bam0.0000.0000.001
import.bedCTSS000
import.bedScore0.0000.0010.000
import.bedmolecule000
import.bigwig0.4440.0080.605
importPublicData0.0010.0010.001
inputFiles0.0010.0000.002
inputFilesType0.0020.0000.003
librarySizes0.0010.0000.001
mapStats0.0610.0050.093
mergeCAGEsets2.7860.0383.819
mergeSamples0.6910.0080.923
moleculesGR2CTSS0.1490.0020.193
normalizeTagCount0.6910.0101.012
paraclu46.086 0.29764.489
parseCAGEscanBlocksToGrangeTSS0.0210.0010.022
plotAnnot3.8390.0455.508
plotCorrelation0.3120.0060.432
plotExpressionProfiles 9.866 0.17113.717
plotInterquantileWidth2.7680.0233.836
plotReverseCumulatives3.2000.0374.573
quantilePositions13.812 0.10819.465
quickEnhancers0.0000.0010.001
ranges2annot0.4050.0040.524
ranges2genes0.0660.0010.068
ranges2names0.0690.0010.099
resetCAGEexp0.3860.0030.542
rowSums.RleDataFrame0.0270.0000.030
rowsum.RleDataFrame0.0320.0010.054
sampleLabels0.0040.0000.005
scoreShift25.790 0.27536.213
seqNameTotalsSE0.0030.0010.004
setColors0.5130.0090.732
strandInvaders0.9430.0911.349
summariseChrExpr0.6390.0080.899
tagClusters0.4770.0160.695