| Back to Multiple platform build/check report for BioC 3.21: simplified long |
|
This page was generated on 2025-04-22 13:15 -0400 (Tue, 22 Apr 2025).
| Hostname | OS | Arch (*) | R version | Installed pkgs |
|---|---|---|---|---|
| nebbiolo1 | Linux (Ubuntu 24.04.1 LTS) | x86_64 | 4.5.0 RC (2025-04-04 r88126) -- "How About a Twenty-Six" | 4831 |
| palomino7 | Windows Server 2022 Datacenter | x64 | 4.5.0 RC (2025-04-04 r88126 ucrt) -- "How About a Twenty-Six" | 4573 |
| lconway | macOS 12.7.1 Monterey | x86_64 | 4.5.0 RC (2025-04-04 r88126) -- "How About a Twenty-Six" | 4599 |
| kjohnson3 | macOS 13.7.1 Ventura | arm64 | 4.5.0 RC (2025-04-04 r88126) -- "How About a Twenty-Six" | 4553 |
| kunpeng2 | Linux (openEuler 24.03 LTS) | aarch64 | R Under development (unstable) (2025-02-19 r87757) -- "Unsuffered Consequences" | 4570 |
| Click on any hostname to see more info about the system (e.g. compilers) (*) as reported by 'uname -p', except on Windows and Mac OS X | ||||
| Package 268/2341 | Hostname | OS / Arch | INSTALL | BUILD | CHECK | BUILD BIN | ||||||||
| CAGEr 2.14.0 (landing page) Charles Plessy
| nebbiolo1 | Linux (Ubuntu 24.04.1 LTS) / x86_64 | OK | OK | OK | |||||||||
| palomino7 | Windows Server 2022 Datacenter / x64 | OK | OK | OK | OK | |||||||||
| lconway | macOS 12.7.1 Monterey / x86_64 | OK | OK | OK | OK | |||||||||
| kjohnson3 | macOS 13.7.1 Ventura / arm64 | OK | OK | OK | OK | |||||||||
| kunpeng2 | Linux (openEuler 24.03 LTS) / aarch64 | OK | OK | OK | ||||||||||
|
To the developers/maintainers of the CAGEr package: - Allow up to 24 hours (and sometimes 48 hours) for your latest push to git@git.bioconductor.org:packages/CAGEr.git to reflect on this report. See Troubleshooting Build Report for more information. - Use the following Renviron settings to reproduce errors and warnings. - If 'R CMD check' started to fail recently on the Linux builder(s) over a missing dependency, add the missing dependency to 'Suggests:' in your DESCRIPTION file. See Renviron.bioc for more information. |
| Package: CAGEr |
| Version: 2.14.0 |
| Command: /Library/Frameworks/R.framework/Resources/bin/R CMD check --install=check:CAGEr.install-out.txt --library=/Library/Frameworks/R.framework/Resources/library --no-vignettes --timings CAGEr_2.14.0.tar.gz |
| StartedAt: 2025-04-21 19:32:21 -0400 (Mon, 21 Apr 2025) |
| EndedAt: 2025-04-21 19:43:30 -0400 (Mon, 21 Apr 2025) |
| EllapsedTime: 669.3 seconds |
| RetCode: 0 |
| Status: OK |
| CheckDir: CAGEr.Rcheck |
| Warnings: 0 |
##############################################################################
##############################################################################
###
### Running command:
###
### /Library/Frameworks/R.framework/Resources/bin/R CMD check --install=check:CAGEr.install-out.txt --library=/Library/Frameworks/R.framework/Resources/library --no-vignettes --timings CAGEr_2.14.0.tar.gz
###
##############################################################################
##############################################################################
* using log directory ‘/Users/biocbuild/bbs-3.21-bioc/meat/CAGEr.Rcheck’
* using R version 4.5.0 RC (2025-04-04 r88126)
* using platform: x86_64-apple-darwin20
* R was compiled by
Apple clang version 14.0.0 (clang-1400.0.29.202)
GNU Fortran (GCC) 14.2.0
* running under: macOS Monterey 12.7.6
* using session charset: UTF-8
* using option ‘--no-vignettes’
* checking for file ‘CAGEr/DESCRIPTION’ ... OK
* this is package ‘CAGEr’ version ‘2.14.0’
* package encoding: UTF-8
* checking package namespace information ... OK
* checking package dependencies ... INFO
Imports includes 29 non-default packages.
Importing from so many packages makes the package vulnerable to any of
them becoming unavailable. Move as many as possible to Suggests and
use conditionally.
* checking if this is a source package ... OK
* checking if there is a namespace ... OK
* checking for hidden files and directories ... OK
* checking for portable file names ... OK
* checking for sufficient/correct file permissions ... OK
* checking whether package ‘CAGEr’ can be installed ... OK
* checking installed package size ... OK
* checking package directory ... OK
* checking ‘build’ directory ... OK
* checking DESCRIPTION meta-information ... OK
* checking top-level files ... OK
* checking for left-over files ... OK
* checking index information ... OK
* checking package subdirectories ... OK
* checking code files for non-ASCII characters ... OK
* checking R files for syntax errors ... OK
* checking whether the package can be loaded ... OK
* checking whether the package can be loaded with stated dependencies ... OK
* checking whether the package can be unloaded cleanly ... OK
* checking whether the namespace can be loaded with stated dependencies ... OK
* checking whether the namespace can be unloaded cleanly ... OK
* checking dependencies in R code ... OK
* checking S3 generic/method consistency ... OK
* checking replacement functions ... OK
* checking foreign function calls ... OK
* checking R code for possible problems ... OK
* checking Rd files ... OK
* checking Rd metadata ... OK
* checking Rd cross-references ... NOTE
Found the following Rd file(s) with Rd \link{} targets missing package
anchors:
CAGEexp-class.Rd: MultiAssayExperiment, DataFrame, Rle
CAGEr-class.Rd: MultiAssayExperiment
CTSStagCount.Rd: DataFrame, Rle, RangedSummarizedExperiment
CTSStoGenes.Rd: SummarizedExperiment
CustomConsensusClusters.Rd: GRanges, RangedSummarizedExperiment
TSSlogo.Rd: BSgenome
aggregateTagClusters.Rd: RangedSummarizedExperiment
annotateCTSS.Rd: GRanges, TxDb
bam2CTSS.Rd: GRanges
byCtss.Rd: data.table
consensusClusters.Rd: GRanges, SummarizedExperiment
distclu.Rd: GRangesList
dot-ctss_summary_for_clusters.Rd: GRanges
expressionClasses.Rd: Rle
flagLowExpCTSS.Rd: Rle
getCTSS.Rd: RangedSummarizedExperiment
import.CAGEscanMolecule.Rd: GRanges
import.CTSS.Rd: GPos
loadFileIntoGPos.Rd: GPos
moleculesGR2CTSS.Rd: GRanges
paraclu.Rd: RangedSummarizedExperiment, GRangesList
plotCorrelation.Rd: SummarizedExperiment, DataFrame
quantilePositions.Rd: RangedSummarizedExperiment
ranges2annot.Rd: rowRanges, Rle
ranges2names.Rd: Rle
strandInvaders.Rd: Rle
Please provide package anchors for all Rd \link{} targets not in the
package itself and the base packages.
* checking for missing documentation entries ... OK
* checking for code/documentation mismatches ... OK
* checking Rd \usage sections ... OK
* checking Rd contents ... OK
* checking for unstated dependencies in examples ... OK
* checking contents of ‘data’ directory ... OK
* checking data for non-ASCII characters ... OK
* checking LazyData ... OK
* checking data for ASCII and uncompressed saves ... OK
* checking files in ‘vignettes’ ... OK
* checking examples ... OK
Examples with CPU (user + system) or elapsed time > 5s
user system elapsed
paraclu 49.703 0.257 50.185
exportToTrack 43.616 0.336 44.268
aggregateTagClusters 23.745 0.170 24.021
scoreShift 21.146 0.314 21.681
quantilePositions 15.650 0.114 15.872
annotateCTSS 14.590 0.089 14.903
distclu 11.301 0.065 11.427
plotExpressionProfiles 8.001 0.114 8.153
getExpressionProfiles 6.410 0.051 6.509
CAGEexp-class 5.200 1.060 6.315
CustomConsensusClusters 5.890 0.050 5.983
* checking for unstated dependencies in vignettes ... OK
* checking package vignettes ... OK
* checking running R code from vignettes ... SKIPPED
* checking re-building of vignette outputs ... SKIPPED
* checking PDF version of manual ... OK
* DONE
Status: 1 NOTE
See
‘/Users/biocbuild/bbs-3.21-bioc/meat/CAGEr.Rcheck/00check.log’
for details.
CAGEr.Rcheck/00install.out
############################################################################## ############################################################################## ### ### Running command: ### ### /Library/Frameworks/R.framework/Resources/bin/R CMD INSTALL CAGEr ### ############################################################################## ############################################################################## * installing to library ‘/Library/Frameworks/R.framework/Versions/4.5-x86_64/Resources/library’ * installing *source* package ‘CAGEr’ ... ** this is package ‘CAGEr’ version ‘2.14.0’ ** using staged installation ** R ** data *** moving datasets to lazyload DB ** inst ** byte-compile and prepare package for lazy loading ** help *** installing help indices ** building package indices ** installing vignettes ** testing if installed package can be loaded from temporary location ** testing if installed package can be loaded from final location ** testing if installed package keeps a record of temporary installation path * DONE (CAGEr)
CAGEr.Rcheck/CAGEr-Ex.timings
| name | user | system | elapsed | |
| CAGEexp-class | 5.200 | 1.060 | 6.315 | |
| CAGEr_Multicore | 3.569 | 0.024 | 3.617 | |
| CTSS-class | 0.291 | 0.004 | 0.298 | |
| CTSScoordinates | 0.082 | 0.002 | 0.085 | |
| CTSSnormalizedTpm | 0.830 | 0.014 | 0.849 | |
| CTSStagCount | 0.830 | 0.063 | 0.900 | |
| CTSStoGenes | 0.531 | 0.038 | 0.573 | |
| CustomConsensusClusters | 5.890 | 0.050 | 5.983 | |
| GeneExpDESeq2 | 0.583 | 0.019 | 0.606 | |
| GeneExpSE | 0.004 | 0.001 | 0.005 | |
| QuantileWidthFunctions | 0.156 | 0.002 | 0.158 | |
| TSSlogo | 2.844 | 0.053 | 2.923 | |
| aggregateTagClusters | 23.745 | 0.170 | 24.021 | |
| annotateCTSS | 14.590 | 0.089 | 14.903 | |
| byCtss | 0.018 | 0.001 | 0.019 | |
| consensusClusters | 0.186 | 0.005 | 0.193 | |
| consensusClustersDESeq2 | 2.455 | 0.015 | 2.488 | |
| consensusClustersTpm | 0.005 | 0.000 | 0.005 | |
| cumulativeCTSSdistribution | 4.333 | 0.047 | 4.403 | |
| distclu | 11.301 | 0.065 | 11.427 | |
| dot-ctss_summary_for_clusters | 1.056 | 0.009 | 1.071 | |
| exampleCAGEexp | 0.000 | 0.001 | 0.001 | |
| exportToTrack | 43.616 | 0.336 | 44.268 | |
| expressionClasses | 2.350 | 0.016 | 2.387 | |
| filteredCTSSidx | 0.01 | 0.00 | 0.01 | |
| flagLowExpCTSS | 0.033 | 0.000 | 0.034 | |
| genomeName | 0.000 | 0.000 | 0.001 | |
| getCTSS | 1.285 | 0.024 | 1.319 | |
| getExpressionProfiles | 6.410 | 0.051 | 6.509 | |
| getShiftingPromoters | 2.228 | 0.013 | 2.254 | |
| hanabi | 0.262 | 0.006 | 0.271 | |
| hanabiPlot | 0.326 | 0.010 | 0.340 | |
| import.CAGEscanMolecule | 0 | 0 | 0 | |
| import.CTSS | 0.088 | 0.002 | 0.091 | |
| import.bam | 0 | 0 | 0 | |
| import.bedCTSS | 0 | 0 | 0 | |
| import.bedScore | 0 | 0 | 0 | |
| import.bedmolecule | 0 | 0 | 0 | |
| importPublicData | 0.000 | 0.000 | 0.006 | |
| inputFiles | 0.002 | 0.000 | 0.002 | |
| inputFilesType | 0.001 | 0.000 | 0.002 | |
| librarySizes | 0.001 | 0.000 | 0.002 | |
| mapStats | 0.062 | 0.005 | 0.068 | |
| mergeCAGEsets | 2.805 | 0.041 | 2.867 | |
| mergeSamples | 0.644 | 0.006 | 0.655 | |
| moleculesGR2CTSS | 0.159 | 0.002 | 0.163 | |
| normalizeTagCount | 0.701 | 0.008 | 0.713 | |
| paraclu | 49.703 | 0.257 | 50.185 | |
| parseCAGEscanBlocksToGrangeTSS | 0.025 | 0.000 | 0.026 | |
| plotAnnot | 2.531 | 0.033 | 2.574 | |
| plotCorrelation | 0.282 | 0.004 | 0.287 | |
| plotExpressionProfiles | 8.001 | 0.114 | 8.153 | |
| plotInterquantileWidth | 2.295 | 0.015 | 2.322 | |
| plotReverseCumulatives | 2.726 | 0.025 | 2.764 | |
| quantilePositions | 15.650 | 0.114 | 15.872 | |
| quickEnhancers | 0 | 0 | 0 | |
| ranges2annot | 0.424 | 0.003 | 0.429 | |
| ranges2genes | 0.063 | 0.000 | 0.064 | |
| ranges2names | 0.06 | 0.00 | 0.06 | |
| resetCAGEexp | 0.398 | 0.002 | 0.403 | |
| rowSums.RleDataFrame | 0.033 | 0.000 | 0.034 | |
| rowsum.RleDataFrame | 0.032 | 0.001 | 0.034 | |
| sampleLabels | 0.006 | 0.001 | 0.007 | |
| scoreShift | 21.146 | 0.314 | 21.681 | |
| seqNameTotalsSE | 0.004 | 0.001 | 0.005 | |
| setColors | 0.457 | 0.007 | 0.468 | |
| strandInvaders | 0.857 | 0.073 | 0.943 | |
| summariseChrExpr | 0.638 | 0.007 | 0.649 | |
| tagClusters | 0.432 | 0.021 | 0.463 | |