| Back to Multiple platform build/check report for BioC 3.22: simplified long |
|
This page was generated on 2025-11-07 12:00 -0500 (Fri, 07 Nov 2025).
| Hostname | OS | Arch (*) | R version | Installed pkgs |
|---|---|---|---|---|
| nebbiolo2 | Linux (Ubuntu 24.04.3 LTS) | x86_64 | 4.5.1 Patched (2025-08-23 r88802) -- "Great Square Root" | 4902 |
| kjohnson3 | macOS 13.7.7 Ventura | arm64 | 4.5.1 Patched (2025-09-10 r88807) -- "Great Square Root" | 4638 |
| Click on any hostname to see more info about the system (e.g. compilers) (*) as reported by 'uname -p', except on Windows and Mac OS X | ||||
| Package 273/2361 | Hostname | OS / Arch | INSTALL | BUILD | CHECK | BUILD BIN | ||||||||
| CAGEr 2.16.0 (landing page) Charles Plessy
| nebbiolo2 | Linux (Ubuntu 24.04.3 LTS) / x86_64 | OK | OK | OK | |||||||||
| kjohnson3 | macOS 13.7.7 Ventura / arm64 | OK | OK | OK | OK | |||||||||
|
To the developers/maintainers of the CAGEr package: - Allow up to 24 hours (and sometimes 48 hours) for your latest push to git@git.bioconductor.org:packages/CAGEr.git to reflect on this report. See Troubleshooting Build Report for more information. - Use the following Renviron settings to reproduce errors and warnings. - If 'R CMD check' started to fail recently on the Linux builder(s) over a missing dependency, add the missing dependency to 'Suggests:' in your DESCRIPTION file. See Renviron.bioc for more information. |
| Package: CAGEr |
| Version: 2.16.0 |
| Command: /Library/Frameworks/R.framework/Resources/bin/R CMD check --install=check:CAGEr.install-out.txt --library=/Library/Frameworks/R.framework/Resources/library --no-vignettes --timings CAGEr_2.16.0.tar.gz |
| StartedAt: 2025-11-06 18:49:00 -0500 (Thu, 06 Nov 2025) |
| EndedAt: 2025-11-06 18:52:46 -0500 (Thu, 06 Nov 2025) |
| EllapsedTime: 225.7 seconds |
| RetCode: 0 |
| Status: OK |
| CheckDir: CAGEr.Rcheck |
| Warnings: 0 |
##############################################################################
##############################################################################
###
### Running command:
###
### /Library/Frameworks/R.framework/Resources/bin/R CMD check --install=check:CAGEr.install-out.txt --library=/Library/Frameworks/R.framework/Resources/library --no-vignettes --timings CAGEr_2.16.0.tar.gz
###
##############################################################################
##############################################################################
* using log directory ‘/Users/biocbuild/bbs-3.22-bioc/meat/CAGEr.Rcheck’
* using R version 4.5.1 Patched (2025-09-10 r88807)
* using platform: aarch64-apple-darwin20
* R was compiled by
Apple clang version 16.0.0 (clang-1600.0.26.6)
GNU Fortran (GCC) 14.2.0
* running under: macOS Ventura 13.7.7
* using session charset: UTF-8
* using option ‘--no-vignettes’
* checking for file ‘CAGEr/DESCRIPTION’ ... OK
* this is package ‘CAGEr’ version ‘2.16.0’
* package encoding: UTF-8
* checking package namespace information ... OK
* checking package dependencies ... INFO
Imports includes 30 non-default packages.
Importing from so many packages makes the package vulnerable to any of
them becoming unavailable. Move as many as possible to Suggests and
use conditionally.
* checking if this is a source package ... OK
* checking if there is a namespace ... OK
* checking for hidden files and directories ... OK
* checking for portable file names ... OK
* checking for sufficient/correct file permissions ... OK
* checking whether package ‘CAGEr’ can be installed ... OK
* checking installed package size ... OK
* checking package directory ... OK
* checking ‘build’ directory ... OK
* checking DESCRIPTION meta-information ... OK
* checking top-level files ... OK
* checking for left-over files ... OK
* checking index information ... OK
* checking package subdirectories ... OK
* checking code files for non-ASCII characters ... OK
* checking R files for syntax errors ... OK
* checking whether the package can be loaded ... OK
* checking whether the package can be loaded with stated dependencies ... OK
* checking whether the package can be unloaded cleanly ... OK
* checking whether the namespace can be loaded with stated dependencies ... OK
* checking whether the namespace can be unloaded cleanly ... OK
* checking dependencies in R code ... OK
* checking S3 generic/method consistency ... OK
* checking replacement functions ... OK
* checking foreign function calls ... OK
* checking R code for possible problems ... OK
* checking Rd files ... OK
* checking Rd metadata ... OK
* checking Rd cross-references ... OK
* checking for missing documentation entries ... OK
* checking for code/documentation mismatches ... OK
* checking Rd \usage sections ... OK
* checking Rd contents ... OK
* checking for unstated dependencies in examples ... OK
* checking contents of ‘data’ directory ... OK
* checking data for non-ASCII characters ... OK
* checking LazyData ... OK
* checking data for ASCII and uncompressed saves ... OK
* checking files in ‘vignettes’ ... OK
* checking examples ... OK
Examples with CPU (user + system) or elapsed time > 5s
user system elapsed
paraclu 12.230 0.023 12.357
exportToTrack 10.391 0.082 10.522
scoreShift 7.106 0.084 7.194
aggregateTagClusters 6.115 0.071 6.218
* checking for unstated dependencies in vignettes ... OK
* checking package vignettes ... OK
* checking running R code from vignettes ... SKIPPED
* checking re-building of vignette outputs ... SKIPPED
* checking PDF version of manual ... OK
* DONE
Status: OK
CAGEr.Rcheck/00install.out
############################################################################## ############################################################################## ### ### Running command: ### ### /Library/Frameworks/R.framework/Resources/bin/R CMD INSTALL CAGEr ### ############################################################################## ############################################################################## * installing to library ‘/Library/Frameworks/R.framework/Versions/4.5-arm64/Resources/library’ * installing *source* package ‘CAGEr’ ... ** this is package ‘CAGEr’ version ‘2.16.0’ ** using staged installation ** R ** data *** moving datasets to lazyload DB ** inst ** byte-compile and prepare package for lazy loading ** help *** installing help indices ** building package indices ** installing vignettes ** testing if installed package can be loaded from temporary location ** testing if installed package can be loaded from final location ** testing if installed package keeps a record of temporary installation path * DONE (CAGEr)
CAGEr.Rcheck/CAGEr-Ex.timings
| name | user | system | elapsed | |
| CAGEexp-class | 1.804 | 0.250 | 2.136 | |
| CAGEr_Multicore | 1.715 | 0.035 | 1.752 | |
| CTSS-class | 0.075 | 0.001 | 0.076 | |
| CTSScoordinates | 0.025 | 0.001 | 0.026 | |
| CTSSnormalizedTpm | 0.215 | 0.005 | 0.221 | |
| CTSStagCount | 0.198 | 0.018 | 0.215 | |
| CTSStoGenes | 0.155 | 0.011 | 0.166 | |
| CustomConsensusClusters | 1.381 | 0.034 | 1.415 | |
| GeneExpDESeq2 | 0.169 | 0.005 | 0.174 | |
| GeneExpSE | 0.001 | 0.000 | 0.001 | |
| QuantileWidthFunctions | 0.043 | 0.001 | 0.044 | |
| TSSlogo | 0.822 | 0.015 | 0.841 | |
| aggregateTagClusters | 6.115 | 0.071 | 6.218 | |
| annotateCTSS | 3.541 | 0.011 | 3.558 | |
| byCtss | 0.006 | 0.000 | 0.006 | |
| consensusClusters | 0.044 | 0.001 | 0.044 | |
| consensusClustersDESeq2 | 0.541 | 0.001 | 0.543 | |
| consensusClustersTpm | 0.002 | 0.000 | 0.002 | |
| cumulativeCTSSdistribution | 1.192 | 0.025 | 1.226 | |
| distclu | 2.712 | 0.009 | 2.732 | |
| dot-ctss_summary_for_clusters | 0.261 | 0.001 | 0.263 | |
| exampleCAGEexp | 0 | 0 | 0 | |
| exportToTrack | 10.391 | 0.082 | 10.522 | |
| expressionClasses | 0.533 | 0.001 | 0.533 | |
| filteredCTSSidx | 0.003 | 0.000 | 0.003 | |
| flagLowExpCTSS | 0.010 | 0.000 | 0.011 | |
| genomeName | 0 | 0 | 0 | |
| getCTSS | 0.351 | 0.007 | 0.359 | |
| getExpressionProfiles | 1.624 | 0.009 | 1.634 | |
| getShiftingPromoters | 0.523 | 0.001 | 0.526 | |
| hanabi | 0.077 | 0.003 | 0.081 | |
| hanabiPlot | 0.088 | 0.007 | 0.095 | |
| import.CAGEscanMolecule | 0 | 0 | 0 | |
| import.CTSS | 0.024 | 0.001 | 0.025 | |
| import.bam | 0 | 0 | 0 | |
| import.bedCTSS | 0 | 0 | 0 | |
| import.bedScore | 0 | 0 | 0 | |
| import.bedmolecule | 0.001 | 0.000 | 0.000 | |
| import.bigwig | 0.144 | 0.009 | 0.155 | |
| importPublicData | 0 | 0 | 0 | |
| inputFiles | 0.001 | 0.000 | 0.001 | |
| inputFilesType | 0 | 0 | 0 | |
| librarySizes | 0 | 0 | 0 | |
| mapStats | 0.015 | 0.001 | 0.018 | |
| mergeCAGEsets | 0.742 | 0.012 | 0.755 | |
| mergeSamples | 0.190 | 0.001 | 0.193 | |
| moleculesGR2CTSS | 0.038 | 0.000 | 0.038 | |
| normalizeTagCount | 0.190 | 0.003 | 0.223 | |
| paraclu | 12.230 | 0.023 | 12.357 | |
| parseCAGEscanBlocksToGrangeTSS | 0.007 | 0.000 | 0.007 | |
| plotAnnot | 1.064 | 0.019 | 1.086 | |
| plotCorrelation | 0.076 | 0.001 | 0.078 | |
| plotExpressionProfiles | 2.668 | 0.106 | 2.782 | |
| plotInterquantileWidth | 0.770 | 0.005 | 0.777 | |
| plotReverseCumulatives | 0.871 | 0.008 | 0.888 | |
| quantilePositions | 3.787 | 0.019 | 3.845 | |
| quickEnhancers | 0 | 0 | 0 | |
| ranges2annot | 0.103 | 0.001 | 0.103 | |
| ranges2genes | 0.018 | 0.000 | 0.018 | |
| ranges2names | 0.018 | 0.001 | 0.019 | |
| resetCAGEexp | 0.098 | 0.001 | 0.098 | |
| rowSums.RleDataFrame | 0.007 | 0.000 | 0.007 | |
| rowsum.RleDataFrame | 0.007 | 0.000 | 0.009 | |
| sampleLabels | 0.002 | 0.000 | 0.001 | |
| scoreShift | 7.106 | 0.084 | 7.194 | |
| seqNameTotalsSE | 0.001 | 0.001 | 0.002 | |
| setColors | 0.141 | 0.001 | 0.143 | |
| strandInvaders | 0.249 | 0.031 | 0.281 | |
| summariseChrExpr | 0.175 | 0.010 | 0.185 | |
| tagClusters | 0.123 | 0.011 | 0.134 | |