Back to Multiple platform build/check report for BioC 3.20:   simplified   long
[A]BCDEFGHIJKLMNOPQRSTUVWXYZ

This page was generated on 2025-02-03 12:06 -0500 (Mon, 03 Feb 2025).

HostnameOSArch (*)R versionInstalled pkgs
nebbiolo2Linux (Ubuntu 24.04.1 LTS)x86_644.4.2 (2024-10-31) -- "Pile of Leaves" 4746
palomino8Windows Server 2022 Datacenterx644.4.2 (2024-10-31 ucrt) -- "Pile of Leaves" 4494
merida1macOS 12.7.5 Montereyx86_644.4.2 (2024-10-31) -- "Pile of Leaves" 4517
kjohnson1macOS 13.6.6 Venturaarm644.4.2 (2024-10-31) -- "Pile of Leaves" 4469
taishanLinux (openEuler 24.03 LTS)aarch644.4.2 (2024-10-31) -- "Pile of Leaves" 4400
Click on any hostname to see more info about the system (e.g. compilers)      (*) as reported by 'uname -p', except on Windows and Mac OS X

Package 58/2289HostnameOS / ArchINSTALLBUILDCHECKBUILD BIN
AlpsNMR 4.8.0  (landing page)
Sergio Oller Moreno
Snapshot Date: 2025-01-30 13:00 -0500 (Thu, 30 Jan 2025)
git_url: https://git.bioconductor.org/packages/AlpsNMR
git_branch: RELEASE_3_20
git_last_commit: ab34115
git_last_commit_date: 2024-10-29 10:53:23 -0500 (Tue, 29 Oct 2024)
nebbiolo2Linux (Ubuntu 24.04.1 LTS) / x86_64  OK    OK    OK  UNNEEDED, same version is already published
palomino8Windows Server 2022 Datacenter / x64  OK    OK    OK    OK  UNNEEDED, same version is already published
merida1macOS 12.7.5 Monterey / x86_64  OK    OK    OK    OK  UNNEEDED, same version is already published
kjohnson1macOS 13.6.6 Ventura / arm64  OK    OK    OK    OK  UNNEEDED, same version is already published
taishanLinux (openEuler 24.03 LTS) / aarch64  OK    ERROR  skipped


CHECK results for AlpsNMR on palomino8

To the developers/maintainers of the AlpsNMR package:
- Allow up to 24 hours (and sometimes 48 hours) for your latest push to git@git.bioconductor.org:packages/AlpsNMR.git to reflect on this report. See Troubleshooting Build Report for more information.
- Use the following Renviron settings to reproduce errors and warnings.
- If 'R CMD check' started to fail recently on the Linux builder(s) over a missing dependency, add the missing dependency to 'Suggests:' in your DESCRIPTION file. See Renviron.bioc for more information.

raw results


Summary

Package: AlpsNMR
Version: 4.8.0
Command: F:\biocbuild\bbs-3.20-bioc\R\bin\R.exe CMD check --no-multiarch --install=check:AlpsNMR.install-out.txt --library=F:\biocbuild\bbs-3.20-bioc\R\library --no-vignettes --timings AlpsNMR_4.8.0.tar.gz
StartedAt: 2025-01-30 23:19:25 -0500 (Thu, 30 Jan 2025)
EndedAt: 2025-01-30 23:29:27 -0500 (Thu, 30 Jan 2025)
EllapsedTime: 601.8 seconds
RetCode: 0
Status:   OK  
CheckDir: AlpsNMR.Rcheck
Warnings: 0

Command output

##############################################################################
##############################################################################
###
### Running command:
###
###   F:\biocbuild\bbs-3.20-bioc\R\bin\R.exe CMD check --no-multiarch --install=check:AlpsNMR.install-out.txt --library=F:\biocbuild\bbs-3.20-bioc\R\library --no-vignettes --timings AlpsNMR_4.8.0.tar.gz
###
##############################################################################
##############################################################################


* using log directory 'F:/biocbuild/bbs-3.20-bioc/meat/AlpsNMR.Rcheck'
* using R version 4.4.2 (2024-10-31 ucrt)
* using platform: x86_64-w64-mingw32
* R was compiled by
    gcc.exe (GCC) 13.3.0
    GNU Fortran (GCC) 13.3.0
* running under: Windows Server 2022 x64 (build 20348)
* using session charset: UTF-8
* using option '--no-vignettes'
* checking for file 'AlpsNMR/DESCRIPTION' ... OK
* checking extension type ... Package
* this is package 'AlpsNMR' version '4.8.0'
* package encoding: UTF-8
* checking package namespace information ... OK
* checking package dependencies ... OK
* checking if this is a source package ... OK
* checking if there is a namespace ... OK
* checking for hidden files and directories ... OK
* checking for portable file names ... OK
* checking whether package 'AlpsNMR' can be installed ... OK
* checking installed package size ... OK
* checking package directory ... OK
* checking 'build' directory ... OK
* checking DESCRIPTION meta-information ... OK
* checking top-level files ... OK
* checking for left-over files ... OK
* checking index information ... OK
* checking package subdirectories ... OK
* checking code files for non-ASCII characters ... OK
* checking R files for syntax errors ... OK
* checking whether the package can be loaded ... OK
* checking whether the package can be loaded with stated dependencies ... OK
* checking whether the package can be unloaded cleanly ... OK
* checking whether the namespace can be loaded with stated dependencies ... OK
* checking whether the namespace can be unloaded cleanly ... OK
* checking dependencies in R code ... OK
* checking S3 generic/method consistency ... OK
* checking replacement functions ... OK
* checking foreign function calls ... OK
* checking R code for possible problems ... OK
* checking Rd files ... OK
* checking Rd metadata ... OK
* checking Rd cross-references ... OK
* checking for missing documentation entries ... OK
* checking for code/documentation mismatches ... OK
* checking Rd \usage sections ... OK
* checking Rd contents ... OK
* checking for unstated dependencies in examples ... OK
* checking contents of 'data' directory ... OK
* checking data for non-ASCII characters ... OK
* checking data for ASCII and uncompressed saves ... OK
* checking sizes of PDF files under 'inst/doc' ... OK
* checking files in 'vignettes' ... OK
* checking examples ... OK
Examples with CPU (user + system) or elapsed time > 5s
                                               user system elapsed
SummarizedExperiment_to_nmr_data_1r            6.81   0.20   11.65
nmr_pca_outliers_robust                        6.14   0.26   10.72
Peak_detection                                 3.22   0.28   31.60
plsda_auroc_vip_compare                        2.95   0.06   18.30
bp_VIP_analysis                                2.22   0.05   14.95
permutation_test_plot                          2.21   0.05   16.13
permutation_test_model                         2.20   0.03   15.64
nmr_pca_build_model                            2.15   0.07   10.78
validate_nmr_dataset                           2.09   0.08   11.32
nmr_meta_add                                   1.93   0.04   10.54
nmr_interpolate_1D                             1.82   0.07   10.41
nmr_read_samples                               1.69   0.03   10.67
nmr_data_analysis                              1.47   0.07   10.04
plot_plsda_multimodel                          1.50   0.04   10.17
models_stability_plot_plsda                    1.48   0.03   10.07
bp_kfold_VIP_analysis                          1.46   0.01    9.39
AlpsNMR-package                                1.38   0.04    6.21
SummarizedExperiment_to_nmr_dataset_peak_table 1.30   0.09    6.52
plot_plsda_samples                             1.34   0.05    9.22
nmr_dataset_peak_table_to_SummarizedExperiment 1.29   0.03    5.46
nmr_data_1r_to_SummarizedExperiment            1.28   0.00    5.82
to_ChemoSpec                                   1.17   0.08    5.64
nmr_pca_outliers_filter                        1.12   0.05    5.30
new_nmr_dataset_peak_table                     1.07   0.08    5.62
print.nmr_dataset_peak_table                   1.08   0.07    5.28
nmr_pca_outliers                               1.02   0.06    5.72
validate_nmr_dataset_family                    1.05   0.03    5.33
format.nmr_dataset_1D                          1.01   0.05    5.75
format.nmr_dataset_peak_table                  1.05   0.01    5.51
nmr_export_data_1r                             1.02   0.01    5.57
is.nmr_dataset_1D                              0.97   0.05    5.30
nmr_autophase                                  0.98   0.04    5.06
plot_interactive                               0.99   0.03    5.80
sub-.nmr_dataset_peak_table                    0.96   0.05    5.25
print.nmr_dataset_1D                           0.94   0.06    5.80
sub-.nmr_dataset_1D                            0.96   0.03    5.32
filter.nmr_dataset_family                      0.93   0.05    5.39
tidy.nmr_dataset_1D                            0.97   0.00    5.18
nmr_meta_get                                   0.93   0.02    5.14
format.nmr_dataset                             0.93   0.00    5.10
is.nmr_dataset_peak_table                      0.90   0.03    5.28
nmr_meta_groups                                0.90   0.03    5.16
nmr_meta_get_column                            0.89   0.03    5.17
print.nmr_dataset                              0.87   0.05    5.39
is.nmr_dataset                                 0.88   0.03    5.29
nmr_meta_export                                0.86   0.03    5.24
load_and_save_functions                        0.86   0.02    5.24
sub-.nmr_dataset                               0.75   0.03    5.18
* checking for unstated dependencies in 'tests' ... OK
* checking tests ...
  Running 'testthat.R'
 OK
* checking for unstated dependencies in vignettes ... OK
* checking package vignettes ... OK
* checking running R code from vignettes ... SKIPPED
* checking re-building of vignette outputs ... SKIPPED
* checking PDF version of manual ... OK
* DONE

Status: OK


Installation output

AlpsNMR.Rcheck/00install.out

##############################################################################
##############################################################################
###
### Running command:
###
###   F:\biocbuild\bbs-3.20-bioc\R\bin\R.exe CMD INSTALL AlpsNMR
###
##############################################################################
##############################################################################


* installing to library 'F:/biocbuild/bbs-3.20-bioc/R/library'
* installing *source* package 'AlpsNMR' ...
** using staged installation
** R
** data
** inst
** byte-compile and prepare package for lazy loading
** help
*** installing help indices
*** copying figures
** building package indices
** installing vignettes
** testing if installed package can be loaded from temporary location
** testing if installed package can be loaded from final location
** testing if installed package keeps a record of temporary installation path
* DONE (AlpsNMR)

Tests output

AlpsNMR.Rcheck/tests/testthat.Rout


R version 4.4.2 (2024-10-31 ucrt) -- "Pile of Leaves"
Copyright (C) 2024 The R Foundation for Statistical Computing
Platform: x86_64-w64-mingw32/x64

R is free software and comes with ABSOLUTELY NO WARRANTY.
You are welcome to redistribute it under certain conditions.
Type 'license()' or 'licence()' for distribution details.

R is a collaborative project with many contributors.
Type 'contributors()' for more information and
'citation()' on how to cite R or R packages in publications.

Type 'demo()' for some demos, 'help()' for on-line help, or
'help.start()' for an HTML browser interface to help.
Type 'q()' to quit R.

> library(testthat)
> library(AlpsNMR)

Attaching package: 'AlpsNMR'

The following object is masked from 'package:stats':

    filter

> 
> test_check("AlpsNMR")
[ FAIL 0 | WARN 0 | SKIP 1 | PASS 93 ]

══ Skipped tests (1) ═══════════════════════════════════════════════════════════
• On Bioconductor (1): 'test_rDolphin.R:2:5'

[ FAIL 0 | WARN 0 | SKIP 1 | PASS 93 ]
> 
> proc.time()
   user  system elapsed 
  23.03    1.48   82.34 

Example timings

AlpsNMR.Rcheck/AlpsNMR-Ex.timings

nameusersystemelapsed
AlpsNMR-package1.380.046.21
HMDB_blood0.020.000.01
HMDB_cell0.020.000.01
HMDB_urine000
Parameters_blood000
Parameters_cell0.000.020.01
Parameters_urine000
Peak_detection 3.22 0.2831.60
Pipelines000
ROI_blood000
ROI_cell0.020.000.02
ROI_urine000
SummarizedExperiment_to_nmr_data_1r 6.81 0.2011.65
SummarizedExperiment_to_nmr_dataset_peak_table1.300.096.52
bp_VIP_analysis 2.22 0.0514.95
bp_kfold_VIP_analysis1.460.019.39
download_MTBLS242000
file_lister0.070.000.06
files_to_rDolphin000
filter.nmr_dataset_family0.930.055.39
format.nmr_dataset0.930.005.10
format.nmr_dataset_1D1.010.055.75
format.nmr_dataset_peak_table1.050.015.51
get_integration_with_metadata0.050.000.05
hmdb0.070.140.22
is.nmr_dataset0.880.035.29
is.nmr_dataset_1D0.970.055.30
is.nmr_dataset_peak_table0.900.035.28
load_and_save_functions0.860.025.24
models_stability_plot_bootstrap0.020.000.01
models_stability_plot_plsda 1.48 0.0310.07
new_nmr_dataset000
new_nmr_dataset_1D000
new_nmr_dataset_peak_table1.070.085.62
nmr_autophase0.980.045.06
nmr_baseline_estimation0.010.000.03
nmr_baseline_removal000
nmr_baseline_threshold000
nmr_baseline_threshold_plot0.220.000.22
nmr_batman000
nmr_batman_options000
nmr_build_peak_table0.030.000.03
nmr_data0.050.000.03
nmr_data_1r_to_SummarizedExperiment1.280.005.82
nmr_data_analysis 1.47 0.0710.04
nmr_dataset000
nmr_dataset_1D000
nmr_dataset_peak_table_to_SummarizedExperiment1.290.035.46
nmr_exclude_region000
nmr_export_data_1r1.020.015.57
nmr_get_peak_distances0.020.000.01
nmr_identify_regions_blood0.010.000.02
nmr_identify_regions_cell0.020.000.01
nmr_identify_regions_urine0.030.000.04
nmr_integrate_regions0.010.000.01
nmr_interpolate_1D 1.82 0.0710.41
nmr_meta_add 1.93 0.0410.54
nmr_meta_export0.860.035.24
nmr_meta_get0.930.025.14
nmr_meta_get_column0.890.035.17
nmr_meta_groups0.900.035.16
nmr_normalize0.350.030.37
nmr_pca_build_model 2.15 0.0710.78
nmr_pca_outliers1.020.065.72
nmr_pca_outliers_filter1.120.055.30
nmr_pca_outliers_plot000
nmr_pca_outliers_robust 6.14 0.2610.72
nmr_pca_plots0.410.020.42
nmr_peak_clustering0.060.000.06
nmr_ppm_resolution0.020.000.02
nmr_read_bruker_fid000
nmr_read_samples 1.69 0.0310.67
nmr_zip_bruker_samples0.000.000.41
peaklist_accept_peaks000
permutation_test_model 2.20 0.0315.64
permutation_test_plot 2.21 0.0516.13
plot.nmr_dataset_1D0.010.000.01
plot_bootstrap_multimodel000
plot_interactive0.990.035.80
plot_plsda_multimodel 1.50 0.0410.17
plot_plsda_samples1.340.059.22
plot_vip_scores000
plot_webgl000
plsda_auroc_vip_compare 2.95 0.0618.30
plsda_auroc_vip_method000
ppm_resolution0.020.000.01
print.nmr_dataset0.870.055.39
print.nmr_dataset_1D0.940.065.80
print.nmr_dataset_peak_table1.080.075.28
random_subsampling000
save_files_to_rDolphin000
save_profiling_output000
sub-.nmr_dataset0.750.035.18
sub-.nmr_dataset_1D0.960.035.32
sub-.nmr_dataset_peak_table0.960.055.25
tidy.nmr_dataset_1D0.970.005.18
to_ASICS1.000.101.11
to_ChemoSpec1.170.085.64
validate_nmr_dataset 2.09 0.0811.32
validate_nmr_dataset_family1.050.035.33
validate_nmr_dataset_peak_table0.010.000.01
zzz0.000.002.03