| Back to Multiple platform build/check report for BioC 3.22: simplified long |
|
This page was generated on 2025-11-27 12:03 -0500 (Thu, 27 Nov 2025).
| Hostname | OS | Arch (*) | R version | Installed pkgs |
|---|---|---|---|---|
| nebbiolo2 | Linux (Ubuntu 24.04.3 LTS) | x86_64 | 4.5.2 (2025-10-31) -- "[Not] Part in a Rumble" | 4876 |
| merida1 | macOS 12.7.6 Monterey | x86_64 | 4.5.2 Patched (2025-11-05 r88990) -- "[Not] Part in a Rumble" | 4656 |
| kjohnson1 | macOS 13.7.5 Ventura | arm64 | 4.5.2 Patched (2025-11-04 r88984) -- "[Not] Part in a Rumble" | 4602 |
| taishan | Linux (openEuler 24.03 LTS) | aarch64 | 4.5.0 (2025-04-11) -- "How About a Twenty-Six" | 4668 |
| Click on any hostname to see more info about the system (e.g. compilers) (*) as reported by 'uname -p', except on Windows and Mac OS X | ||||
| Package 59/2361 | Hostname | OS / Arch | INSTALL | BUILD | CHECK | BUILD BIN | ||||||||
| AlpsNMR 4.12.0 (landing page) Sergio Oller Moreno
| nebbiolo2 | Linux (Ubuntu 24.04.3 LTS) / x86_64 | OK | OK | OK | |||||||||
| merida1 | macOS 12.7.6 Monterey / x86_64 | OK | OK | OK | OK | |||||||||
| kjohnson1 | macOS 13.7.5 Ventura / arm64 | OK | OK | OK | OK | |||||||||
| taishan | Linux (openEuler 24.03 LTS) / aarch64 | OK | ERROR | skipped | ||||||||||
|
To the developers/maintainers of the AlpsNMR package: - Allow up to 24 hours (and sometimes 48 hours) for your latest push to git@git.bioconductor.org:packages/AlpsNMR.git to reflect on this report. See Troubleshooting Build Report for more information. - Use the following Renviron settings to reproduce errors and warnings. - If 'R CMD check' started to fail recently on the Linux builder(s) over a missing dependency, add the missing dependency to 'Suggests:' in your DESCRIPTION file. See Renviron.bioc for more information. |
| Package: AlpsNMR |
| Version: 4.12.0 |
| Command: /Library/Frameworks/R.framework/Resources/bin/R CMD check --install=check:AlpsNMR.install-out.txt --library=/Library/Frameworks/R.framework/Resources/library --no-vignettes --timings AlpsNMR_4.12.0.tar.gz |
| StartedAt: 2025-11-25 14:30:58 -0500 (Tue, 25 Nov 2025) |
| EndedAt: 2025-11-25 14:35:21 -0500 (Tue, 25 Nov 2025) |
| EllapsedTime: 263.7 seconds |
| RetCode: 0 |
| Status: OK |
| CheckDir: AlpsNMR.Rcheck |
| Warnings: 0 |
##############################################################################
##############################################################################
###
### Running command:
###
### /Library/Frameworks/R.framework/Resources/bin/R CMD check --install=check:AlpsNMR.install-out.txt --library=/Library/Frameworks/R.framework/Resources/library --no-vignettes --timings AlpsNMR_4.12.0.tar.gz
###
##############################################################################
##############################################################################
* using log directory ‘/Users/biocbuild/bbs-3.22-bioc/meat/AlpsNMR.Rcheck’
* using R version 4.5.2 Patched (2025-11-04 r88984)
* using platform: aarch64-apple-darwin20
* R was compiled by
Apple clang version 16.0.0 (clang-1600.0.26.6)
GNU Fortran (GCC) 14.2.0
* running under: macOS Ventura 13.7.8
* using session charset: UTF-8
* using option ‘--no-vignettes’
* checking for file ‘AlpsNMR/DESCRIPTION’ ... OK
* checking extension type ... Package
* this is package ‘AlpsNMR’ version ‘4.12.0’
* package encoding: UTF-8
* checking package namespace information ... OK
* checking package dependencies ... INFO
Imports includes 26 non-default packages.
Importing from so many packages makes the package vulnerable to any of
them becoming unavailable. Move as many as possible to Suggests and
use conditionally.
* checking if this is a source package ... OK
* checking if there is a namespace ... OK
* checking for hidden files and directories ... OK
* checking for portable file names ... OK
* checking for sufficient/correct file permissions ... OK
* checking whether package ‘AlpsNMR’ can be installed ... OK
* checking installed package size ... OK
* checking package directory ... OK
* checking ‘build’ directory ... OK
* checking DESCRIPTION meta-information ... OK
* checking top-level files ... OK
* checking for left-over files ... OK
* checking index information ... OK
* checking package subdirectories ... OK
* checking code files for non-ASCII characters ... OK
* checking R files for syntax errors ... OK
* checking whether the package can be loaded ... OK
* checking whether the package can be loaded with stated dependencies ... OK
* checking whether the package can be unloaded cleanly ... OK
* checking whether the namespace can be loaded with stated dependencies ... OK
* checking whether the namespace can be unloaded cleanly ... OK
* checking dependencies in R code ... OK
* checking S3 generic/method consistency ... OK
* checking replacement functions ... OK
* checking foreign function calls ... OK
* checking R code for possible problems ... OK
* checking Rd files ... OK
* checking Rd metadata ... OK
* checking Rd cross-references ... NOTE
Non-topic package-anchored link(s) in Rd file 'reexports.Rd':
‘[magrittr:pipe]{%>%}’
See section 'Cross-references' in the 'Writing R Extensions' manual.
Found the following Rd file(s) with Rd \link{} targets missing package
anchors:
filter.nmr_dataset_family.Rd: dplyr
Please provide package anchors for all Rd \link{} targets not in the
package itself and the base packages.
* checking for missing documentation entries ... OK
* checking for code/documentation mismatches ... OK
* checking Rd \usage sections ... OK
* checking Rd contents ... OK
* checking for unstated dependencies in examples ... OK
* checking contents of ‘data’ directory ... OK
* checking data for non-ASCII characters ... OK
* checking data for ASCII and uncompressed saves ... OK
* checking sizes of PDF files under ‘inst/doc’ ... OK
* checking files in ‘vignettes’ ... OK
* checking examples ... OK
Examples with CPU (user + system) or elapsed time > 5s
user system elapsed
Peak_detection 4.286 1.171 12.521
SummarizedExperiment_to_nmr_data_1r 3.510 0.440 10.058
nmr_pca_outliers_robust 3.467 0.355 6.756
nmr_pca_build_model 1.499 0.548 5.065
* checking for unstated dependencies in ‘tests’ ... OK
* checking tests ...
Running ‘testthat.R’
OK
* checking for unstated dependencies in vignettes ... OK
* checking package vignettes ... OK
* checking running R code from vignettes ... SKIPPED
* checking re-building of vignette outputs ... SKIPPED
* checking PDF version of manual ... OK
* DONE
Status: 1 NOTE
See
‘/Users/biocbuild/bbs-3.22-bioc/meat/AlpsNMR.Rcheck/00check.log’
for details.
AlpsNMR.Rcheck/00install.out
############################################################################## ############################################################################## ### ### Running command: ### ### /Library/Frameworks/R.framework/Resources/bin/R CMD INSTALL AlpsNMR ### ############################################################################## ############################################################################## * installing to library ‘/Library/Frameworks/R.framework/Versions/4.5-arm64/Resources/library’ * installing *source* package ‘AlpsNMR’ ... ** this is package ‘AlpsNMR’ version ‘4.12.0’ ** using staged installation ** R ** data ** inst ** byte-compile and prepare package for lazy loading ** help *** installing help indices *** copying figures ** building package indices ** installing vignettes ** testing if installed package can be loaded from temporary location ** testing if installed package can be loaded from final location ** testing if installed package keeps a record of temporary installation path * DONE (AlpsNMR)
AlpsNMR.Rcheck/tests/testthat.Rout
R version 4.5.2 Patched (2025-11-04 r88984) -- "[Not] Part in a Rumble"
Copyright (C) 2025 The R Foundation for Statistical Computing
Platform: aarch64-apple-darwin20
R is free software and comes with ABSOLUTELY NO WARRANTY.
You are welcome to redistribute it under certain conditions.
Type 'license()' or 'licence()' for distribution details.
R is a collaborative project with many contributors.
Type 'contributors()' for more information and
'citation()' on how to cite R or R packages in publications.
Type 'demo()' for some demos, 'help()' for on-line help, or
'help.start()' for an HTML browser interface to help.
Type 'q()' to quit R.
> library(testthat)
> library(AlpsNMR)
Attaching package: 'AlpsNMR'
The following object is masked from 'package:stats':
filter
>
> test_check("AlpsNMR")
[ FAIL 0 | WARN 0 | SKIP 1 | PASS 93 ]
══ Skipped tests (1) ═══════════════════════════════════════════════════════════
• On Bioconductor (1): 'test_rDolphin.R:2:5'
[ FAIL 0 | WARN 0 | SKIP 1 | PASS 93 ]
>
> proc.time()
user system elapsed
16.651 4.715 27.006
AlpsNMR.Rcheck/AlpsNMR-Ex.timings
| name | user | system | elapsed | |
| AlpsNMR-package | 0.926 | 0.238 | 2.795 | |
| HMDB_blood | 0.003 | 0.002 | 0.019 | |
| HMDB_cell | 0.001 | 0.001 | 0.001 | |
| HMDB_urine | 0.002 | 0.001 | 0.002 | |
| Parameters_blood | 0.002 | 0.002 | 0.028 | |
| Parameters_cell | 0.002 | 0.002 | 0.015 | |
| Parameters_urine | 0.001 | 0.001 | 0.001 | |
| Peak_detection | 4.286 | 1.171 | 12.521 | |
| Pipelines | 0.001 | 0.000 | 0.002 | |
| ROI_blood | 0.001 | 0.001 | 0.003 | |
| ROI_cell | 0.001 | 0.001 | 0.002 | |
| ROI_urine | 0.001 | 0.001 | 0.002 | |
| SummarizedExperiment_to_nmr_data_1r | 3.510 | 0.440 | 10.058 | |
| SummarizedExperiment_to_nmr_dataset_peak_table | 1.991 | 0.904 | 4.132 | |
| bp_VIP_analysis | 0.687 | 0.455 | 1.568 | |
| bp_kfold_VIP_analysis | 0.699 | 0.377 | 0.699 | |
| download_MTBLS242 | 0 | 0 | 0 | |
| file_lister | 0.048 | 0.008 | 0.099 | |
| files_to_rDolphin | 0.000 | 0.001 | 0.001 | |
| filter.nmr_dataset_family | 0.555 | 0.190 | 0.618 | |
| format.nmr_dataset | 0.483 | 0.288 | 0.533 | |
| format.nmr_dataset_1D | 0.555 | 0.228 | 0.677 | |
| format.nmr_dataset_peak_table | 0.615 | 0.350 | 0.855 | |
| get_integration_with_metadata | 0.018 | 0.005 | 0.031 | |
| hmdb | 0.021 | 0.004 | 0.065 | |
| is.nmr_dataset | 0.544 | 0.299 | 0.560 | |
| is.nmr_dataset_1D | 0.513 | 0.257 | 0.585 | |
| is.nmr_dataset_peak_table | 0.604 | 0.288 | 0.707 | |
| load_and_save_functions | 0.536 | 0.318 | 0.595 | |
| models_stability_plot_bootstrap | 0.001 | 0.000 | 0.003 | |
| models_stability_plot_plsda | 0.298 | 0.269 | 0.412 | |
| new_nmr_dataset | 0.002 | 0.000 | 0.002 | |
| new_nmr_dataset_1D | 0.001 | 0.000 | 0.001 | |
| new_nmr_dataset_peak_table | 0.543 | 0.226 | 0.674 | |
| nmr_autophase | 0.131 | 0.063 | 0.351 | |
| nmr_baseline_estimation | 0.004 | 0.003 | 0.016 | |
| nmr_baseline_removal | 0.002 | 0.000 | 0.003 | |
| nmr_baseline_threshold | 0.000 | 0.001 | 0.002 | |
| nmr_baseline_threshold_plot | 0.221 | 0.025 | 0.465 | |
| nmr_batman | 0.002 | 0.001 | 0.023 | |
| nmr_batman_options | 0 | 0 | 0 | |
| nmr_build_peak_table | 0.028 | 0.003 | 0.037 | |
| nmr_data | 0.041 | 0.009 | 0.111 | |
| nmr_data_1r_to_SummarizedExperiment | 0.675 | 0.303 | 1.000 | |
| nmr_data_analysis | 0.287 | 0.258 | 0.376 | |
| nmr_dataset | 0.001 | 0.000 | 0.001 | |
| nmr_dataset_1D | 0.001 | 0.000 | 0.001 | |
| nmr_dataset_peak_table_to_SummarizedExperiment | 0.80 | 0.34 | 1.14 | |
| nmr_exclude_region | 0.003 | 0.001 | 0.016 | |
| nmr_export_data_1r | 0.543 | 0.298 | 0.644 | |
| nmr_get_peak_distances | 0.008 | 0.002 | 0.010 | |
| nmr_identify_regions_blood | 0.008 | 0.002 | 0.029 | |
| nmr_identify_regions_cell | 0.006 | 0.001 | 0.009 | |
| nmr_identify_regions_urine | 0.012 | 0.001 | 0.014 | |
| nmr_integrate_regions | 0.002 | 0.000 | 0.003 | |
| nmr_interpolate_1D | 1.166 | 0.700 | 1.524 | |
| nmr_meta_add | 1.372 | 0.643 | 1.874 | |
| nmr_meta_export | 0.482 | 0.257 | 0.491 | |
| nmr_meta_get | 0.386 | 0.159 | 0.514 | |
| nmr_meta_get_column | 0.608 | 0.371 | 0.781 | |
| nmr_meta_groups | 0.614 | 0.286 | 0.560 | |
| nmr_normalize | 0.214 | 0.035 | 0.675 | |
| nmr_pca_build_model | 1.499 | 0.548 | 5.065 | |
| nmr_pca_outliers | 0.579 | 0.307 | 0.765 | |
| nmr_pca_outliers_filter | 0.618 | 0.292 | 0.788 | |
| nmr_pca_outliers_plot | 0.000 | 0.000 | 0.001 | |
| nmr_pca_outliers_robust | 3.467 | 0.355 | 6.756 | |
| nmr_pca_plots | 0.309 | 0.009 | 0.560 | |
| nmr_peak_clustering | 0.053 | 0.002 | 0.112 | |
| nmr_ppm_resolution | 0.009 | 0.002 | 0.011 | |
| nmr_read_bruker_fid | 0.000 | 0.000 | 0.001 | |
| nmr_read_samples | 1.016 | 0.487 | 1.075 | |
| nmr_zip_bruker_samples | 0.257 | 0.020 | 0.436 | |
| peaklist_accept_peaks | 0.003 | 0.001 | 0.004 | |
| permutation_test_model | 1.586 | 0.690 | 2.008 | |
| permutation_test_plot | 2.907 | 1.124 | 2.152 | |
| plot.nmr_dataset_1D | 0.001 | 0.001 | 0.003 | |
| plot_bootstrap_multimodel | 0.001 | 0.002 | 0.004 | |
| plot_interactive | 0.512 | 0.253 | 0.512 | |
| plot_plsda_multimodel | 0.160 | 0.195 | 0.255 | |
| plot_plsda_samples | 0.069 | 0.073 | 0.208 | |
| plot_vip_scores | 0.000 | 0.001 | 0.002 | |
| plot_webgl | 0.000 | 0.001 | 0.001 | |
| plsda_auroc_vip_compare | 0.336 | 0.196 | 0.732 | |
| plsda_auroc_vip_method | 0.000 | 0.001 | 0.001 | |
| ppm_resolution | 0.003 | 0.001 | 0.004 | |
| print.nmr_dataset | 0.455 | 0.259 | 0.611 | |
| print.nmr_dataset_1D | 0.720 | 0.490 | 0.826 | |
| print.nmr_dataset_peak_table | 0.604 | 0.338 | 0.632 | |
| random_subsampling | 0.000 | 0.001 | 0.002 | |
| save_files_to_rDolphin | 0.000 | 0.001 | 0.000 | |
| save_profiling_output | 0.000 | 0.000 | 0.001 | |
| sub-.nmr_dataset | 0.381 | 0.217 | 0.401 | |
| sub-.nmr_dataset_1D | 0.759 | 0.582 | 0.934 | |
| sub-.nmr_dataset_peak_table | 0.569 | 0.273 | 0.784 | |
| tidy.nmr_dataset_1D | 0.577 | 0.349 | 0.731 | |
| to_ASICS | 0.635 | 0.103 | 1.225 | |
| to_ChemoSpec | 0.723 | 0.452 | 1.150 | |
| validate_nmr_dataset | 0.942 | 0.565 | 1.053 | |
| validate_nmr_dataset_family | 0.530 | 0.378 | 0.759 | |
| validate_nmr_dataset_peak_table | 0.000 | 0.001 | 0.001 | |
| zzz | 0.000 | 0.000 | 2.076 | |