| Back to Multiple platform build/check report for BioC 3.22: simplified long |
|
This page was generated on 2025-11-24 12:03 -0500 (Mon, 24 Nov 2025).
| Hostname | OS | Arch (*) | R version | Installed pkgs |
|---|---|---|---|---|
| nebbiolo2 | Linux (Ubuntu 24.04.3 LTS) | x86_64 | 4.5.2 (2025-10-31) -- "[Not] Part in a Rumble" | 4873 |
| merida1 | macOS 12.7.6 Monterey | x86_64 | 4.5.2 Patched (2025-11-05 r88990) -- "[Not] Part in a Rumble" | 4654 |
| kjohnson1 | macOS 13.7.5 Ventura | arm64 | 4.5.2 Patched (2025-11-04 r88984) -- "[Not] Part in a Rumble" | 4600 |
| taishan | Linux (openEuler 24.03 LTS) | aarch64 | 4.5.0 (2025-04-11) -- "How About a Twenty-Six" | 4668 |
| Click on any hostname to see more info about the system (e.g. compilers) (*) as reported by 'uname -p', except on Windows and Mac OS X | ||||
| Package 59/2361 | Hostname | OS / Arch | INSTALL | BUILD | CHECK | BUILD BIN | ||||||||
| AlpsNMR 4.12.0 (landing page) Sergio Oller Moreno
| nebbiolo2 | Linux (Ubuntu 24.04.3 LTS) / x86_64 | OK | OK | OK | |||||||||
| merida1 | macOS 12.7.6 Monterey / x86_64 | OK | OK | OK | OK | |||||||||
| kjohnson1 | macOS 13.7.5 Ventura / arm64 | OK | OK | OK | OK | |||||||||
| taishan | Linux (openEuler 24.03 LTS) / aarch64 | OK | ERROR | skipped | ||||||||||
|
To the developers/maintainers of the AlpsNMR package: - Allow up to 24 hours (and sometimes 48 hours) for your latest push to git@git.bioconductor.org:packages/AlpsNMR.git to reflect on this report. See Troubleshooting Build Report for more information. - Use the following Renviron settings to reproduce errors and warnings. - If 'R CMD check' started to fail recently on the Linux builder(s) over a missing dependency, add the missing dependency to 'Suggests:' in your DESCRIPTION file. See Renviron.bioc for more information. |
| Package: AlpsNMR |
| Version: 4.12.0 |
| Command: /home/biocbuild/bbs-3.22-bioc/R/bin/R CMD check --install=check:AlpsNMR.install-out.txt --library=/home/biocbuild/bbs-3.22-bioc/R/site-library --timings AlpsNMR_4.12.0.tar.gz |
| StartedAt: 2025-11-20 21:50:15 -0500 (Thu, 20 Nov 2025) |
| EndedAt: 2025-11-20 21:55:04 -0500 (Thu, 20 Nov 2025) |
| EllapsedTime: 289.3 seconds |
| RetCode: 0 |
| Status: OK |
| CheckDir: AlpsNMR.Rcheck |
| Warnings: 0 |
##############################################################################
##############################################################################
###
### Running command:
###
### /home/biocbuild/bbs-3.22-bioc/R/bin/R CMD check --install=check:AlpsNMR.install-out.txt --library=/home/biocbuild/bbs-3.22-bioc/R/site-library --timings AlpsNMR_4.12.0.tar.gz
###
##############################################################################
##############################################################################
* using log directory ‘/home/biocbuild/bbs-3.22-bioc/meat/AlpsNMR.Rcheck’
* using R version 4.5.2 (2025-10-31)
* using platform: x86_64-pc-linux-gnu
* R was compiled by
gcc (Ubuntu 13.3.0-6ubuntu2~24.04) 13.3.0
GNU Fortran (Ubuntu 13.3.0-6ubuntu2~24.04) 13.3.0
* running under: Ubuntu 24.04.3 LTS
* using session charset: UTF-8
* checking for file ‘AlpsNMR/DESCRIPTION’ ... OK
* checking extension type ... Package
* this is package ‘AlpsNMR’ version ‘4.12.0’
* package encoding: UTF-8
* checking package namespace information ... OK
* checking package dependencies ... INFO
Imports includes 26 non-default packages.
Importing from so many packages makes the package vulnerable to any of
them becoming unavailable. Move as many as possible to Suggests and
use conditionally.
* checking if this is a source package ... OK
* checking if there is a namespace ... OK
* checking for hidden files and directories ... OK
* checking for portable file names ... OK
* checking for sufficient/correct file permissions ... OK
* checking whether package ‘AlpsNMR’ can be installed ... OK
* checking installed package size ... OK
* checking package directory ... OK
* checking ‘build’ directory ... OK
* checking DESCRIPTION meta-information ... OK
* checking top-level files ... OK
* checking for left-over files ... OK
* checking index information ... OK
* checking package subdirectories ... OK
* checking code files for non-ASCII characters ... OK
* checking R files for syntax errors ... OK
* checking whether the package can be loaded ... OK
* checking whether the package can be loaded with stated dependencies ... OK
* checking whether the package can be unloaded cleanly ... OK
* checking whether the namespace can be loaded with stated dependencies ... OK
* checking whether the namespace can be unloaded cleanly ... OK
* checking loading without being on the library search path ... OK
* checking dependencies in R code ... OK
* checking S3 generic/method consistency ... OK
* checking replacement functions ... OK
* checking foreign function calls ... OK
* checking R code for possible problems ... OK
* checking Rd files ... OK
* checking Rd metadata ... OK
* checking Rd cross-references ... NOTE
Non-topic package-anchored link(s) in Rd file 'reexports.Rd':
‘[magrittr:pipe]{%>%}’
See section 'Cross-references' in the 'Writing R Extensions' manual.
Found the following Rd file(s) with Rd \link{} targets missing package
anchors:
filter.nmr_dataset_family.Rd: dplyr
Please provide package anchors for all Rd \link{} targets not in the
package itself and the base packages.
* checking for missing documentation entries ... OK
* checking for code/documentation mismatches ... OK
* checking Rd \usage sections ... OK
* checking Rd contents ... OK
* checking for unstated dependencies in examples ... OK
* checking contents of ‘data’ directory ... OK
* checking data for non-ASCII characters ... OK
* checking data for ASCII and uncompressed saves ... OK
* checking files in ‘vignettes’ ... OK
* checking examples ... OK
Examples with CPU (user + system) or elapsed time > 5s
user system elapsed
Peak_detection 7.790 1.894 7.110
SummarizedExperiment_to_nmr_data_1r 6.845 1.063 7.263
sub-.nmr_dataset 3.775 3.373 3.139
nmr_pca_outliers_robust 4.834 0.981 5.000
* checking for unstated dependencies in ‘tests’ ... OK
* checking tests ...
Running ‘testthat.R’
OK
* checking for unstated dependencies in vignettes ... OK
* checking package vignettes ... OK
* checking re-building of vignette outputs ... OK
* checking PDF version of manual ... OK
* DONE
Status: 1 NOTE
See
‘/home/biocbuild/bbs-3.22-bioc/meat/AlpsNMR.Rcheck/00check.log’
for details.
AlpsNMR.Rcheck/00install.out
############################################################################## ############################################################################## ### ### Running command: ### ### /home/biocbuild/bbs-3.22-bioc/R/bin/R CMD INSTALL AlpsNMR ### ############################################################################## ############################################################################## * installing to library ‘/home/biocbuild/bbs-3.22-bioc/R/site-library’ * installing *source* package ‘AlpsNMR’ ... ** this is package ‘AlpsNMR’ version ‘4.12.0’ ** using staged installation ** R ** data ** inst ** byte-compile and prepare package for lazy loading ** help *** installing help indices *** copying figures ** building package indices ** installing vignettes ** testing if installed package can be loaded from temporary location ** testing if installed package can be loaded from final location ** testing if installed package keeps a record of temporary installation path * DONE (AlpsNMR)
AlpsNMR.Rcheck/tests/testthat.Rout
R version 4.5.2 (2025-10-31) -- "[Not] Part in a Rumble"
Copyright (C) 2025 The R Foundation for Statistical Computing
Platform: x86_64-pc-linux-gnu
R is free software and comes with ABSOLUTELY NO WARRANTY.
You are welcome to redistribute it under certain conditions.
Type 'license()' or 'licence()' for distribution details.
R is a collaborative project with many contributors.
Type 'contributors()' for more information and
'citation()' on how to cite R or R packages in publications.
Type 'demo()' for some demos, 'help()' for on-line help, or
'help.start()' for an HTML browser interface to help.
Type 'q()' to quit R.
> library(testthat)
> library(AlpsNMR)
Attaching package: 'AlpsNMR'
The following object is masked from 'package:stats':
filter
>
> test_check("AlpsNMR")
[ FAIL 0 | WARN 0 | SKIP 1 | PASS 93 ]
══ Skipped tests (1) ═══════════════════════════════════════════════════════════
• On Bioconductor (1): 'test_rDolphin.R:2:5'
[ FAIL 0 | WARN 0 | SKIP 1 | PASS 93 ]
>
> proc.time()
user system elapsed
20.497 7.239 20.082
AlpsNMR.Rcheck/AlpsNMR-Ex.timings
| name | user | system | elapsed | |
| AlpsNMR-package | 1.896 | 0.373 | 1.748 | |
| HMDB_blood | 0.006 | 0.000 | 0.006 | |
| HMDB_cell | 0.002 | 0.001 | 0.003 | |
| HMDB_urine | 0.004 | 0.001 | 0.004 | |
| Parameters_blood | 0.002 | 0.000 | 0.001 | |
| Parameters_cell | 0.001 | 0.000 | 0.001 | |
| Parameters_urine | 0.001 | 0.000 | 0.001 | |
| Peak_detection | 7.790 | 1.894 | 7.110 | |
| Pipelines | 0.001 | 0.001 | 0.001 | |
| ROI_blood | 0.003 | 0.000 | 0.003 | |
| ROI_cell | 0.003 | 0.000 | 0.003 | |
| ROI_urine | 0.002 | 0.002 | 0.005 | |
| SummarizedExperiment_to_nmr_data_1r | 6.845 | 1.063 | 7.263 | |
| SummarizedExperiment_to_nmr_dataset_peak_table | 0.997 | 0.551 | 0.879 | |
| bp_VIP_analysis | 2.962 | 1.809 | 3.132 | |
| bp_kfold_VIP_analysis | 0.839 | 0.593 | 0.641 | |
| download_MTBLS242 | 0 | 0 | 0 | |
| file_lister | 0.056 | 0.017 | 0.073 | |
| files_to_rDolphin | 0 | 0 | 0 | |
| filter.nmr_dataset_family | 0.718 | 0.407 | 0.572 | |
| format.nmr_dataset | 0.739 | 0.559 | 0.589 | |
| format.nmr_dataset_1D | 0.775 | 0.636 | 0.636 | |
| format.nmr_dataset_peak_table | 0.896 | 0.744 | 0.789 | |
| get_integration_with_metadata | 0.034 | 0.010 | 0.045 | |
| hmdb | 0.049 | 0.008 | 0.059 | |
| is.nmr_dataset | 0.767 | 0.614 | 0.586 | |
| is.nmr_dataset_1D | 0.713 | 0.610 | 0.618 | |
| is.nmr_dataset_peak_table | 0.874 | 0.592 | 0.703 | |
| load_and_save_functions | 0.686 | 0.675 | 0.602 | |
| models_stability_plot_bootstrap | 0.001 | 0.001 | 0.002 | |
| models_stability_plot_plsda | 0.386 | 0.458 | 0.412 | |
| new_nmr_dataset | 0.001 | 0.000 | 0.001 | |
| new_nmr_dataset_1D | 0.001 | 0.000 | 0.001 | |
| new_nmr_dataset_peak_table | 0.877 | 0.677 | 0.758 | |
| nmr_autophase | 0.236 | 0.128 | 0.335 | |
| nmr_baseline_estimation | 0.011 | 0.004 | 0.014 | |
| nmr_baseline_removal | 0.005 | 0.001 | 0.006 | |
| nmr_baseline_threshold | 0.002 | 0.000 | 0.001 | |
| nmr_baseline_threshold_plot | 0.299 | 0.080 | 0.379 | |
| nmr_batman | 0.003 | 0.000 | 0.003 | |
| nmr_batman_options | 0 | 0 | 0 | |
| nmr_build_peak_table | 0.038 | 0.002 | 0.040 | |
| nmr_data | 0.047 | 0.011 | 0.057 | |
| nmr_data_1r_to_SummarizedExperiment | 1.069 | 0.741 | 1.012 | |
| nmr_data_analysis | 0.363 | 0.488 | 0.409 | |
| nmr_dataset | 0.000 | 0.000 | 0.001 | |
| nmr_dataset_1D | 0.000 | 0.001 | 0.001 | |
| nmr_dataset_peak_table_to_SummarizedExperiment | 0.960 | 0.578 | 0.840 | |
| nmr_exclude_region | 0.006 | 0.001 | 0.007 | |
| nmr_export_data_1r | 0.897 | 0.817 | 0.760 | |
| nmr_get_peak_distances | 0.009 | 0.000 | 0.009 | |
| nmr_identify_regions_blood | 0.016 | 0.000 | 0.016 | |
| nmr_identify_regions_cell | 0.011 | 0.000 | 0.012 | |
| nmr_identify_regions_urine | 0.013 | 0.002 | 0.015 | |
| nmr_integrate_regions | 0.007 | 0.000 | 0.007 | |
| nmr_interpolate_1D | 1.630 | 1.404 | 1.422 | |
| nmr_meta_add | 1.798 | 1.163 | 1.551 | |
| nmr_meta_export | 0.671 | 0.579 | 0.543 | |
| nmr_meta_get | 0.840 | 0.733 | 0.693 | |
| nmr_meta_get_column | 0.684 | 0.536 | 0.549 | |
| nmr_meta_groups | 0.663 | 0.473 | 0.495 | |
| nmr_normalize | 0.321 | 0.075 | 0.396 | |
| nmr_pca_build_model | 2.306 | 1.551 | 2.330 | |
| nmr_pca_outliers | 0.972 | 0.643 | 0.764 | |
| nmr_pca_outliers_filter | 1.002 | 0.728 | 0.876 | |
| nmr_pca_outliers_plot | 0 | 0 | 0 | |
| nmr_pca_outliers_robust | 4.834 | 0.981 | 5.000 | |
| nmr_pca_plots | 0.497 | 0.015 | 0.513 | |
| nmr_peak_clustering | 0.068 | 0.000 | 0.068 | |
| nmr_ppm_resolution | 0.007 | 0.001 | 0.007 | |
| nmr_read_bruker_fid | 0 | 0 | 0 | |
| nmr_read_samples | 1.330 | 1.160 | 1.045 | |
| nmr_zip_bruker_samples | 0.258 | 0.008 | 0.266 | |
| peaklist_accept_peaks | 0.004 | 0.000 | 0.004 | |
| permutation_test_model | 2.368 | 1.413 | 1.653 | |
| permutation_test_plot | 2.333 | 1.396 | 1.629 | |
| plot.nmr_dataset_1D | 0.003 | 0.000 | 0.003 | |
| plot_bootstrap_multimodel | 0.002 | 0.001 | 0.003 | |
| plot_interactive | 2.493 | 1.321 | 0.673 | |
| plot_plsda_multimodel | 0.197 | 0.432 | 0.335 | |
| plot_plsda_samples | 0.120 | 0.178 | 0.222 | |
| plot_vip_scores | 0.002 | 0.000 | 0.002 | |
| plot_webgl | 0.000 | 0.002 | 0.002 | |
| plsda_auroc_vip_compare | 0.529 | 0.418 | 0.754 | |
| plsda_auroc_vip_method | 0 | 0 | 0 | |
| ppm_resolution | 0.003 | 0.000 | 0.003 | |
| print.nmr_dataset | 0.671 | 0.661 | 0.612 | |
| print.nmr_dataset_1D | 0.721 | 0.541 | 0.612 | |
| print.nmr_dataset_peak_table | 0.820 | 0.554 | 0.709 | |
| random_subsampling | 0.002 | 0.000 | 0.002 | |
| save_files_to_rDolphin | 0 | 0 | 0 | |
| save_profiling_output | 0 | 0 | 0 | |
| sub-.nmr_dataset | 3.775 | 3.373 | 3.139 | |
| sub-.nmr_dataset_1D | 0.721 | 0.560 | 0.586 | |
| sub-.nmr_dataset_peak_table | 0.743 | 0.528 | 0.624 | |
| tidy.nmr_dataset_1D | 0.762 | 0.530 | 0.634 | |
| to_ASICS | 0.823 | 0.128 | 0.952 | |
| to_ChemoSpec | 1.033 | 0.911 | 0.986 | |
| validate_nmr_dataset | 1.495 | 1.226 | 1.201 | |
| validate_nmr_dataset_family | 0.825 | 0.567 | 0.636 | |
| validate_nmr_dataset_peak_table | 0.000 | 0.001 | 0.001 | |
| zzz | 0.000 | 0.000 | 2.002 | |