Back to Multiple platform build/check report for BioC 3.23:   simplified   long
ABCDEFGHIJKLMNOPQRS[T]UVWXYZ

This page was generated on 2025-11-20 11:39 -0500 (Thu, 20 Nov 2025).

HostnameOSArch (*)R versionInstalled pkgs
nebbiolo1Linux (Ubuntu 24.04.3 LTS)x86_64R Under development (unstable) (2025-10-20 r88955) -- "Unsuffered Consequences" 4827
lconwaymacOS 12.7.6 Montereyx86_64R Under development (unstable) (2025-10-21 r88958) -- "Unsuffered Consequences" 4600
kjohnson3macOS 13.7.7 Venturaarm64R Under development (unstable) (2025-11-04 r88984) -- "Unsuffered Consequences" 4564
Click on any hostname to see more info about the system (e.g. compilers)      (*) as reported by 'uname -p', except on Windows and Mac OS X

Package 2218/2325HostnameOS / ArchINSTALLBUILDCHECKBUILD BIN
tRanslatome 1.49.0  (landing page)
Toma Tebaldi , Erik Dassi
Snapshot Date: 2025-11-19 13:40 -0500 (Wed, 19 Nov 2025)
git_url: https://git.bioconductor.org/packages/tRanslatome
git_branch: devel
git_last_commit: 6b31799
git_last_commit_date: 2025-10-29 10:14:58 -0500 (Wed, 29 Oct 2025)
nebbiolo1Linux (Ubuntu 24.04.3 LTS) / x86_64  OK    OK    OK  UNNEEDED, same version is already published
lconwaymacOS 12.7.6 Monterey / x86_64  OK    OK    OK    OK  NO, package depends on 'DESeq2' which is only available as a source package that needs compilation
kjohnson3macOS 13.7.7 Ventura / arm64  OK    OK    OK    OK  NO, package depends on 'DESeq2' which is only available as a source package that needs compilation


CHECK results for tRanslatome on lconway

To the developers/maintainers of the tRanslatome package:
- Allow up to 24 hours (and sometimes 48 hours) for your latest push to git@git.bioconductor.org:packages/tRanslatome.git to reflect on this report. See Troubleshooting Build Report for more information.
- Use the following Renviron settings to reproduce errors and warnings.
- If 'R CMD check' started to fail recently on the Linux builder(s) over a missing dependency, add the missing dependency to 'Suggests:' in your DESCRIPTION file. See Renviron.bioc for more information.

raw results


Summary

Package: tRanslatome
Version: 1.49.0
Command: /Library/Frameworks/R.framework/Resources/bin/R CMD check --install=check:tRanslatome.install-out.txt --library=/Library/Frameworks/R.framework/Resources/library --no-vignettes --timings tRanslatome_1.49.0.tar.gz
StartedAt: 2025-11-20 00:48:35 -0500 (Thu, 20 Nov 2025)
EndedAt: 2025-11-20 00:54:35 -0500 (Thu, 20 Nov 2025)
EllapsedTime: 360.2 seconds
RetCode: 0
Status:   OK  
CheckDir: tRanslatome.Rcheck
Warnings: 0

Command output

##############################################################################
##############################################################################
###
### Running command:
###
###   /Library/Frameworks/R.framework/Resources/bin/R CMD check --install=check:tRanslatome.install-out.txt --library=/Library/Frameworks/R.framework/Resources/library --no-vignettes --timings tRanslatome_1.49.0.tar.gz
###
##############################################################################
##############################################################################


* using log directory ‘/Users/biocbuild/bbs-3.23-bioc/meat/tRanslatome.Rcheck’
* using R Under development (unstable) (2025-10-21 r88958)
* using platform: x86_64-apple-darwin20
* R was compiled by
    Apple clang version 14.0.0 (clang-1400.0.29.202)
    GNU Fortran (GCC) 14.2.0
* running under: macOS Ventura 13.7.8
* using session charset: UTF-8
* using option ‘--no-vignettes’
* checking for file ‘tRanslatome/DESCRIPTION’ ... OK
* checking extension type ... Package
* this is package ‘tRanslatome’ version ‘1.49.0’
* checking package namespace information ... OK
* checking package dependencies ... INFO
Depends: includes the non-default packages:
  'limma', 'anota', 'DESeq2', 'edgeR', 'RankProd', 'topGO',
  'org.Hs.eg.db', 'GOSemSim', 'Heatplus', 'gplots', 'plotrix',
  'Biobase'
Adding so many packages to the search path is excessive and importing
selectively is preferable.
* checking if this is a source package ... OK
* checking if there is a namespace ... OK
* checking for hidden files and directories ... OK
* checking for portable file names ... OK
* checking for sufficient/correct file permissions ... OK
* checking whether package ‘tRanslatome’ can be installed ... OK
* checking installed package size ... OK
* checking package directory ... OK
* checking ‘build’ directory ... OK
* checking DESCRIPTION meta-information ... OK
* checking top-level files ... OK
* checking for left-over files ... OK
* checking index information ... OK
* checking package subdirectories ... OK
* checking code files for non-ASCII characters ... OK
* checking R files for syntax errors ... OK
* checking whether the package can be loaded ... OK
* checking whether the package can be loaded with stated dependencies ... OK
* checking whether the package can be unloaded cleanly ... OK
* checking whether the namespace can be loaded with stated dependencies ... OK
* checking whether the namespace can be unloaded cleanly ... OK
* checking dependencies in R code ... OK
* checking S3 generic/method consistency ... OK
* checking replacement functions ... OK
* checking foreign function calls ... OK
* checking R code for possible problems ... NOTE
methodLimma: no visible global function definition for ‘lmFit’
methodTTest: no visible global function definition for ‘calcTStatFast’
GOEnrichment,DEGs: no visible global function definition for ‘toTable’
Undefined global functions or variables:
  calcTStatFast lmFit toTable
* checking Rd files ... OK
* checking Rd metadata ... OK
* checking Rd cross-references ... OK
* checking for missing documentation entries ... OK
* checking for code/documentation mismatches ... OK
* checking Rd \usage sections ... OK
* checking Rd contents ... OK
* checking for unstated dependencies in examples ... OK
* checking contents of ‘data’ directory ... OK
* checking data for non-ASCII characters ... OK
* checking data for ASCII and uncompressed saves ... OK
* checking sizes of PDF files under ‘inst/doc’ ... OK
* checking files in ‘vignettes’ ... OK
* checking examples ... OK
Examples with CPU (user + system) or elapsed time > 5s
               user system elapsed
GOComparison 18.269  1.625  20.095
GOEnrichment 15.035  0.328  15.458
* checking for unstated dependencies in vignettes ... OK
* checking package vignettes ... OK
* checking running R code from vignettes ... SKIPPED
* checking re-building of vignette outputs ... SKIPPED
* checking PDF version of manual ... OK
* DONE

Status: 1 NOTE
See
  ‘/Users/biocbuild/bbs-3.23-bioc/meat/tRanslatome.Rcheck/00check.log’
for details.


Installation output

tRanslatome.Rcheck/00install.out

##############################################################################
##############################################################################
###
### Running command:
###
###   /Library/Frameworks/R.framework/Resources/bin/R CMD INSTALL tRanslatome
###
##############################################################################
##############################################################################


* installing to library ‘/Library/Frameworks/R.framework/Versions/4.6-x86_64/Resources/library’
* installing *source* package ‘tRanslatome’ ...
** this is package ‘tRanslatome’ version ‘1.49.0’
** using staged installation
** R
** data
** byte-compile and prepare package for lazy loading

groupGOTerms: 	GOBPTerm, GOMFTerm, GOCCTerm environments built.
** help
*** installing help indices
** building package indices
** installing vignettes
** testing if installed package can be loaded from temporary location

groupGOTerms: 	GOBPTerm, GOMFTerm, GOCCTerm environments built.
** testing if installed package can be loaded from final location

groupGOTerms: 	GOBPTerm, GOMFTerm, GOCCTerm environments built.
** testing if installed package keeps a record of temporary installation path
* DONE (tRanslatome)

Tests output


Example timings

tRanslatome.Rcheck/tRanslatome-Ex.timings

nameusersystemelapsed
CVplot0.2140.0130.227
DEGs0.0010.0010.001
DEGs.table0.0840.1400.225
EnrichedSets0.0000.0000.002
FC.threshold0.0300.0050.035
GOComparison18.269 1.62520.095
GOEnrichment15.035 0.32815.458
GOsets0.0010.0000.001
GOsims0.0000.0010.001
Heatmap0.1080.0100.119
Histogram0.0440.0090.054
IdentityPlot0.0390.0060.048
MAplot0.0500.0090.061
Radar0.0900.0080.099
RegulatoryEnrichment1.7120.0501.776
SDplot0.0560.0110.069
Scatterplot0.0940.0080.102
SimilarityPlot0.0410.0070.047
TranslatomeDataset0.0000.0010.001
average.similarity.scores0.0390.0060.045
computeDEGs0.2080.0100.219
enriched.table0.0370.0050.043
getConditionA0.0290.0040.034
getConditionB0.0360.0070.044
getConditionC0.0350.0050.039
getConditionD0.0300.0060.036
getConditionLabels0.0360.0060.042
getDEGs0.0340.0060.041
getDEGsMethod0.0380.0060.044
getDataType0.0380.0090.046
getExprMatrix0.0600.0650.126
getLevelLabels0.0350.0050.041
identity.matrix0.0370.0080.047
label.condition0.0310.0040.036
label.level.DEGs0.0340.0040.039
label.level.enriched0.0350.0040.039
newTranslatomeDataset0.0340.0050.040
significance.threshold0.0350.0050.041
similarity.matrix0.0340.0070.041
tRanslatomeSampleData0.0340.0050.039