Back to Multiple platform build/check report for BioC 3.22:   simplified   long
ABCDEFGHIJKLMNOPQRS[T]UVWXYZ

This page was generated on 2025-05-28 12:11 -0400 (Wed, 28 May 2025).

HostnameOSArch (*)R versionInstalled pkgs
nebbiolo2Linux (Ubuntu 24.04.1 LTS)x86_644.5.0 (2025-04-11) -- "How About a Twenty-Six" 4756
palomino8Windows Server 2022 Datacenterx644.5.0 (2025-04-11 ucrt) -- "How About a Twenty-Six" 4531
lconwaymacOS 12.7.1 Montereyx86_644.5.0 Patched (2025-04-21 r88169) -- "How About a Twenty-Six" 4568
kjohnson3macOS 13.7.1 Venturaarm644.5.0 Patched (2025-04-21 r88169) -- "How About a Twenty-Six" 4508
taishanLinux (openEuler 24.03 LTS)aarch644.5.0 (2025-04-11) -- "How About a Twenty-Six" 4464
Click on any hostname to see more info about the system (e.g. compilers)      (*) as reported by 'uname -p', except on Windows and Mac OS X

Package 2196/2306HostnameOS / ArchINSTALLBUILDCHECKBUILD BIN
tRanslatome 1.47.0  (landing page)
Toma Tebaldi , Erik Dassi
Snapshot Date: 2025-05-27 13:25 -0400 (Tue, 27 May 2025)
git_url: https://git.bioconductor.org/packages/tRanslatome
git_branch: devel
git_last_commit: a374721
git_last_commit_date: 2025-04-15 10:24:21 -0400 (Tue, 15 Apr 2025)
nebbiolo2Linux (Ubuntu 24.04.1 LTS) / x86_64  OK    OK    OK  NO, package depends on 'topGO' which is not available
palomino8Windows Server 2022 Datacenter / x64  OK    OK    OK    OK  NO, package depends on 'topGO' which is not available
lconwaymacOS 12.7.1 Monterey / x86_64  OK    OK    OK    OK  NO, package depends on 'topGO' which is not available
kjohnson3macOS 13.7.1 Ventura / arm64  OK    OK    OK    OK  NO, package depends on 'topGO' which is not available
taishanLinux (openEuler 24.03 LTS) / aarch64  OK    OK    OK  


BUILD BIN results for tRanslatome on kjohnson3

To the developers/maintainers of the tRanslatome package:
- Allow up to 24 hours (and sometimes 48 hours) for your latest push to git@git.bioconductor.org:packages/tRanslatome.git to reflect on this report. See Troubleshooting Build Report for more information.
- Use the following Renviron settings to reproduce errors and warnings.
- If 'R CMD check' started to fail recently on the Linux builder(s) over a missing dependency, add the missing dependency to 'Suggests:' in your DESCRIPTION file. See Renviron.bioc for more information.

raw results


Summary

Package: tRanslatome
Version: 1.47.0
Command: rm -rf tRanslatome.buildbin-libdir && mkdir tRanslatome.buildbin-libdir && /Users/biocbuild/BBS/utils/build-universal.sh tRanslatome_1.47.0.tar.gz /Library/Frameworks/R.framework/Resources/bin/R tRanslatome.buildbin-libdir
StartedAt: 2025-05-27 22:33:06 -0400 (Tue, 27 May 2025)
EndedAt: 2025-05-27 22:33:24 -0400 (Tue, 27 May 2025)
EllapsedTime: 18.4 seconds
RetCode: 0
Status:   OK  
PackageFile: tRanslatome_1.47.0.tgz
PackageFileSize: 1.318 MiB

Command output

##############################################################################
##############################################################################
###
### Running command:
###
###   rm -rf tRanslatome.buildbin-libdir && mkdir tRanslatome.buildbin-libdir && /Users/biocbuild/BBS/utils/build-universal.sh tRanslatome_1.47.0.tar.gz /Library/Frameworks/R.framework/Resources/bin/R tRanslatome.buildbin-libdir
###
##############################################################################
##############################################################################


>>>>>>> 
>>>>>>> INSTALLATION WITH 'R CMD INSTALL --preclean --no-multiarch --library=tRanslatome.buildbin-libdir tRanslatome_1.47.0.tar.gz'
>>>>>>> 

* installing *source* package ‘tRanslatome’ ...
** this is package ‘tRanslatome’ version ‘1.47.0’
** using staged installation
** R
** data
** inst
** byte-compile and prepare package for lazy loading

groupGOTerms: 	GOBPTerm, GOMFTerm, GOCCTerm environments built.
** help
*** installing help indices
** building package indices
** installing vignettes
** testing if installed package can be loaded from temporary location

groupGOTerms: 	GOBPTerm, GOMFTerm, GOCCTerm environments built.
** testing if installed package can be loaded from final location

groupGOTerms: 	GOBPTerm, GOMFTerm, GOCCTerm environments built.
** testing if installed package keeps a record of temporary installation path
* DONE (tRanslatome)