Back to Multiple platform build/check report for BioC 3.22: simplified long |
|
This page was generated on 2025-10-01 12:07 -0400 (Wed, 01 Oct 2025).
Hostname | OS | Arch (*) | R version | Installed pkgs |
---|---|---|---|---|
nebbiolo2 | Linux (Ubuntu 24.04.3 LTS) | x86_64 | 4.5.1 Patched (2025-08-23 r88802) -- "Great Square Root" | 4843 |
lconway | macOS 12.7.1 Monterey | x86_64 | 4.5.1 Patched (2025-09-10 r88807) -- "Great Square Root" | 4631 |
kjohnson3 | macOS 13.7.7 Ventura | arm64 | 4.5.1 Patched (2025-09-10 r88807) -- "Great Square Root" | 4575 |
taishan | Linux (openEuler 24.03 LTS) | aarch64 | 4.5.0 (2025-04-11) -- "How About a Twenty-Six" | 4576 |
Click on any hostname to see more info about the system (e.g. compilers) (*) as reported by 'uname -p', except on Windows and Mac OS X |
Package 1971/2337 | Hostname | OS / Arch | INSTALL | BUILD | CHECK | BUILD BIN | ||||||||
sesame 1.27.1 (landing page) Wanding Zhou
| nebbiolo2 | Linux (Ubuntu 24.04.3 LTS) / x86_64 | OK | OK | OK | ![]() | ||||||||
lconway | macOS 12.7.1 Monterey / x86_64 | OK | OK | OK | OK | ![]() | ||||||||
kjohnson3 | macOS 13.7.7 Ventura / arm64 | OK | OK | OK | OK | ![]() | ||||||||
taishan | Linux (openEuler 24.03 LTS) / aarch64 | OK | OK | OK | ||||||||||
To the developers/maintainers of the sesame package: - Allow up to 24 hours (and sometimes 48 hours) for your latest push to git@git.bioconductor.org:packages/sesame.git to reflect on this report. See Troubleshooting Build Report for more information. - Use the following Renviron settings to reproduce errors and warnings. - If 'R CMD check' started to fail recently on the Linux builder(s) over a missing dependency, add the missing dependency to 'Suggests:' in your DESCRIPTION file. See Renviron.bioc for more information. - See Martin Grigorov's blog post for how to debug Linux ARM64 related issues on a x86_64 host. |
Package: sesame |
Version: 1.27.1 |
Command: /home/biocbuild/R/R/bin/R CMD check --install=check:sesame.install-out.txt --library=/home/biocbuild/R/R/site-library --no-vignettes --timings sesame_1.27.1.tar.gz |
StartedAt: 2025-09-30 13:08:54 -0000 (Tue, 30 Sep 2025) |
EndedAt: 2025-09-30 13:28:41 -0000 (Tue, 30 Sep 2025) |
EllapsedTime: 1186.8 seconds |
RetCode: 0 |
Status: OK |
CheckDir: sesame.Rcheck |
Warnings: 0 |
############################################################################## ############################################################################## ### ### Running command: ### ### /home/biocbuild/R/R/bin/R CMD check --install=check:sesame.install-out.txt --library=/home/biocbuild/R/R/site-library --no-vignettes --timings sesame_1.27.1.tar.gz ### ############################################################################## ############################################################################## * using log directory ‘/home/biocbuild/bbs-3.22-bioc/meat/sesame.Rcheck’ * using R version 4.5.0 (2025-04-11) * using platform: aarch64-unknown-linux-gnu * R was compiled by aarch64-unknown-linux-gnu-gcc (GCC) 14.2.0 GNU Fortran (GCC) 14.2.0 * running under: openEuler 24.03 (LTS) * using session charset: UTF-8 * using option ‘--no-vignettes’ * checking for file ‘sesame/DESCRIPTION’ ... OK * checking extension type ... Package * this is package ‘sesame’ version ‘1.27.1’ * package encoding: UTF-8 * checking package namespace information ... OK * checking package dependencies ... OK * checking if this is a source package ... OK * checking if there is a namespace ... OK * checking for hidden files and directories ... OK * checking for portable file names ... OK * checking for sufficient/correct file permissions ... OK * checking whether package ‘sesame’ can be installed ... OK * checking installed package size ... OK * checking package directory ... OK * checking ‘build’ directory ... OK * checking DESCRIPTION meta-information ... OK * checking top-level files ... OK * checking for left-over files ... OK * checking index information ... OK * checking package subdirectories ... OK * checking code files for non-ASCII characters ... OK * checking R files for syntax errors ... OK * checking whether the package can be loaded ... OK * checking whether the package can be loaded with stated dependencies ... OK * checking whether the package can be unloaded cleanly ... OK * checking whether the namespace can be loaded with stated dependencies ... OK * checking whether the namespace can be unloaded cleanly ... OK * checking loading without being on the library search path ... OK * checking whether startup messages can be suppressed ... OK * checking dependencies in R code ... OK * checking S3 generic/method consistency ... OK * checking replacement functions ... OK * checking foreign function calls ... OK * checking R code for possible problems ... OK * checking Rd files ... OK * checking Rd metadata ... OK * checking Rd cross-references ... OK * checking for missing documentation entries ... OK * checking for code/documentation mismatches ... OK * checking Rd \usage sections ... OK * checking Rd contents ... OK * checking for unstated dependencies in examples ... OK * checking files in ‘vignettes’ ... OK * checking examples ... OK Examples with CPU (user + system) or elapsed time > 5s user system elapsed imputeBetasByGenomicNeighbors 43.946 0.707 65.028 inferSex 26.822 0.325 33.525 imputeBetas 25.745 0.840 38.478 sesameQC_plotHeatSNPs 22.802 0.251 36.487 sesameQC_calcStats 22.492 0.151 34.611 inferSpecies 18.781 0.576 25.008 compareMouseStrainReference 16.620 0.205 24.121 ELBAR 16.495 0.147 28.068 matchDesign 16.460 0.118 24.165 diffRefSet 15.700 0.271 24.164 compareReference 14.188 0.160 20.409 getRefSet 13.272 0.147 20.803 sesameQC_plotBar 12.597 0.329 18.700 sesameQC_plotBetaByDesign 12.782 0.099 16.155 DMR 10.641 0.323 13.464 inferStrain 9.396 0.311 14.404 DML 9.250 0.355 11.280 visualizeGene 9.342 0.227 11.667 inferTissue 8.644 0.107 15.875 sdf_read_table 8.196 0.234 10.961 dyeBiasNL 7.913 0.111 10.763 estimateLeukocyte 7.536 0.178 11.643 deIdentify 7.294 0.076 11.214 dyeBiasCorrMostBalanced 7.000 0.246 7.952 getMask 6.978 0.155 8.567 openSesame 6.424 0.136 11.330 createUCSCtrack 6.208 0.072 7.887 reIdentify 5.952 0.052 11.321 probeSuccessRate 5.559 0.115 6.003 bisConversionControl 4.771 0.100 5.455 scrubSoft 4.525 0.031 6.362 prepSesame 4.341 0.079 7.633 noMasked 4.062 0.107 5.997 sesameQC_rankStats 4.032 0.048 5.596 checkLevels 3.338 0.088 5.778 dyeBiasCorr 3.313 0.052 6.708 meanIntensity 3.134 0.123 6.464 * checking for unstated dependencies in ‘tests’ ... OK * checking tests ... Running ‘testthat.R’ OK * checking for unstated dependencies in vignettes ... OK * checking package vignettes ... OK * checking running R code from vignettes ... SKIPPED * checking re-building of vignette outputs ... SKIPPED * checking PDF version of manual ... OK * DONE Status: OK
sesame.Rcheck/00install.out
############################################################################## ############################################################################## ### ### Running command: ### ### /home/biocbuild/R/R/bin/R CMD INSTALL sesame ### ############################################################################## ############################################################################## * installing to library ‘/home/biocbuild/R/R-4.5.0/site-library’ * installing *source* package ‘sesame’ ... ** this is package ‘sesame’ version ‘1.27.1’ ** using staged installation ** R ** inst ** byte-compile and prepare package for lazy loading ** help *** installing help indices ** building package indices ** installing vignettes ** testing if installed package can be loaded from temporary location ** testing if installed package can be loaded from final location ** testing if installed package keeps a record of temporary installation path * DONE (sesame)
sesame.Rcheck/tests/testthat.Rout
R version 4.5.0 (2025-04-11) -- "How About a Twenty-Six" Copyright (C) 2025 The R Foundation for Statistical Computing Platform: aarch64-unknown-linux-gnu R is free software and comes with ABSOLUTELY NO WARRANTY. You are welcome to redistribute it under certain conditions. Type 'license()' or 'licence()' for distribution details. R is a collaborative project with many contributors. Type 'contributors()' for more information and 'citation()' on how to cite R or R packages in publications. Type 'demo()' for some demos, 'help()' for on-line help, or 'help.start()' for an HTML browser interface to help. Type 'q()' to quit R. > library(testthat) > library(sesame) Loading required package: sesameData Loading required package: ExperimentHub Loading required package: BiocGenerics Loading required package: generics Attaching package: 'generics' The following objects are masked from 'package:base': as.difftime, as.factor, as.ordered, intersect, is.element, setdiff, setequal, union Attaching package: 'BiocGenerics' The following objects are masked from 'package:stats': IQR, mad, sd, var, xtabs The following objects are masked from 'package:base': Filter, Find, Map, Position, Reduce, anyDuplicated, aperm, append, as.data.frame, basename, cbind, colnames, dirname, do.call, duplicated, eval, evalq, get, grep, grepl, is.unsorted, lapply, mapply, match, mget, order, paste, pmax, pmax.int, pmin, pmin.int, rank, rbind, rownames, sapply, saveRDS, table, tapply, unique, unsplit, which.max, which.min Loading required package: AnnotationHub Loading required package: BiocFileCache Loading required package: dbplyr Loading sesameData. ---------------------------------------------------------- | SEnsible Step-wise Analysis of DNA MEthylation (SeSAMe) | -------------------------------------------------------- | Please cache auxiliary data by "sesameDataCache()". | This needs to be done only once per SeSAMe installation. ---------------------------------------------------------- > > test_check("sesame") [ FAIL 0 | WARN 0 | SKIP 0 | PASS 5 ] > > proc.time() user system elapsed 22.182 0.968 38.951
sesame.Rcheck/sesame-Ex.timings
name | user | system | elapsed | |
BetaValueToMValue | 0 | 0 | 0 | |
DML | 9.250 | 0.355 | 11.280 | |
DMLpredict | 1.460 | 0.040 | 1.514 | |
DMR | 10.641 | 0.323 | 13.464 | |
ELBAR | 16.495 | 0.147 | 28.068 | |
MValueToBetaValue | 0 | 0 | 0 | |
SigDF | 0.357 | 0.020 | 0.758 | |
addMask | 0.087 | 0.000 | 0.175 | |
betasCollapseToPfx | 0.016 | 0.000 | 0.033 | |
bisConversionControl | 4.771 | 0.100 | 5.455 | |
calcEffectSize | 1.374 | 0.019 | 2.738 | |
checkLevels | 3.338 | 0.088 | 5.778 | |
cnSegmentation | 0.348 | 0.011 | 0.471 | |
compareMouseStrainReference | 16.620 | 0.205 | 24.121 | |
compareMouseTissueReference | 0.000 | 0.000 | 0.001 | |
compareReference | 14.188 | 0.160 | 20.409 | |
controls | 2.327 | 0.067 | 2.421 | |
createUCSCtrack | 6.208 | 0.072 | 7.887 | |
deIdentify | 7.294 | 0.076 | 11.214 | |
detectionPnegEcdf | 1.078 | 0.000 | 2.161 | |
diffRefSet | 15.700 | 0.271 | 24.164 | |
dmContrasts | 2.087 | 0.055 | 3.302 | |
dyeBiasCorr | 3.313 | 0.052 | 6.708 | |
dyeBiasCorrMostBalanced | 7.000 | 0.246 | 7.952 | |
dyeBiasL | 2.696 | 0.072 | 3.893 | |
dyeBiasNL | 7.913 | 0.111 | 10.763 | |
estimateLeukocyte | 7.536 | 0.178 | 11.643 | |
formatVCF | 2.404 | 0.036 | 3.642 | |
getAFTypeIbySumAlleles | 2.011 | 0.040 | 4.083 | |
getAFs | 1.432 | 0.028 | 2.545 | |
getBetas | 1.086 | 0.003 | 1.243 | |
getMask | 6.978 | 0.155 | 8.567 | |
getRefSet | 13.272 | 0.147 | 20.803 | |
imputeBetas | 25.745 | 0.840 | 38.478 | |
imputeBetasByGenomicNeighbors | 43.946 | 0.707 | 65.028 | |
imputeBetasMatrixByMean | 0.002 | 0.000 | 0.001 | |
inferEthnicity | 0.001 | 0.000 | 0.001 | |
inferInfiniumIChannel | 0.300 | 0.087 | 0.389 | |
inferSex | 26.822 | 0.325 | 33.525 | |
inferSpecies | 18.781 | 0.576 | 25.008 | |
inferStrain | 9.396 | 0.311 | 14.404 | |
inferTissue | 8.644 | 0.107 | 15.875 | |
initFileSet | 1.320 | 0.056 | 1.504 | |
listAvailableMasks | 1.505 | 0.032 | 2.910 | |
mLiftOver | 0 | 0 | 0 | |
mapFileSet | 0.040 | 0.000 | 0.082 | |
mapToMammal40 | 2.737 | 0.095 | 3.494 | |
matchDesign | 16.460 | 0.118 | 24.165 | |
meanIntensity | 3.134 | 0.123 | 6.464 | |
medianTotalIntensity | 1.108 | 0.024 | 2.265 | |
noMasked | 4.062 | 0.107 | 5.997 | |
noob | 2.564 | 0.088 | 3.867 | |
openSesame | 6.424 | 0.136 | 11.330 | |
openSesameToFile | 1.936 | 0.008 | 3.904 | |
pOOBAH | 1.439 | 0.000 | 1.909 | |
palgen | 0.042 | 0.004 | 0.064 | |
parseGEOsignalMU | 3.194 | 0.079 | 4.125 | |
predictAge | 2.719 | 0.023 | 4.850 | |
predictAgeHorvath353 | 0 | 0 | 0 | |
predictAgeSkinBlood | 0 | 0 | 0 | |
predictMouseAgeInMonth | 0 | 0 | 0 | |
prefixMask | 0.528 | 0.003 | 0.934 | |
prefixMaskButC | 0.150 | 0.001 | 0.150 | |
prefixMaskButCG | 0.064 | 0.000 | 0.064 | |
prepSesame | 4.341 | 0.079 | 7.633 | |
prepSesameList | 0.002 | 0.000 | 0.002 | |
print.DMLSummary | 2.992 | 0.131 | 3.404 | |
print.fileSet | 1.393 | 0.040 | 2.088 | |
probeID_designType | 0 | 0 | 0 | |
probeSuccessRate | 5.559 | 0.115 | 6.003 | |
qualityMask | 1.985 | 0.060 | 2.851 | |
reIdentify | 5.952 | 0.052 | 11.321 | |
readFileSet | 0.053 | 0.004 | 0.057 | |
readIDATpair | 0.122 | 0.000 | 0.122 | |
recommendedMaskNames | 0 | 0 | 0 | |
resetMask | 0.424 | 0.016 | 0.441 | |
scrub | 2.889 | 0.123 | 3.854 | |
scrubSoft | 4.525 | 0.031 | 6.362 | |
sdfPlatform | 0.373 | 0.024 | 0.793 | |
sdf_read_table | 8.196 | 0.234 | 10.961 | |
sdf_write_table | 2.281 | 0.088 | 3.272 | |
searchIDATprefixes | 0.002 | 0.004 | 0.028 | |
sesame-package | 2.739 | 0.056 | 4.758 | |
sesameAnno_attachManifest | 0 | 0 | 0 | |
sesameAnno_buildAddressFile | 0 | 0 | 0 | |
sesameAnno_buildManifestGRanges | 0 | 0 | 0 | |
sesameAnno_download | 0 | 0 | 0 | |
sesameAnno_readManifestTSV | 0 | 0 | 0 | |
sesameQC_calcStats | 22.492 | 0.151 | 34.611 | |
sesameQC_getStats | 2.225 | 0.016 | 2.599 | |
sesameQC_plotBar | 12.597 | 0.329 | 18.700 | |
sesameQC_plotBetaByDesign | 12.782 | 0.099 | 16.155 | |
sesameQC_plotHeatSNPs | 22.802 | 0.251 | 36.487 | |
sesameQC_plotIntensVsBetas | 2.309 | 0.043 | 4.013 | |
sesameQC_plotRedGrnQQ | 1.554 | 0.048 | 3.204 | |
sesameQC_rankStats | 4.032 | 0.048 | 5.596 | |
sesameQCtoDF | 1.921 | 0.008 | 3.042 | |
sesame_checkVersion | 0.005 | 0.000 | 0.008 | |
sesamize | 0.000 | 0.000 | 0.001 | |
setMask | 0.097 | 0.008 | 0.206 | |
signalMU | 1.155 | 0.024 | 1.389 | |
sliceFileSet | 0.040 | 0.000 | 0.074 | |
summaryExtractTest | 2.864 | 0.076 | 3.737 | |
totalIntensities | 2.654 | 0.063 | 3.878 | |
updateSigDF | 3.375 | 0.088 | 4.577 | |
visualizeGene | 9.342 | 0.227 | 11.667 | |
visualizeProbes | 1.655 | 0.008 | 2.551 | |
visualizeRegion | 0.451 | 0.016 | 0.468 | |
visualizeSegments | 1.725 | 0.052 | 1.970 | |