Back to Multiple platform build/check report for BioC 3.23:   simplified   long
ABCDEFGHIJKLMNOPQR[S]TUVWXYZ

This page was generated on 2025-11-22 11:38 -0500 (Sat, 22 Nov 2025).

HostnameOSArch (*)R versionInstalled pkgs
nebbiolo1Linux (Ubuntu 24.04.3 LTS)x86_64R Under development (unstable) (2025-10-20 r88955) -- "Unsuffered Consequences" 4829
lconwaymacOS 12.7.6 Montereyx86_64R Under development (unstable) (2025-10-21 r88958) -- "Unsuffered Consequences" 4603
kjohnson3macOS 13.7.7 Venturaarm64R Under development (unstable) (2025-11-04 r88984) -- "Unsuffered Consequences" 4567
Click on any hostname to see more info about the system (e.g. compilers)      (*) as reported by 'uname -p', except on Windows and Mac OS X

Package 1962/2327HostnameOS / ArchINSTALLBUILDCHECKBUILD BIN
sesame 1.29.0  (landing page)
Wanding Zhou
Snapshot Date: 2025-11-21 13:40 -0500 (Fri, 21 Nov 2025)
git_url: https://git.bioconductor.org/packages/sesame
git_branch: devel
git_last_commit: 92283cb
git_last_commit_date: 2025-10-29 10:46:05 -0500 (Wed, 29 Oct 2025)
nebbiolo1Linux (Ubuntu 24.04.3 LTS) / x86_64  OK    OK    OK  UNNEEDED, same version is already published
lconwaymacOS 12.7.6 Monterey / x86_64  OK    OK    OK    OK  NO, package depends on 'GenomicRanges' which is only available as a source package that needs compilation
kjohnson3macOS 13.7.7 Ventura / arm64  OK    OK    OK    OK  NO, package depends on 'GenomicRanges' which is only available as a source package that needs compilation


CHECK results for sesame on lconway

To the developers/maintainers of the sesame package:
- Allow up to 24 hours (and sometimes 48 hours) for your latest push to git@git.bioconductor.org:packages/sesame.git to reflect on this report. See Troubleshooting Build Report for more information.
- Use the following Renviron settings to reproduce errors and warnings.
- If 'R CMD check' started to fail recently on the Linux builder(s) over a missing dependency, add the missing dependency to 'Suggests:' in your DESCRIPTION file. See Renviron.bioc for more information.

raw results


Summary

Package: sesame
Version: 1.29.0
Command: /Library/Frameworks/R.framework/Resources/bin/R CMD check --install=check:sesame.install-out.txt --library=/Library/Frameworks/R.framework/Resources/library --no-vignettes --timings sesame_1.29.0.tar.gz
StartedAt: 2025-11-22 00:08:31 -0500 (Sat, 22 Nov 2025)
EndedAt: 2025-11-22 00:21:55 -0500 (Sat, 22 Nov 2025)
EllapsedTime: 804.2 seconds
RetCode: 0
Status:   OK  
CheckDir: sesame.Rcheck
Warnings: 0

Command output

##############################################################################
##############################################################################
###
### Running command:
###
###   /Library/Frameworks/R.framework/Resources/bin/R CMD check --install=check:sesame.install-out.txt --library=/Library/Frameworks/R.framework/Resources/library --no-vignettes --timings sesame_1.29.0.tar.gz
###
##############################################################################
##############################################################################


* using log directory ‘/Users/biocbuild/bbs-3.23-bioc/meat/sesame.Rcheck’
* using R Under development (unstable) (2025-10-21 r88958)
* using platform: x86_64-apple-darwin20
* R was compiled by
    Apple clang version 14.0.0 (clang-1400.0.29.202)
    GNU Fortran (GCC) 14.2.0
* running under: macOS Ventura 13.7.8
* using session charset: UTF-8
* using option ‘--no-vignettes’
* checking for file ‘sesame/DESCRIPTION’ ... OK
* checking extension type ... Package
* this is package ‘sesame’ version ‘1.29.0’
* package encoding: UTF-8
* checking package namespace information ... OK
* checking package dependencies ... OK
* checking if this is a source package ... OK
* checking if there is a namespace ... OK
* checking for hidden files and directories ... OK
* checking for portable file names ... OK
* checking for sufficient/correct file permissions ... OK
* checking whether package ‘sesame’ can be installed ... OK
* checking installed package size ... OK
* checking package directory ... OK
* checking ‘build’ directory ... OK
* checking DESCRIPTION meta-information ... OK
* checking top-level files ... OK
* checking for left-over files ... OK
* checking index information ... OK
* checking package subdirectories ... OK
* checking code files for non-ASCII characters ... OK
* checking R files for syntax errors ... OK
* checking whether the package can be loaded ... OK
* checking whether the package can be loaded with stated dependencies ... OK
* checking whether the package can be unloaded cleanly ... OK
* checking whether the namespace can be loaded with stated dependencies ... OK
* checking whether the namespace can be unloaded cleanly ... OK
* checking whether startup messages can be suppressed ... OK
* checking dependencies in R code ... OK
* checking S3 generic/method consistency ... OK
* checking replacement functions ... OK
* checking foreign function calls ... OK
* checking R code for possible problems ... OK
* checking Rd files ... OK
* checking Rd metadata ... OK
* checking Rd cross-references ... OK
* checking for missing documentation entries ... OK
* checking for code/documentation mismatches ... OK
* checking Rd \usage sections ... OK
* checking Rd contents ... OK
* checking for unstated dependencies in examples ... OK
* checking files in ‘vignettes’ ... OK
* checking examples ... OK
Examples with CPU (user + system) or elapsed time > 5s
                                user system elapsed
imputeBetasByGenomicNeighbors 36.364  1.590  38.596
inferSex                      25.022  1.295  26.764
sesameQC_calcStats            22.042  1.887  24.067
imputeBetas                   19.230  1.613  21.326
sesameQC_plotHeatSNPs         19.697  0.986  20.837
ELBAR                         15.665  2.983  19.024
inferSpecies                  16.038  0.747  17.191
getRefSet                     14.535  0.505  15.197
diffRefSet                    13.740  0.675  16.122
sesameQC_plotBar              13.445  0.407  13.954
compareMouseStrainReference   12.400  0.472  13.218
sesameQC_plotBetaByDesign     10.657  1.419  12.190
matchDesign                   11.052  0.736  11.977
visualizeGene                 10.963  0.700  11.770
compareReference              10.703  0.509  13.327
sdf_read_table                 9.561  1.330  11.023
inferStrain                    9.767  0.602  10.458
DMR                            8.653  0.327   9.166
inferTissue                    6.893  1.771   8.754
estimateLeukocyte              7.886  0.681   9.002
getMask                        6.782  0.669  17.089
DML                            6.906  0.359   7.906
dyeBiasCorrMostBalanced        6.860  0.316   7.393
openSesame                     5.888  1.266   7.256
dyeBiasNL                      6.136  0.468   6.687
probeSuccessRate               5.778  0.563   6.413
deIdentify                     5.525  0.349   6.460
createUCSCtrack                4.990  0.313   5.519
bisConversionControl           4.515  0.258   5.025
* checking for unstated dependencies in ‘tests’ ... OK
* checking tests ...
  Running ‘testthat.R’
 OK
* checking for unstated dependencies in vignettes ... OK
* checking package vignettes ... OK
* checking running R code from vignettes ... SKIPPED
* checking re-building of vignette outputs ... SKIPPED
* checking PDF version of manual ... OK
* DONE

Status: OK


Installation output

sesame.Rcheck/00install.out

##############################################################################
##############################################################################
###
### Running command:
###
###   /Library/Frameworks/R.framework/Resources/bin/R CMD INSTALL sesame
###
##############################################################################
##############################################################################


* installing to library ‘/Library/Frameworks/R.framework/Versions/4.6-x86_64/Resources/library’
* installing *source* package ‘sesame’ ...
** this is package ‘sesame’ version ‘1.29.0’
** using staged installation
** R
** inst
** byte-compile and prepare package for lazy loading
** help
*** installing help indices
** building package indices
** installing vignettes
** testing if installed package can be loaded from temporary location
** testing if installed package can be loaded from final location
** testing if installed package keeps a record of temporary installation path
* DONE (sesame)

Tests output

sesame.Rcheck/tests/testthat.Rout


R Under development (unstable) (2025-10-21 r88958) -- "Unsuffered Consequences"
Copyright (C) 2025 The R Foundation for Statistical Computing
Platform: x86_64-apple-darwin20

R is free software and comes with ABSOLUTELY NO WARRANTY.
You are welcome to redistribute it under certain conditions.
Type 'license()' or 'licence()' for distribution details.

R is a collaborative project with many contributors.
Type 'contributors()' for more information and
'citation()' on how to cite R or R packages in publications.

Type 'demo()' for some demos, 'help()' for on-line help, or
'help.start()' for an HTML browser interface to help.
Type 'q()' to quit R.

> library(testthat)
> library(sesame)
Loading required package: sesameData
Loading required package: ExperimentHub
Loading required package: BiocGenerics
Loading required package: generics

Attaching package: 'generics'

The following objects are masked from 'package:base':

    as.difftime, as.factor, as.ordered, intersect, is.element, setdiff,
    setequal, union


Attaching package: 'BiocGenerics'

The following objects are masked from 'package:stats':

    IQR, mad, sd, var, xtabs

The following objects are masked from 'package:base':

    Filter, Find, Map, Position, Reduce, anyDuplicated, aperm, append,
    as.data.frame, basename, cbind, colnames, dirname, do.call,
    duplicated, eval, evalq, get, grep, grepl, is.unsorted, lapply,
    mapply, match, mget, order, paste, pmax, pmax.int, pmin, pmin.int,
    rank, rbind, rownames, sapply, saveRDS, table, tapply, unique,
    unsplit, which.max, which.min

Loading required package: AnnotationHub
Loading required package: BiocFileCache
Loading required package: dbplyr
Loading sesameData.

----------------------------------------------------------
| SEnsible Step-wise Analysis of DNA MEthylation (SeSAMe)
| --------------------------------------------------------
| Please cache auxiliary data by "sesameDataCache()".
| This needs to be done only once per SeSAMe installation.
----------------------------------------------------------

> 
> test_check("sesame")
[ FAIL 0 | WARN 0 | SKIP 0 | PASS 5 ]
> 
> proc.time()
   user  system elapsed 
 21.004   1.092  22.240 

Example timings

sesame.Rcheck/sesame-Ex.timings

nameusersystemelapsed
BetaValueToMValue0.0000.0000.001
DML6.9060.3597.906
DMLpredict1.1380.1161.266
DMR8.6530.3279.166
ELBAR15.665 2.98319.024
MValueToBetaValue0.0000.0000.001
SigDF0.2970.0830.504
addMask0.0790.0010.080
betasCollapseToPfx0.0110.0000.011
bisConversionControl4.5150.2585.025
calcEffectSize1.0550.1491.222
checkLevels3.5640.2644.090
cnSegmentation0.3160.0800.404
compareMouseStrainReference12.400 0.47213.218
compareMouseTissueReference0.0000.0000.001
compareReference10.703 0.50913.327
controls1.7860.2052.139
createUCSCtrack4.9900.3135.519
deIdentify5.5250.3496.460
detectionPnegEcdf1.0630.0091.083
diffRefSet13.740 0.67516.122
dmContrasts1.8030.1972.049
dyeBiasCorr2.7730.2733.117
dyeBiasCorrMostBalanced6.8600.3167.393
dyeBiasL2.4860.2142.761
dyeBiasNL6.1360.4686.687
estimateLeukocyte7.8860.6819.002
formatVCF2.3610.2882.696
getAFTypeIbySumAlleles1.8700.2162.267
getAFs1.1310.1311.288
getBetas1.1430.1421.307
getMask 6.782 0.66917.089
getRefSet14.535 0.50515.197
imputeBetas19.230 1.61321.326
imputeBetasByGenomicNeighbors36.364 1.59038.596
imputeBetasMatrixByMean0.0010.0000.001
inferEthnicity0.0010.0000.001
inferInfiniumIChannel0.4000.4761.475
inferSex25.022 1.29526.764
inferSpecies16.038 0.74717.191
inferStrain 9.767 0.60210.458
inferTissue6.8931.7718.754
initFileSet1.1790.2721.462
listAvailableMasks1.2770.2121.526
mLiftOver0.0000.0010.001
mapFileSet0.0400.0030.072
mapToMammal403.3290.4814.120
matchDesign11.052 0.73611.977
meanIntensity2.7580.5463.347
medianTotalIntensity0.9610.0791.059
noMasked3.7580.2304.033
noob2.1360.0412.191
openSesame5.8881.2667.256
openSesameToFile1.5220.0191.552
pOOBAH1.4530.0141.480
palgen0.0470.0110.058
parseGEOsignalMU3.1060.4543.597
predictAge2.3210.1642.508
predictAgeHorvath3530.0000.0010.000
predictAgeSkinBlood000
predictMouseAgeInMonth000
prefixMask0.7620.0050.772
prefixMaskButC0.2000.0020.201
prefixMaskButCG0.0860.0010.086
prepSesame3.8340.1454.008
prepSesameList0.0020.0010.003
print.DMLSummary3.3230.9874.365
print.fileSet1.1990.2391.447
probeID_designType000
probeSuccessRate5.7780.5636.413
qualityMask2.3490.4072.785
reIdentify4.7330.2284.992
readFileSet0.0620.0030.065
readIDATpair0.1490.0030.152
recommendedMaskNames0.0010.0000.001
resetMask0.4140.0580.475
scrub2.3260.0282.365
scrubSoft3.3640.6354.039
sdfPlatform0.2990.0640.366
sdf_read_table 9.561 1.33011.023
sdf_write_table2.5120.1942.740
searchIDATprefixes0.0050.0030.010
sesame-package2.0230.1942.236
sesameAnno_attachManifest0.0010.0000.000
sesameAnno_buildAddressFile000
sesameAnno_buildManifestGRanges000
sesameAnno_download0.0000.0010.000
sesameAnno_readManifestTSV000
sesameQC_calcStats22.042 1.88724.067
sesameQC_getStats2.2870.4022.708
sesameQC_plotBar13.445 0.40713.954
sesameQC_plotBetaByDesign10.657 1.41912.190
sesameQC_plotHeatSNPs19.697 0.98620.837
sesameQC_plotIntensVsBetas2.7240.8113.579
sesameQC_plotRedGrnQQ1.1460.1611.330
sesameQC_rankStats3.5760.6034.219
sesameQCtoDF2.1290.0142.153
sesame_checkVersion0.0040.0010.004
sesamize000
setMask0.1020.0010.104
signalMU0.8460.0510.904
sliceFileSet0.0350.0030.038
summaryExtractTest3.1031.0414.199
totalIntensities2.5700.3562.962
updateSigDF3.3600.4183.825
visualizeGene10.963 0.70011.770
visualizeProbes1.2900.0421.340
visualizeRegion0.3600.0050.368
visualizeSegments1.4840.5652.090