| Back to Multiple platform build/check report for BioC 3.22: simplified long |
|
This page was generated on 2025-10-25 12:06 -0400 (Sat, 25 Oct 2025).
| Hostname | OS | Arch (*) | R version | Installed pkgs |
|---|---|---|---|---|
| nebbiolo2 | Linux (Ubuntu 24.04.3 LTS) | x86_64 | 4.5.1 Patched (2025-08-23 r88802) -- "Great Square Root" | 4901 |
| lconway | macOS 12.7.6 Monterey | x86_64 | 4.5.1 Patched (2025-09-10 r88807) -- "Great Square Root" | 4691 |
| kjohnson3 | macOS 13.7.7 Ventura | arm64 | 4.5.1 Patched (2025-09-10 r88807) -- "Great Square Root" | 4637 |
| taishan | Linux (openEuler 24.03 LTS) | aarch64 | 4.5.0 (2025-04-11) -- "How About a Twenty-Six" | 4658 |
| Click on any hostname to see more info about the system (e.g. compilers) (*) as reported by 'uname -p', except on Windows and Mac OS X | ||||
| Package 1992/2361 | Hostname | OS / Arch | INSTALL | BUILD | CHECK | BUILD BIN | ||||||||
| sesame 1.27.1 (landing page) Wanding Zhou
| nebbiolo2 | Linux (Ubuntu 24.04.3 LTS) / x86_64 | OK | OK | OK | |||||||||
| lconway | macOS 12.7.6 Monterey / x86_64 | OK | OK | OK | OK | |||||||||
| kjohnson3 | macOS 13.7.7 Ventura / arm64 | OK | OK | OK | OK | |||||||||
| taishan | Linux (openEuler 24.03 LTS) / aarch64 | OK | NA | NA | ||||||||||
|
To the developers/maintainers of the sesame package: - Allow up to 24 hours (and sometimes 48 hours) for your latest push to git@git.bioconductor.org:packages/sesame.git to reflect on this report. See Troubleshooting Build Report for more information. - Use the following Renviron settings to reproduce errors and warnings. - If 'R CMD check' started to fail recently on the Linux builder(s) over a missing dependency, add the missing dependency to 'Suggests:' in your DESCRIPTION file. See Renviron.bioc for more information. |
| Package: sesame |
| Version: 1.27.1 |
| Command: /Library/Frameworks/R.framework/Resources/bin/R CMD check --install=check:sesame.install-out.txt --library=/Library/Frameworks/R.framework/Resources/library --no-vignettes --timings sesame_1.27.1.tar.gz |
| StartedAt: 2025-10-24 22:04:34 -0400 (Fri, 24 Oct 2025) |
| EndedAt: 2025-10-24 22:09:12 -0400 (Fri, 24 Oct 2025) |
| EllapsedTime: 278.5 seconds |
| RetCode: 0 |
| Status: OK |
| CheckDir: sesame.Rcheck |
| Warnings: 0 |
##############################################################################
##############################################################################
###
### Running command:
###
### /Library/Frameworks/R.framework/Resources/bin/R CMD check --install=check:sesame.install-out.txt --library=/Library/Frameworks/R.framework/Resources/library --no-vignettes --timings sesame_1.27.1.tar.gz
###
##############################################################################
##############################################################################
* using log directory ‘/Users/biocbuild/bbs-3.22-bioc/meat/sesame.Rcheck’
* using R version 4.5.1 Patched (2025-09-10 r88807)
* using platform: aarch64-apple-darwin20
* R was compiled by
Apple clang version 16.0.0 (clang-1600.0.26.6)
GNU Fortran (GCC) 14.2.0
* running under: macOS Ventura 13.7.7
* using session charset: UTF-8
* using option ‘--no-vignettes’
* checking for file ‘sesame/DESCRIPTION’ ... OK
* checking extension type ... Package
* this is package ‘sesame’ version ‘1.27.1’
* package encoding: UTF-8
* checking package namespace information ... OK
* checking package dependencies ... OK
* checking if this is a source package ... OK
* checking if there is a namespace ... OK
* checking for hidden files and directories ... OK
* checking for portable file names ... OK
* checking for sufficient/correct file permissions ... OK
* checking whether package ‘sesame’ can be installed ... OK
* checking installed package size ... OK
* checking package directory ... OK
* checking ‘build’ directory ... OK
* checking DESCRIPTION meta-information ... OK
* checking top-level files ... OK
* checking for left-over files ... OK
* checking index information ... OK
* checking package subdirectories ... OK
* checking code files for non-ASCII characters ... OK
* checking R files for syntax errors ... OK
* checking whether the package can be loaded ... OK
* checking whether the package can be loaded with stated dependencies ... OK
* checking whether the package can be unloaded cleanly ... OK
* checking whether the namespace can be loaded with stated dependencies ... OK
* checking whether the namespace can be unloaded cleanly ... OK
* checking whether startup messages can be suppressed ... OK
* checking dependencies in R code ... OK
* checking S3 generic/method consistency ... OK
* checking replacement functions ... OK
* checking foreign function calls ... OK
* checking R code for possible problems ... OK
* checking Rd files ... OK
* checking Rd metadata ... OK
* checking Rd cross-references ... OK
* checking for missing documentation entries ... OK
* checking for code/documentation mismatches ... OK
* checking Rd \usage sections ... OK
* checking Rd contents ... OK
* checking for unstated dependencies in examples ... OK
* checking files in ‘vignettes’ ... OK
* checking examples ... OK
Examples with CPU (user + system) or elapsed time > 5s
user system elapsed
imputeBetasByGenomicNeighbors 13.860 0.538 14.417
inferSex 9.193 0.466 9.662
sesameQC_calcStats 8.670 0.815 9.582
sesameQC_plotHeatSNPs 8.126 0.722 8.865
imputeBetas 7.296 0.587 7.923
inferSpecies 6.966 0.297 7.334
ELBAR 5.942 1.174 7.155
diffRefSet 6.427 0.291 6.774
sesameQC_plotBar 6.393 0.228 6.678
getRefSet 5.300 0.174 5.485
* checking for unstated dependencies in ‘tests’ ... OK
* checking tests ...
Running ‘testthat.R’
OK
* checking for unstated dependencies in vignettes ... OK
* checking package vignettes ... OK
* checking running R code from vignettes ... SKIPPED
* checking re-building of vignette outputs ... SKIPPED
* checking PDF version of manual ... OK
* DONE
Status: OK
sesame.Rcheck/00install.out
############################################################################## ############################################################################## ### ### Running command: ### ### /Library/Frameworks/R.framework/Resources/bin/R CMD INSTALL sesame ### ############################################################################## ############################################################################## * installing to library ‘/Library/Frameworks/R.framework/Versions/4.5-arm64/Resources/library’ * installing *source* package ‘sesame’ ... ** this is package ‘sesame’ version ‘1.27.1’ ** using staged installation ** R ** inst ** byte-compile and prepare package for lazy loading ** help *** installing help indices ** building package indices ** installing vignettes ** testing if installed package can be loaded from temporary location ** testing if installed package can be loaded from final location ** testing if installed package keeps a record of temporary installation path * DONE (sesame)
sesame.Rcheck/tests/testthat.Rout
R version 4.5.1 Patched (2025-09-10 r88807) -- "Great Square Root"
Copyright (C) 2025 The R Foundation for Statistical Computing
Platform: aarch64-apple-darwin20
R is free software and comes with ABSOLUTELY NO WARRANTY.
You are welcome to redistribute it under certain conditions.
Type 'license()' or 'licence()' for distribution details.
R is a collaborative project with many contributors.
Type 'contributors()' for more information and
'citation()' on how to cite R or R packages in publications.
Type 'demo()' for some demos, 'help()' for on-line help, or
'help.start()' for an HTML browser interface to help.
Type 'q()' to quit R.
> library(testthat)
> library(sesame)
Loading required package: sesameData
Loading required package: ExperimentHub
Loading required package: BiocGenerics
Loading required package: generics
Attaching package: 'generics'
The following objects are masked from 'package:base':
as.difftime, as.factor, as.ordered, intersect, is.element, setdiff,
setequal, union
Attaching package: 'BiocGenerics'
The following objects are masked from 'package:stats':
IQR, mad, sd, var, xtabs
The following objects are masked from 'package:base':
Filter, Find, Map, Position, Reduce, anyDuplicated, aperm, append,
as.data.frame, basename, cbind, colnames, dirname, do.call,
duplicated, eval, evalq, get, grep, grepl, is.unsorted, lapply,
mapply, match, mget, order, paste, pmax, pmax.int, pmin, pmin.int,
rank, rbind, rownames, sapply, saveRDS, table, tapply, unique,
unsplit, which.max, which.min
Loading required package: AnnotationHub
Loading required package: BiocFileCache
Loading required package: dbplyr
Loading sesameData.
----------------------------------------------------------
| SEnsible Step-wise Analysis of DNA MEthylation (SeSAMe)
| --------------------------------------------------------
| Please cache auxiliary data by "sesameDataCache()".
| This needs to be done only once per SeSAMe installation.
----------------------------------------------------------
>
> test_check("sesame")
[ FAIL 0 | WARN 0 | SKIP 0 | PASS 5 ]
>
> proc.time()
user system elapsed
7.968 0.275 8.293
sesame.Rcheck/sesame-Ex.timings
| name | user | system | elapsed | |
| BetaValueToMValue | 0 | 0 | 0 | |
| DML | 2.467 | 0.086 | 2.559 | |
| DMLpredict | 0.385 | 0.033 | 0.420 | |
| DMR | 3.065 | 0.070 | 3.137 | |
| ELBAR | 5.942 | 1.174 | 7.155 | |
| MValueToBetaValue | 0 | 0 | 0 | |
| SigDF | 0.096 | 0.021 | 0.127 | |
| addMask | 0.044 | 0.006 | 0.051 | |
| betasCollapseToPfx | 0.005 | 0.000 | 0.004 | |
| bisConversionControl | 2.102 | 0.052 | 2.154 | |
| calcEffectSize | 0.332 | 0.029 | 0.361 | |
| checkLevels | 1.246 | 0.080 | 1.327 | |
| cnSegmentation | 0.081 | 0.021 | 0.102 | |
| compareMouseStrainReference | 3.564 | 0.187 | 3.754 | |
| compareMouseTissueReference | 0 | 0 | 0 | |
| compareReference | 3.932 | 0.182 | 4.127 | |
| controls | 0.715 | 0.073 | 0.799 | |
| createUCSCtrack | 2.266 | 0.141 | 2.419 | |
| deIdentify | 1.750 | 0.078 | 1.832 | |
| detectionPnegEcdf | 0.425 | 0.010 | 0.435 | |
| diffRefSet | 6.427 | 0.291 | 6.774 | |
| dmContrasts | 0.699 | 0.081 | 0.790 | |
| dyeBiasCorr | 0.951 | 0.095 | 1.061 | |
| dyeBiasCorrMostBalanced | 3.266 | 0.090 | 3.387 | |
| dyeBiasL | 0.876 | 0.042 | 0.918 | |
| dyeBiasNL | 1.995 | 0.172 | 2.168 | |
| estimateLeukocyte | 2.595 | 0.147 | 2.744 | |
| formatVCF | 0.743 | 0.090 | 0.832 | |
| getAFTypeIbySumAlleles | 0.543 | 0.131 | 0.695 | |
| getAFs | 0.390 | 0.048 | 0.437 | |
| getBetas | 0.272 | 0.034 | 0.307 | |
| getMask | 2.097 | 0.248 | 2.351 | |
| getRefSet | 5.300 | 0.174 | 5.485 | |
| imputeBetas | 7.296 | 0.587 | 7.923 | |
| imputeBetasByGenomicNeighbors | 13.860 | 0.538 | 14.417 | |
| imputeBetasMatrixByMean | 0 | 0 | 0 | |
| inferEthnicity | 0.000 | 0.000 | 0.001 | |
| inferInfiniumIChannel | 0.140 | 0.153 | 0.298 | |
| inferSex | 9.193 | 0.466 | 9.662 | |
| inferSpecies | 6.966 | 0.297 | 7.334 | |
| inferStrain | 2.897 | 0.278 | 3.210 | |
| inferTissue | 2.520 | 0.345 | 2.883 | |
| initFileSet | 0.338 | 0.043 | 0.382 | |
| listAvailableMasks | 0.368 | 0.048 | 0.424 | |
| mLiftOver | 0.000 | 0.001 | 0.000 | |
| mapFileSet | 0.016 | 0.002 | 0.019 | |
| mapToMammal40 | 0.744 | 0.115 | 0.862 | |
| matchDesign | 4.489 | 0.294 | 4.806 | |
| meanIntensity | 0.906 | 0.106 | 1.012 | |
| medianTotalIntensity | 0.287 | 0.052 | 0.342 | |
| noMasked | 1.372 | 0.152 | 1.540 | |
| noob | 0.823 | 0.109 | 0.936 | |
| openSesame | 1.751 | 0.226 | 1.995 | |
| openSesameToFile | 0.596 | 0.058 | 0.655 | |
| pOOBAH | 0.519 | 0.028 | 0.549 | |
| palgen | 0.014 | 0.003 | 0.018 | |
| parseGEOsignalMU | 1.217 | 0.096 | 1.325 | |
| predictAge | 1.034 | 0.073 | 1.128 | |
| predictAgeHorvath353 | 0 | 0 | 0 | |
| predictAgeSkinBlood | 0 | 0 | 0 | |
| predictMouseAgeInMonth | 0 | 0 | 0 | |
| prefixMask | 0.260 | 0.002 | 0.262 | |
| prefixMaskButC | 0.075 | 0.001 | 0.075 | |
| prefixMaskButCG | 0.032 | 0.001 | 0.032 | |
| prepSesame | 1.259 | 0.117 | 1.409 | |
| prepSesameList | 0.000 | 0.000 | 0.001 | |
| print.DMLSummary | 1.144 | 0.128 | 1.287 | |
| print.fileSet | 0.335 | 0.040 | 0.378 | |
| probeID_designType | 0 | 0 | 0 | |
| probeSuccessRate | 1.915 | 0.140 | 2.061 | |
| qualityMask | 0.524 | 0.077 | 0.606 | |
| reIdentify | 1.492 | 0.065 | 1.559 | |
| readFileSet | 0.027 | 0.003 | 0.031 | |
| readIDATpair | 0.041 | 0.003 | 0.044 | |
| recommendedMaskNames | 0 | 0 | 0 | |
| resetMask | 0.106 | 0.022 | 0.130 | |
| scrub | 0.981 | 0.156 | 1.146 | |
| scrubSoft | 1.359 | 0.262 | 1.625 | |
| sdfPlatform | 0.085 | 0.013 | 0.097 | |
| sdf_read_table | 3.342 | 0.198 | 3.587 | |
| sdf_write_table | 0.940 | 0.043 | 0.987 | |
| searchIDATprefixes | 0.002 | 0.001 | 0.003 | |
| sesame-package | 0.852 | 0.098 | 0.953 | |
| sesameAnno_attachManifest | 0.000 | 0.000 | 0.001 | |
| sesameAnno_buildAddressFile | 0.000 | 0.001 | 0.000 | |
| sesameAnno_buildManifestGRanges | 0 | 0 | 0 | |
| sesameAnno_download | 0.000 | 0.000 | 0.001 | |
| sesameAnno_readManifestTSV | 0 | 0 | 0 | |
| sesameQC_calcStats | 8.670 | 0.815 | 9.582 | |
| sesameQC_getStats | 0.933 | 0.061 | 0.993 | |
| sesameQC_plotBar | 6.393 | 0.228 | 6.678 | |
| sesameQC_plotBetaByDesign | 3.686 | 0.629 | 4.331 | |
| sesameQC_plotHeatSNPs | 8.126 | 0.722 | 8.865 | |
| sesameQC_plotIntensVsBetas | 0.672 | 0.135 | 0.808 | |
| sesameQC_plotRedGrnQQ | 0.450 | 0.070 | 0.521 | |
| sesameQC_rankStats | 1.145 | 0.181 | 1.327 | |
| sesameQCtoDF | 0.822 | 0.033 | 0.855 | |
| sesame_checkVersion | 0.001 | 0.000 | 0.002 | |
| sesamize | 0.000 | 0.001 | 0.000 | |
| setMask | 0.023 | 0.000 | 0.023 | |
| signalMU | 0.371 | 0.102 | 0.473 | |
| sliceFileSet | 0.016 | 0.001 | 0.017 | |
| summaryExtractTest | 1.057 | 0.112 | 1.177 | |
| totalIntensities | 0.860 | 0.125 | 0.989 | |
| updateSigDF | 0.978 | 0.120 | 1.099 | |
| visualizeGene | 3.506 | 0.229 | 3.753 | |
| visualizeProbes | 0.378 | 0.013 | 0.396 | |
| visualizeRegion | 0.116 | 0.009 | 0.126 | |
| visualizeSegments | 0.816 | 0.077 | 0.899 | |