Back to Build/check report for BioC 3.23:   simplified   long
ABCDEFGHIJKLMNOPQR[S]TUVWXYZ

This page was generated on 2025-10-29 11:32 -0400 (Wed, 29 Oct 2025).

HostnameOSArch (*)R versionInstalled pkgs
nebbiolo1Linux (Ubuntu 24.04.3 LTS)x86_64R Under development (unstable) (2025-10-20 r88955) -- "Unsuffered Consequences" 4427
Click on any hostname to see more info about the system (e.g. compilers)      (*) as reported by 'uname -p', except on Windows and Mac OS X

Package 1923/2321HostnameOS / ArchINSTALLBUILDCHECKBUILD BIN
scRepertoire 2.5.8  (landing page)
Nick Borcherding
Snapshot Date: 2025-10-28 13:40 -0400 (Tue, 28 Oct 2025)
git_url: https://git.bioconductor.org/packages/scRepertoire
git_branch: devel
git_last_commit: 74605e1
git_last_commit_date: 2025-10-17 11:17:01 -0400 (Fri, 17 Oct 2025)
nebbiolo1Linux (Ubuntu 24.04.3 LTS) / x86_64  OK    OK    OK  NO, package depends on 'immApex' which is not available


CHECK results for scRepertoire on nebbiolo1

To the developers/maintainers of the scRepertoire package:
- Allow up to 24 hours (and sometimes 48 hours) for your latest push to git@git.bioconductor.org:packages/scRepertoire.git to reflect on this report. See Troubleshooting Build Report for more information.
- Use the following Renviron settings to reproduce errors and warnings.
- If 'R CMD check' started to fail recently on the Linux builder(s) over a missing dependency, add the missing dependency to 'Suggests:' in your DESCRIPTION file. See Renviron.bioc for more information.

raw results


Summary

Package: scRepertoire
Version: 2.5.8
Command: /home/biocbuild/bbs-3.23-bioc/R/bin/R CMD check --install=check:scRepertoire.install-out.txt --library=/home/biocbuild/bbs-3.23-bioc/R/site-library --timings scRepertoire_2.5.8.tar.gz
StartedAt: 2025-10-29 00:27:35 -0400 (Wed, 29 Oct 2025)
EndedAt: 2025-10-29 00:40:01 -0400 (Wed, 29 Oct 2025)
EllapsedTime: 746.0 seconds
RetCode: 0
Status:   OK  
CheckDir: scRepertoire.Rcheck
Warnings: 0

Command output

##############################################################################
##############################################################################
###
### Running command:
###
###   /home/biocbuild/bbs-3.23-bioc/R/bin/R CMD check --install=check:scRepertoire.install-out.txt --library=/home/biocbuild/bbs-3.23-bioc/R/site-library --timings scRepertoire_2.5.8.tar.gz
###
##############################################################################
##############################################################################


* using log directory ‘/home/biocbuild/bbs-3.23-bioc/meat/scRepertoire.Rcheck’
* using R Under development (unstable) (2025-10-20 r88955)
* using platform: x86_64-pc-linux-gnu
* R was compiled by
    gcc (Ubuntu 13.3.0-6ubuntu2~24.04) 13.3.0
    GNU Fortran (Ubuntu 13.3.0-6ubuntu2~24.04) 13.3.0
* running under: Ubuntu 24.04.3 LTS
* using session charset: UTF-8
* checking for file ‘scRepertoire/DESCRIPTION’ ... OK
* this is package ‘scRepertoire’ version ‘2.5.8’
* package encoding: UTF-8
* checking package namespace information ... OK
* checking package dependencies ... OK
* checking if this is a source package ... OK
* checking if there is a namespace ... OK
* checking for hidden files and directories ... OK
* checking for portable file names ... OK
* checking for sufficient/correct file permissions ... OK
* checking whether package ‘scRepertoire’ can be installed ... OK
* used C++ compiler: ‘g++ (Ubuntu 13.3.0-6ubuntu2~24.04) 13.3.0’
* checking installed package size ... OK
* checking package directory ... OK
* checking ‘build’ directory ... OK
* checking DESCRIPTION meta-information ... OK
* checking top-level files ... OK
* checking for left-over files ... OK
* checking index information ... OK
* checking package subdirectories ... OK
* checking code files for non-ASCII characters ... OK
* checking R files for syntax errors ... OK
* checking whether the package can be loaded ... OK
* checking whether the package can be loaded with stated dependencies ... OK
* checking whether the package can be unloaded cleanly ... OK
* checking whether the namespace can be loaded with stated dependencies ... OK
* checking whether the namespace can be unloaded cleanly ... OK
* checking loading without being on the library search path ... OK
* checking whether startup messages can be suppressed ... OK
* checking dependencies in R code ... OK
* checking S3 generic/method consistency ... OK
* checking replacement functions ... OK
* checking foreign function calls ... OK
* checking R code for possible problems ... NOTE
clonalSizeDistribution: no visible binding for global variable ‘y’
combineExpression: no visible binding for global variable
  ‘clonalFrequency’
Undefined global functions or variables:
  clonalFrequency y
* checking Rd files ... OK
* checking Rd metadata ... OK
* checking Rd cross-references ... NOTE
Non-topic package-anchored link(s) in Rd file 'StartracDiversity.Rd':
  ‘[grDevices:palettes]{hcl.pals}’

Non-topic package-anchored link(s) in Rd file 'alluvialClones.Rd':
  ‘[grDevices:palettes]{hcl.pals}’

Non-topic package-anchored link(s) in Rd file 'clonalAbundance.Rd':
  ‘[grDevices:palettes]{hcl.pals}’

Non-topic package-anchored link(s) in Rd file 'clonalBias.Rd':
  ‘[grDevices:palettes]{hcl.pals}’

Non-topic package-anchored link(s) in Rd file 'clonalDiversity.Rd':
  ‘[grDevices:palettes]{hcl.pals}’

Non-topic package-anchored link(s) in Rd file 'clonalHomeostasis.Rd':
  ‘[grDevices:palettes]{hcl.pals}’

Non-topic package-anchored link(s) in Rd file 'clonalLength.Rd':
  ‘[grDevices:palettes]{hcl.pals}’

Non-topic package-anchored link(s) in Rd file 'clonalNetwork.Rd':
  ‘[grDevices:palettes]{hcl.pals}’

Non-topic package-anchored link(s) in Rd file 'clonalOccupy.Rd':
  ‘[grDevices:palettes]{hcl.pals}’

Non-topic package-anchored link(s) in Rd file 'clonalOverlap.Rd':
  ‘[grDevices:palettes]{hcl.pals}’

Non-topic package-anchored link(s) in Rd file 'clonalProportion.Rd':
  ‘[grDevices:palettes]{hcl.pals}’

Non-topic package-anchored link(s) in Rd file 'clonalQuant.Rd':
  ‘[grDevices:palettes]{hcl.pals}’

Non-topic package-anchored link(s) in Rd file 'clonalRarefaction.Rd':
  ‘[grDevices:palettes]{hcl.pals}’

Non-topic package-anchored link(s) in Rd file 'clonalScatter.Rd':
  ‘[grDevices:palettes]{hcl.pals}’

Non-topic package-anchored link(s) in Rd file 'clonalSizeDistribution.Rd':
  ‘[grDevices:palettes]{hcl.pals}’

Non-topic package-anchored link(s) in Rd file 'percentAA.Rd':
  ‘[grDevices:palettes]{hcl.pals}’

Non-topic package-anchored link(s) in Rd file 'percentGeneUsage.Rd':
  ‘[grDevices:palettes]{hcl.pals}’

Non-topic package-anchored link(s) in Rd file 'percentKmer.Rd':
  ‘[grDevices:palettes]{hcl.pals}’

Non-topic package-anchored link(s) in Rd file 'positionalEntropy.Rd':
  ‘[grDevices:palettes]{hcl.pals}’

Non-topic package-anchored link(s) in Rd file 'positionalProperty.Rd':
  ‘[grDevices:palettes]{hcl.pals}’

See section 'Cross-references' in the 'Writing R Extensions' manual.
* checking for missing documentation entries ... OK
* checking for code/documentation mismatches ... OK
* checking Rd \usage sections ... OK
* checking Rd contents ... OK
* checking for unstated dependencies in examples ... OK
* checking contents of ‘data’ directory ... OK
* checking data for non-ASCII characters ... OK
* checking LazyData ... OK
* checking data for ASCII and uncompressed saves ... OK
* checking line endings in C/C++/Fortran sources/headers ... OK
* checking compiled code ... INFO
Note: information on .o files is not available
* checking files in ‘vignettes’ ... OK
* checking examples ... OK
Examples with CPU (user + system) or elapsed time > 5s
                        user system elapsed
StartracDiversity      9.499  0.395   9.895
clonalCluster          8.396  0.265   8.014
clonalSizeDistribution 7.455  0.047   7.502
percentGeneUsage       6.768  0.415   7.184
* checking for unstated dependencies in ‘tests’ ... OK
* checking tests ...
  Running ‘spelling.R’
  Running ‘testthat.R’
 OK
* checking for unstated dependencies in vignettes ... OK
* checking package vignettes ... OK
* checking re-building of vignette outputs ... OK
* checking PDF version of manual ... OK
* DONE

Status: 2 NOTEs
See
  ‘/home/biocbuild/bbs-3.23-bioc/meat/scRepertoire.Rcheck/00check.log’
for details.


Installation output

scRepertoire.Rcheck/00install.out

##############################################################################
##############################################################################
###
### Running command:
###
###   /home/biocbuild/bbs-3.23-bioc/R/bin/R CMD INSTALL scRepertoire
###
##############################################################################
##############################################################################


* installing to library ‘/home/biocbuild/bbs-3.23-bioc/R/site-library’
* installing *source* package ‘scRepertoire’ ...
** this is package ‘scRepertoire’ version ‘2.5.8’
** using staged installation
** libs
using C++ compiler: ‘g++ (Ubuntu 13.3.0-6ubuntu2~24.04) 13.3.0’
g++ -std=gnu++17 -I"/home/biocbuild/bbs-3.23-bioc/R/include" -DNDEBUG  -I'/home/biocbuild/bbs-3.23-bioc/R/site-library/Rcpp/include' -I/usr/local/include    -fpic  -g -O2  -Wall -Werror=format-security  -c RcppExports.cpp -o RcppExports.o
g++ -std=gnu++17 -I"/home/biocbuild/bbs-3.23-bioc/R/include" -DNDEBUG  -I'/home/biocbuild/bbs-3.23-bioc/R/site-library/Rcpp/include' -I/usr/local/include    -fpic  -g -O2  -Wall -Werror=format-security  -c constructConDfAndParseBCR.cpp -o constructConDfAndParseBCR.o
g++ -std=gnu++17 -I"/home/biocbuild/bbs-3.23-bioc/R/include" -DNDEBUG  -I'/home/biocbuild/bbs-3.23-bioc/R/site-library/Rcpp/include' -I/usr/local/include    -fpic  -g -O2  -Wall -Werror=format-security  -c constructConDfAndparseTCR.cpp -o constructConDfAndparseTCR.o
g++ -std=gnu++17 -shared -L/home/biocbuild/bbs-3.23-bioc/R/lib -L/usr/local/lib -o scRepertoire.so RcppExports.o constructConDfAndParseBCR.o constructConDfAndparseTCR.o -L/home/biocbuild/bbs-3.23-bioc/R/lib -lR
installing to /home/biocbuild/bbs-3.23-bioc/R/site-library/00LOCK-scRepertoire/00new/scRepertoire/libs
** R
** data
*** moving datasets to lazyload DB
** inst
** byte-compile and prepare package for lazy loading
Note: wrong number of arguments to 'floor' 
Note: wrong number of arguments to 'floor' 
** help
*** installing help indices
*** copying figures
** building package indices
** installing vignettes
** testing if installed package can be loaded from temporary location
** checking absolute paths in shared objects and dynamic libraries
** testing if installed package can be loaded from final location
** testing if installed package keeps a record of temporary installation path
* DONE (scRepertoire)

Tests output

scRepertoire.Rcheck/tests/spelling.Rout


R Under development (unstable) (2025-10-20 r88955) -- "Unsuffered Consequences"
Copyright (C) 2025 The R Foundation for Statistical Computing
Platform: x86_64-pc-linux-gnu

R is free software and comes with ABSOLUTELY NO WARRANTY.
You are welcome to redistribute it under certain conditions.
Type 'license()' or 'licence()' for distribution details.

R is a collaborative project with many contributors.
Type 'contributors()' for more information and
'citation()' on how to cite R or R packages in publications.

Type 'demo()' for some demos, 'help()' for on-line help, or
'help.start()' for an HTML browser interface to help.
Type 'q()' to quit R.

> if(requireNamespace('spelling', quietly = TRUE))
+   spelling::spell_check_test(vignettes = TRUE, error = FALSE,
+                              skip_on_cran = TRUE)
All Done!
> 
> proc.time()
   user  system elapsed 
  0.137   0.040   0.166 

scRepertoire.Rcheck/tests/testthat.Rout


R Under development (unstable) (2025-10-20 r88955) -- "Unsuffered Consequences"
Copyright (C) 2025 The R Foundation for Statistical Computing
Platform: x86_64-pc-linux-gnu

R is free software and comes with ABSOLUTELY NO WARRANTY.
You are welcome to redistribute it under certain conditions.
Type 'license()' or 'licence()' for distribution details.

R is a collaborative project with many contributors.
Type 'contributors()' for more information and
'citation()' on how to cite R or R packages in publications.

Type 'demo()' for some demos, 'help()' for on-line help, or
'help.start()' for an HTML browser interface to help.
Type 'q()' to quit R.

> # This file is part of the standard setup for testthat.
> # It is recommended that you do not modify it.
> #
> # Where should you do additional test configuration?
> # Learn more about the roles of various files in:
> # * https://r-pkgs.org/tests.html
> # * https://testthat.r-lib.org/reference/test_package.html#special-files
> 
> library(testthat)
> library(scRepertoire)
Loading required package: ggplot2
> 
> test_check("scRepertoire")

Attaching package: 'igraph'

The following object is masked from 'package:testthat':

    compare

The following objects are masked from 'package:stats':

    decompose, spectrum

The following object is masked from 'package:base':

    union

[ FAIL 0 | WARN 1 | SKIP 0 | PASS 781 ]

[ FAIL 0 | WARN 1 | SKIP 0 | PASS 781 ]
> 
> proc.time()
   user  system elapsed 
185.956   3.996 193.422 

Example timings

scRepertoire.Rcheck/scRepertoire-Ex.timings

nameusersystemelapsed
StartracDiversity9.4990.3959.895
addVariable0.8940.0140.908
alluvialClones3.7210.1683.890
annotateInvariant1.5510.0231.574
clonalAbundance2.4300.0822.513
clonalBias1.7840.0181.801
clonalCluster8.3960.2658.014
clonalCompare2.4190.0462.466
clonalDiversity1.5500.0121.563
clonalHomeostasis0.9790.0010.980
clonalLength1.6010.0471.648
clonalNetwork0.0010.0000.001
clonalOccupy1.5460.0051.551
clonalOverlap1.0660.0431.109
clonalOverlay1.5500.0091.559
clonalProportion1.1330.0101.143
clonalQuant1.0510.0241.074
clonalRarefaction3.8440.0223.865
clonalScatter1.1310.0101.141
clonalSizeDistribution7.4550.0477.502
combineBCR1.7230.0211.954
combineExpression1.1830.0331.216
combineTCR0.7700.0620.833
createHTOContigList0.0000.0000.001
exportClones000
getCirclize1.3390.0531.392
highlightClones1.4190.1191.538
loadContigs0.5100.0592.006
percentAA2.1210.1882.310
percentGeneUsage6.7680.4157.184
percentKmer1.5710.1381.708
positionalEntropy1.4220.0491.472
positionalProperty2.3650.0912.457
quietVDJgenes0.0790.0080.087
subsetClones0.7420.0510.794