| Back to Multiple platform build/check report for BioC 3.22: simplified long |
|
This page was generated on 2025-10-23 12:07 -0400 (Thu, 23 Oct 2025).
| Hostname | OS | Arch (*) | R version | Installed pkgs |
|---|---|---|---|---|
| nebbiolo2 | Linux (Ubuntu 24.04.3 LTS) | x86_64 | 4.5.1 Patched (2025-08-23 r88802) -- "Great Square Root" | 4894 |
| lconway | macOS 12.7.6 Monterey | x86_64 | 4.5.1 Patched (2025-09-10 r88807) -- "Great Square Root" | 4684 |
| kjohnson3 | macOS 13.7.7 Ventura | arm64 | 4.5.1 Patched (2025-09-10 r88807) -- "Great Square Root" | 4629 |
| taishan | Linux (openEuler 24.03 LTS) | aarch64 | 4.5.0 (2025-04-11) -- "How About a Twenty-Six" | 4642 |
| Click on any hostname to see more info about the system (e.g. compilers) (*) as reported by 'uname -p', except on Windows and Mac OS X | ||||
| Package 1949/2355 | Hostname | OS / Arch | INSTALL | BUILD | CHECK | BUILD BIN | ||||||||
| scRepertoire 2.5.8 (landing page) Nick Borcherding
| nebbiolo2 | Linux (Ubuntu 24.04.3 LTS) / x86_64 | OK | OK | OK | |||||||||
| lconway | macOS 12.7.6 Monterey / x86_64 | OK | OK | OK | OK | |||||||||
| kjohnson3 | macOS 13.7.7 Ventura / arm64 | OK | OK | OK | OK | |||||||||
| taishan | Linux (openEuler 24.03 LTS) / aarch64 | OK | OK | NA | ||||||||||
|
To the developers/maintainers of the scRepertoire package: - Allow up to 24 hours (and sometimes 48 hours) for your latest push to git@git.bioconductor.org:packages/scRepertoire.git to reflect on this report. See Troubleshooting Build Report for more information. - Use the following Renviron settings to reproduce errors and warnings. - If 'R CMD check' started to fail recently on the Linux builder(s) over a missing dependency, add the missing dependency to 'Suggests:' in your DESCRIPTION file. See Renviron.bioc for more information. |
| Package: scRepertoire |
| Version: 2.5.8 |
| Command: /Library/Frameworks/R.framework/Resources/bin/R CMD check --install=check:scRepertoire.install-out.txt --library=/Library/Frameworks/R.framework/Resources/library --no-vignettes --timings scRepertoire_2.5.8.tar.gz |
| StartedAt: 2025-10-22 21:57:31 -0400 (Wed, 22 Oct 2025) |
| EndedAt: 2025-10-22 22:01:11 -0400 (Wed, 22 Oct 2025) |
| EllapsedTime: 219.6 seconds |
| RetCode: 0 |
| Status: OK |
| CheckDir: scRepertoire.Rcheck |
| Warnings: 0 |
##############################################################################
##############################################################################
###
### Running command:
###
### /Library/Frameworks/R.framework/Resources/bin/R CMD check --install=check:scRepertoire.install-out.txt --library=/Library/Frameworks/R.framework/Resources/library --no-vignettes --timings scRepertoire_2.5.8.tar.gz
###
##############################################################################
##############################################################################
* using log directory ‘/Users/biocbuild/bbs-3.22-bioc/meat/scRepertoire.Rcheck’
* using R version 4.5.1 Patched (2025-09-10 r88807)
* using platform: aarch64-apple-darwin20
* R was compiled by
Apple clang version 16.0.0 (clang-1600.0.26.6)
GNU Fortran (GCC) 14.2.0
* running under: macOS Ventura 13.7.7
* using session charset: UTF-8
* using option ‘--no-vignettes’
* checking for file ‘scRepertoire/DESCRIPTION’ ... OK
* this is package ‘scRepertoire’ version ‘2.5.8’
* package encoding: UTF-8
* checking package namespace information ... OK
* checking package dependencies ... OK
* checking if this is a source package ... OK
* checking if there is a namespace ... OK
* checking for hidden files and directories ... OK
* checking for portable file names ... OK
* checking for sufficient/correct file permissions ... OK
* checking whether package ‘scRepertoire’ can be installed ... OK
* used C++ compiler: ‘Apple clang version 15.0.0 (clang-1500.1.0.2.5)’
* used SDK: ‘MacOSX11.3.1.sdk’
* checking installed package size ... OK
* checking package directory ... OK
* checking ‘build’ directory ... OK
* checking DESCRIPTION meta-information ... OK
* checking top-level files ... OK
* checking for left-over files ... OK
* checking index information ... OK
* checking package subdirectories ... OK
* checking code files for non-ASCII characters ... OK
* checking R files for syntax errors ... OK
* checking whether the package can be loaded ... OK
* checking whether the package can be loaded with stated dependencies ... OK
* checking whether the package can be unloaded cleanly ... OK
* checking whether the namespace can be loaded with stated dependencies ... OK
* checking whether the namespace can be unloaded cleanly ... OK
* checking whether startup messages can be suppressed ... OK
* checking dependencies in R code ... OK
* checking S3 generic/method consistency ... OK
* checking replacement functions ... OK
* checking foreign function calls ... OK
* checking R code for possible problems ... NOTE
clonalSizeDistribution: no visible binding for global variable ‘y’
combineExpression: no visible binding for global variable
‘clonalFrequency’
Undefined global functions or variables:
clonalFrequency y
* checking Rd files ... OK
* checking Rd metadata ... OK
* checking Rd cross-references ... NOTE
Non-topic package-anchored link(s) in Rd file 'StartracDiversity.Rd':
‘[grDevices:palettes]{hcl.pals}’
Non-topic package-anchored link(s) in Rd file 'alluvialClones.Rd':
‘[grDevices:palettes]{hcl.pals}’
Non-topic package-anchored link(s) in Rd file 'clonalAbundance.Rd':
‘[grDevices:palettes]{hcl.pals}’
Non-topic package-anchored link(s) in Rd file 'clonalBias.Rd':
‘[grDevices:palettes]{hcl.pals}’
Non-topic package-anchored link(s) in Rd file 'clonalDiversity.Rd':
‘[grDevices:palettes]{hcl.pals}’
Non-topic package-anchored link(s) in Rd file 'clonalHomeostasis.Rd':
‘[grDevices:palettes]{hcl.pals}’
Non-topic package-anchored link(s) in Rd file 'clonalLength.Rd':
‘[grDevices:palettes]{hcl.pals}’
Non-topic package-anchored link(s) in Rd file 'clonalNetwork.Rd':
‘[grDevices:palettes]{hcl.pals}’
Non-topic package-anchored link(s) in Rd file 'clonalOccupy.Rd':
‘[grDevices:palettes]{hcl.pals}’
Non-topic package-anchored link(s) in Rd file 'clonalOverlap.Rd':
‘[grDevices:palettes]{hcl.pals}’
Non-topic package-anchored link(s) in Rd file 'clonalProportion.Rd':
‘[grDevices:palettes]{hcl.pals}’
Non-topic package-anchored link(s) in Rd file 'clonalQuant.Rd':
‘[grDevices:palettes]{hcl.pals}’
Non-topic package-anchored link(s) in Rd file 'clonalRarefaction.Rd':
‘[grDevices:palettes]{hcl.pals}’
Non-topic package-anchored link(s) in Rd file 'clonalScatter.Rd':
‘[grDevices:palettes]{hcl.pals}’
Non-topic package-anchored link(s) in Rd file 'clonalSizeDistribution.Rd':
‘[grDevices:palettes]{hcl.pals}’
Non-topic package-anchored link(s) in Rd file 'percentAA.Rd':
‘[grDevices:palettes]{hcl.pals}’
Non-topic package-anchored link(s) in Rd file 'percentGeneUsage.Rd':
‘[grDevices:palettes]{hcl.pals}’
Non-topic package-anchored link(s) in Rd file 'percentKmer.Rd':
‘[grDevices:palettes]{hcl.pals}’
Non-topic package-anchored link(s) in Rd file 'positionalEntropy.Rd':
‘[grDevices:palettes]{hcl.pals}’
Non-topic package-anchored link(s) in Rd file 'positionalProperty.Rd':
‘[grDevices:palettes]{hcl.pals}’
See section 'Cross-references' in the 'Writing R Extensions' manual.
* checking for missing documentation entries ... OK
* checking for code/documentation mismatches ... OK
* checking Rd \usage sections ... OK
* checking Rd contents ... OK
* checking for unstated dependencies in examples ... OK
* checking contents of ‘data’ directory ... OK
* checking data for non-ASCII characters ... OK
* checking LazyData ... OK
* checking data for ASCII and uncompressed saves ... OK
* checking line endings in C/C++/Fortran sources/headers ... OK
* checking compiled code ... NOTE
Note: information on .o files is not available
* checking files in ‘vignettes’ ... OK
* checking examples ... OK
* checking for unstated dependencies in ‘tests’ ... OK
* checking tests ...
Running ‘spelling.R’
Running ‘testthat.R’
OK
* checking for unstated dependencies in vignettes ... OK
* checking package vignettes ... OK
* checking running R code from vignettes ... SKIPPED
* checking re-building of vignette outputs ... SKIPPED
* checking PDF version of manual ... OK
* DONE
Status: 3 NOTEs
See
‘/Users/biocbuild/bbs-3.22-bioc/meat/scRepertoire.Rcheck/00check.log’
for details.
scRepertoire.Rcheck/00install.out
############################################################################## ############################################################################## ### ### Running command: ### ### /Library/Frameworks/R.framework/Resources/bin/R CMD INSTALL scRepertoire ### ############################################################################## ############################################################################## * installing to library ‘/Library/Frameworks/R.framework/Versions/4.5-arm64/Resources/library’ * installing *source* package ‘scRepertoire’ ... ** this is package ‘scRepertoire’ version ‘2.5.8’ ** using staged installation ** libs using C++ compiler: ‘Apple clang version 15.0.0 (clang-1500.1.0.2.5)’ using SDK: ‘MacOSX11.3.1.sdk’ clang++ -arch arm64 -std=gnu++17 -I"/Library/Frameworks/R.framework/Resources/include" -DNDEBUG -I'/Library/Frameworks/R.framework/Versions/4.5-arm64/Resources/library/Rcpp/include' -I/opt/R/arm64/include -fPIC -falign-functions=64 -Wall -g -O2 -c RcppExports.cpp -o RcppExports.o clang++ -arch arm64 -std=gnu++17 -I"/Library/Frameworks/R.framework/Resources/include" -DNDEBUG -I'/Library/Frameworks/R.framework/Versions/4.5-arm64/Resources/library/Rcpp/include' -I/opt/R/arm64/include -fPIC -falign-functions=64 -Wall -g -O2 -c constructConDfAndParseBCR.cpp -o constructConDfAndParseBCR.o clang++ -arch arm64 -std=gnu++17 -I"/Library/Frameworks/R.framework/Resources/include" -DNDEBUG -I'/Library/Frameworks/R.framework/Versions/4.5-arm64/Resources/library/Rcpp/include' -I/opt/R/arm64/include -fPIC -falign-functions=64 -Wall -g -O2 -c constructConDfAndparseTCR.cpp -o constructConDfAndparseTCR.o clang++ -arch arm64 -std=gnu++17 -dynamiclib -Wl,-headerpad_max_install_names -undefined dynamic_lookup -L/Library/Frameworks/R.framework/Resources/lib -L/opt/R/arm64/lib -o scRepertoire.so RcppExports.o constructConDfAndParseBCR.o constructConDfAndparseTCR.o -F/Library/Frameworks/R.framework/.. -framework R installing to /Library/Frameworks/R.framework/Versions/4.5-arm64/Resources/library/00LOCK-scRepertoire/00new/scRepertoire/libs ** R ** data *** moving datasets to lazyload DB ** inst ** byte-compile and prepare package for lazy loading Note: wrong number of arguments to 'floor' Note: wrong number of arguments to 'floor' ** help *** installing help indices *** copying figures ** building package indices ** installing vignettes ** testing if installed package can be loaded from temporary location ** checking absolute paths in shared objects and dynamic libraries ** testing if installed package can be loaded from final location ** testing if installed package keeps a record of temporary installation path * DONE (scRepertoire)
scRepertoire.Rcheck/tests/spelling.Rout
R version 4.5.1 Patched (2025-09-10 r88807) -- "Great Square Root"
Copyright (C) 2025 The R Foundation for Statistical Computing
Platform: aarch64-apple-darwin20
R is free software and comes with ABSOLUTELY NO WARRANTY.
You are welcome to redistribute it under certain conditions.
Type 'license()' or 'licence()' for distribution details.
R is a collaborative project with many contributors.
Type 'contributors()' for more information and
'citation()' on how to cite R or R packages in publications.
Type 'demo()' for some demos, 'help()' for on-line help, or
'help.start()' for an HTML browser interface to help.
Type 'q()' to quit R.
> if(requireNamespace('spelling', quietly = TRUE))
+ spelling::spell_check_test(vignettes = TRUE, error = FALSE,
+ skip_on_cran = TRUE)
All Done!
>
> proc.time()
user system elapsed
0.068 0.019 0.084
scRepertoire.Rcheck/tests/testthat.Rout
R version 4.5.1 Patched (2025-09-10 r88807) -- "Great Square Root"
Copyright (C) 2025 The R Foundation for Statistical Computing
Platform: aarch64-apple-darwin20
R is free software and comes with ABSOLUTELY NO WARRANTY.
You are welcome to redistribute it under certain conditions.
Type 'license()' or 'licence()' for distribution details.
R is a collaborative project with many contributors.
Type 'contributors()' for more information and
'citation()' on how to cite R or R packages in publications.
Type 'demo()' for some demos, 'help()' for on-line help, or
'help.start()' for an HTML browser interface to help.
Type 'q()' to quit R.
> # This file is part of the standard setup for testthat.
> # It is recommended that you do not modify it.
> #
> # Where should you do additional test configuration?
> # Learn more about the roles of various files in:
> # * https://r-pkgs.org/tests.html
> # * https://testthat.r-lib.org/reference/test_package.html#special-files
>
> library(testthat)
> library(scRepertoire)
Loading required package: ggplot2
>
> test_check("scRepertoire")
Attaching package: 'igraph'
The following object is masked from 'package:testthat':
compare
The following objects are masked from 'package:stats':
decompose, spectrum
The following object is masked from 'package:base':
union
[ FAIL 0 | WARN 1 | SKIP 0 | PASS 781 ]
[ FAIL 0 | WARN 1 | SKIP 0 | PASS 781 ]
>
> proc.time()
user system elapsed
71.572 5.343 82.480
scRepertoire.Rcheck/scRepertoire-Ex.timings
| name | user | system | elapsed | |
| StartracDiversity | 3.465 | 0.091 | 3.645 | |
| addVariable | 0.356 | 0.024 | 0.383 | |
| alluvialClones | 1.400 | 0.035 | 1.445 | |
| annotateInvariant | 0.588 | 0.025 | 0.630 | |
| clonalAbundance | 1.006 | 0.044 | 1.055 | |
| clonalBias | 0.609 | 0.020 | 0.630 | |
| clonalCluster | 3.895 | 0.184 | 4.084 | |
| clonalCompare | 1.084 | 0.060 | 1.143 | |
| clonalDiversity | 0.569 | 0.026 | 0.596 | |
| clonalHomeostasis | 0.395 | 0.017 | 0.420 | |
| clonalLength | 1.041 | 0.041 | 1.082 | |
| clonalNetwork | 0 | 0 | 0 | |
| clonalOccupy | 0.576 | 0.039 | 0.615 | |
| clonalOverlap | 0.390 | 0.026 | 0.417 | |
| clonalOverlay | 0.615 | 0.029 | 0.644 | |
| clonalProportion | 0.410 | 0.026 | 0.460 | |
| clonalQuant | 0.402 | 0.029 | 0.441 | |
| clonalRarefaction | 1.507 | 0.124 | 1.642 | |
| clonalScatter | 0.441 | 0.039 | 0.480 | |
| clonalSizeDistribution | 3.008 | 0.416 | 3.438 | |
| combineBCR | 0.667 | 0.051 | 1.593 | |
| combineExpression | 0.509 | 0.024 | 0.533 | |
| combineTCR | 0.316 | 0.024 | 0.339 | |
| createHTOContigList | 0 | 0 | 0 | |
| exportClones | 0 | 0 | 0 | |
| getCirclize | 0.563 | 0.030 | 0.594 | |
| highlightClones | 0.507 | 0.029 | 0.536 | |
| loadContigs | 0.142 | 0.013 | 1.613 | |
| percentAA | 0.835 | 0.037 | 0.874 | |
| percentGeneUsage | 2.690 | 0.102 | 2.802 | |
| percentKmer | 0.964 | 0.071 | 1.035 | |
| positionalEntropy | 0.561 | 0.033 | 0.594 | |
| positionalProperty | 0.851 | 0.071 | 0.923 | |
| quietVDJgenes | 0.028 | 0.003 | 0.031 | |
| subsetClones | 0.304 | 0.019 | 0.324 | |