Back to Multiple platform build/check report for BioC 3.21:   simplified   long
ABCDEFGHIJKLMN[O]PQRSTUVWXYZ

This page was generated on 2025-02-11 11:41 -0500 (Tue, 11 Feb 2025).

HostnameOSArch (*)R versionInstalled pkgs
nebbiolo1Linux (Ubuntu 24.04.1 LTS)x86_64R Under development (unstable) (2025-01-20 r87609) -- "Unsuffered Consequences" 4719
palomino7Windows Server 2022 Datacenterx64R Under development (unstable) (2025-01-21 r87610 ucrt) -- "Unsuffered Consequences" 4480
lconwaymacOS 12.7.1 Montereyx86_64R Under development (unstable) (2025-01-22 r87618) -- "Unsuffered Consequences" 4491
kjohnson3macOS 13.7.1 Venturaarm64R Under development (unstable) (2025-01-20 r87609) -- "Unsuffered Consequences" 4444
Click on any hostname to see more info about the system (e.g. compilers)      (*) as reported by 'uname -p', except on Windows and Mac OS X

Package 1467/2295HostnameOS / ArchINSTALLBUILDCHECKBUILD BIN
ontoProc 2.1.4  (landing page)
Vincent Carey
Snapshot Date: 2025-02-10 13:40 -0500 (Mon, 10 Feb 2025)
git_url: https://git.bioconductor.org/packages/ontoProc
git_branch: devel
git_last_commit: f8dae15
git_last_commit_date: 2025-01-08 13:07:05 -0500 (Wed, 08 Jan 2025)
nebbiolo1Linux (Ubuntu 24.04.1 LTS) / x86_64  OK    OK    OK  UNNEEDED, same version is already published
palomino7Windows Server 2022 Datacenter / x64  OK    OK    OK    OK  UNNEEDED, same version is already published
lconwaymacOS 12.7.1 Monterey / x86_64  OK    OK    OK    OK  UNNEEDED, same version is already published
kjohnson3macOS 13.7.1 Ventura / arm64  OK    OK    OK    OK  UNNEEDED, same version is already published


CHECK results for ontoProc on palomino7

To the developers/maintainers of the ontoProc package:
- Allow up to 24 hours (and sometimes 48 hours) for your latest push to git@git.bioconductor.org:packages/ontoProc.git to reflect on this report. See Troubleshooting Build Report for more information.
- Use the following Renviron settings to reproduce errors and warnings.
- If 'R CMD check' started to fail recently on the Linux builder(s) over a missing dependency, add the missing dependency to 'Suggests:' in your DESCRIPTION file. See Renviron.bioc for more information.

raw results


Summary

Package: ontoProc
Version: 2.1.4
Command: E:\biocbuild\bbs-3.21-bioc\R\bin\R.exe CMD check --no-multiarch --install=check:ontoProc.install-out.txt --library=E:\biocbuild\bbs-3.21-bioc\R\library --no-vignettes --timings ontoProc_2.1.4.tar.gz
StartedAt: 2025-02-11 03:58:32 -0500 (Tue, 11 Feb 2025)
EndedAt: 2025-02-11 04:14:42 -0500 (Tue, 11 Feb 2025)
EllapsedTime: 970.4 seconds
RetCode: 0
Status:   OK  
CheckDir: ontoProc.Rcheck
Warnings: 0

Command output

##############################################################################
##############################################################################
###
### Running command:
###
###   E:\biocbuild\bbs-3.21-bioc\R\bin\R.exe CMD check --no-multiarch --install=check:ontoProc.install-out.txt --library=E:\biocbuild\bbs-3.21-bioc\R\library --no-vignettes --timings ontoProc_2.1.4.tar.gz
###
##############################################################################
##############################################################################


* using log directory 'E:/biocbuild/bbs-3.21-bioc/meat/ontoProc.Rcheck'
* using R Under development (unstable) (2025-01-21 r87610 ucrt)
* using platform: x86_64-w64-mingw32
* R was compiled by
    gcc.exe (GCC) 13.3.0
    GNU Fortran (GCC) 13.3.0
* running under: Windows Server 2022 x64 (build 20348)
* using session charset: UTF-8
* using option '--no-vignettes'
* checking for file 'ontoProc/DESCRIPTION' ... OK
* this is package 'ontoProc' version '2.1.4'
* package encoding: UTF-8
* checking package namespace information ... OK
* checking package dependencies ... OK
* checking if this is a source package ... OK
* checking if there is a namespace ... OK
* checking for hidden files and directories ... OK
* checking for portable file names ... OK
* checking whether package 'ontoProc' can be installed ... OK
* checking installed package size ... INFO
  installed size is 10.4Mb
  sub-directories of 1Mb or more:
    app       1.9Mb
    data      1.8Mb
    ontoRda   2.8Mb
    owl       3.3Mb
* checking package directory ... OK
* checking 'build' directory ... OK
* checking DESCRIPTION meta-information ... OK
* checking top-level files ... OK
* checking for left-over files ... OK
* checking index information ... OK
* checking package subdirectories ... OK
* checking code files for non-ASCII characters ... OK
* checking R files for syntax errors ... OK
* checking whether the package can be loaded ... OK
* checking whether the package can be loaded with stated dependencies ... OK
* checking whether the package can be unloaded cleanly ... OK
* checking whether the namespace can be loaded with stated dependencies ... OK
* checking whether the namespace can be unloaded cleanly ... OK
* checking dependencies in R code ... NOTE
':::' call which should be '::': 'ontologyPlot:::remove_uninformative_terms'
  See the note in ?`:::` about the use of this operator.
* checking S3 generic/method consistency ... OK
* checking replacement functions ... OK
* checking foreign function calls ... OK
* checking R code for possible problems ... NOTE
CLfeat : prupdate: no visible binding for global variable 'PROSYM'
CLfeat : prupdate: no visible binding for global variable 'PRID'
CLfeat : prupdate: no visible binding for global variable 'SYMBOL'
ctmarks : server: no visible binding for global variable 'text'
ctmarks : server: no visible binding for global variable 'packDesc2022'
ctmarks : server: no visible binding for global variable 'packDesc2021'
ctmarks: no visible binding for global variable 'cumu'
dropStop: no visible binding for global variable 'stopWords'
getOnto: no visible binding for global variable 'rdatadateadded'
getOnto: no visible binding for global variable 'title'
getOnto: no visible binding for global variable 'description'
ldfToTerm: no visible binding for global variable 'PROSYM'
sym2CellOnto: no visible binding for global variable 'PROSYM'
sym2CellOnto: no visible binding for global variable 'SYMBOL'
Undefined global functions or variables:
  PRID PROSYM SYMBOL cumu description packDesc2021 packDesc2022
  rdatadateadded stopWords text title
Consider adding
  importFrom("graphics", "text", "title")
to your NAMESPACE file.
* checking Rd files ... OK
* checking Rd metadata ... OK
* checking Rd cross-references ... NOTE
Found the following Rd file(s) with Rd \link{} targets missing package
anchors:
  findCommonAncestors.Rd: graph, DataFrame-class, List-class
Please provide package anchors for all Rd \link{} targets not in the
package itself and the base packages.
* checking for missing documentation entries ... OK
* checking for code/documentation mismatches ... OK
* checking Rd \usage sections ... NOTE
S3 methods shown with full name in Rd file 'plot.owlents.Rd':
  'plot.owlents'

The \usage entries for S3 methods should use the \method markup and not
their full name.
See chapter 'Writing R documentation files' in the 'Writing R
Extensions' manual.
* checking Rd contents ... OK
* checking for unstated dependencies in examples ... OK
* checking contents of 'data' directory ... OK
* checking data for non-ASCII characters ... OK
* checking data for ASCII and uncompressed saves ... OK
* checking files in 'vignettes' ... OK
* checking examples ... OK
Examples with CPU (user + system) or elapsed time > 5s
                                  user system elapsed
sym2CellOnto                     47.10   2.02   51.42
CLfeats                          32.26   2.30   35.73
siblings_TAG                     26.20   2.25   29.05
getLeavesFromTerm                20.08   0.81   21.34
nomenCheckup                     18.07   0.94   19.33
fastGrep                         14.87   0.88   16.92
cleanCLOnames                    13.68   0.83   14.81
common_classes                   12.46   1.15   14.78
liberalMap                       10.88   0.84   11.94
ontoDiff                         10.13   1.50   17.70
make_graphNEL_from_ontology_plot 10.70   0.92   12.34
secLevGen                        10.82   0.72   12.00
selectFromMap                    10.50   1.03   11.69
mapOneNaive                      10.32   0.94   11.77
getOnto                          10.12   0.73   12.78
onto_plot2                       10.06   0.61   10.92
findCommonAncestors               9.83   0.72   10.68
TermSet-class                     9.20   0.70   10.69
search_labels                     0.57   0.04  137.32
bioregistry_ols_resources         0.04   0.01   35.33
* checking for unstated dependencies in 'tests' ... OK
* checking tests ...
  Running 'test.R'
 OK
* checking for unstated dependencies in vignettes ... OK
* checking package vignettes ... OK
* checking running R code from vignettes ... SKIPPED
* checking re-building of vignette outputs ... SKIPPED
* checking PDF version of manual ... OK
* DONE

Status: 4 NOTEs
See
  'E:/biocbuild/bbs-3.21-bioc/meat/ontoProc.Rcheck/00check.log'
for details.


Installation output

ontoProc.Rcheck/00install.out

##############################################################################
##############################################################################
###
### Running command:
###
###   E:\biocbuild\bbs-3.21-bioc\R\bin\R.exe CMD INSTALL ontoProc
###
##############################################################################
##############################################################################


* installing to library 'E:/biocbuild/bbs-3.21-bioc/R/library'
* installing *source* package 'ontoProc' ...
** this is package 'ontoProc' version '2.1.4'
** using staged installation
** R
** data
** inst
** byte-compile and prepare package for lazy loading
** help
*** installing help indices
** building package indices
** installing vignettes
** testing if installed package can be loaded from temporary location
** testing if installed package can be loaded from final location
** testing if installed package keeps a record of temporary installation path
* DONE (ontoProc)

Tests output

ontoProc.Rcheck/tests/test.Rout


R Under development (unstable) (2025-01-21 r87610 ucrt) -- "Unsuffered Consequences"
Copyright (C) 2025 The R Foundation for Statistical Computing
Platform: x86_64-w64-mingw32/x64

R is free software and comes with ABSOLUTELY NO WARRANTY.
You are welcome to redistribute it under certain conditions.
Type 'license()' or 'licence()' for distribution details.

R is a collaborative project with many contributors.
Type 'contributors()' for more information and
'citation()' on how to cite R or R packages in publications.

Type 'demo()' for some demos, 'help()' for on-line help, or
'help.start()' for an HTML browser interface to help.
Type 'q()' to quit R.

> 
> library(ontoProc)
Loading required package: ontologyIndex
> library(testthat)
> 
> test_check("ontoProc")
[ FAIL 0 | WARN 0 | SKIP 0 | PASS 12 ]
> 
> 
> proc.time()
   user  system elapsed 
 185.96   10.68  213.20 

Example timings

ontoProc.Rcheck/ontoProc-Ex.timings

nameusersystemelapsed
CLfeats32.26 2.3035.73
PROSYM0.310.000.31
TermSet-class 9.20 0.7010.69
allGOterms0.10.00.1
ancestors0.550.584.17
ancestors_names0.000.020.01
bioregistry_ols_resources 0.04 0.0135.33
cellTypeToGO1.810.061.88
children_names0.000.020.01
cleanCLOnames13.68 0.8314.81
common_classes12.46 1.1514.78
ctmarks000
cyclicSigset0.010.000.02
demoApp000
dropStop0.020.000.01
fastGrep14.87 0.8816.92
findCommonAncestors 9.83 0.7210.68
getLeavesFromTerm20.08 0.8121.34
getOnto10.12 0.7312.78
humrna0.000.020.02
labels.owlents0.580.191.81
ldfToTerms3.070.113.19
liberalMap10.88 0.8411.94
makeSelectInput000
make_graphNEL_from_ontology_plot10.70 0.9212.34
mapOneNaive10.32 0.9411.77
minicorpus000
nomenCheckup18.07 0.9419.33
ontoDiff10.13 1.5017.70
onto_plot210.06 0.6110.92
onto_roots000
owl2cache0.050.000.05
packDesc2019000
packDesc2021000
packDesc20220.020.000.02
packDesc20230.000.010.02
parents000
plot.owlents0.340.020.36
recognizedPredicates000
search_labels 0.57 0.04137.32
secLevGen10.82 0.7212.00
selectFromMap10.50 1.0311.69
setup_entities0.020.000.02
setup_entities20.440.000.43
seur3kTab000
siblings_TAG26.20 2.2529.05
stopWords000
subclasses000
sym2CellOnto47.10 2.0251.42
valid_ontonames000