Back to Build/check report for BioC 3.23:   simplified   long
ABCDEFGHIJKLMN[O]PQRSTUVWXYZ

This page was generated on 2025-11-05 11:32 -0500 (Wed, 05 Nov 2025).

HostnameOSArch (*)R versionInstalled pkgs
nebbiolo1Linux (Ubuntu 24.04.3 LTS)x86_64R Under development (unstable) (2025-10-20 r88955) -- "Unsuffered Consequences" 4818
Click on any hostname to see more info about the system (e.g. compilers)      (*) as reported by 'uname -p', except on Windows and Mac OS X

Package 1491/2323HostnameOS / ArchINSTALLBUILDCHECKBUILD BIN
ontoProc 2.5.0  (landing page)
Vincent Carey
Snapshot Date: 2025-11-04 13:40 -0500 (Tue, 04 Nov 2025)
git_url: https://git.bioconductor.org/packages/ontoProc
git_branch: devel
git_last_commit: a09f239
git_last_commit_date: 2025-10-29 19:20:08 -0500 (Wed, 29 Oct 2025)
nebbiolo1Linux (Ubuntu 24.04.3 LTS) / x86_64  OK    OK    OK  YES


CHECK results for ontoProc on nebbiolo1

To the developers/maintainers of the ontoProc package:
- Allow up to 24 hours (and sometimes 48 hours) for your latest push to git@git.bioconductor.org:packages/ontoProc.git to reflect on this report. See Troubleshooting Build Report for more information.
- Use the following Renviron settings to reproduce errors and warnings.
- If 'R CMD check' started to fail recently on the Linux builder(s) over a missing dependency, add the missing dependency to 'Suggests:' in your DESCRIPTION file. See Renviron.bioc for more information.

raw results


Summary

Package: ontoProc
Version: 2.5.0
Command: /home/biocbuild/bbs-3.23-bioc/R/bin/R CMD check --install=check:ontoProc.install-out.txt --library=/home/biocbuild/bbs-3.23-bioc/R/site-library --timings ontoProc_2.5.0.tar.gz
StartedAt: 2025-11-05 02:02:15 -0500 (Wed, 05 Nov 2025)
EndedAt: 2025-11-05 02:41:06 -0500 (Wed, 05 Nov 2025)
EllapsedTime: 2330.2 seconds
RetCode: 0
Status:   OK  
CheckDir: ontoProc.Rcheck
Warnings: 0

Command output

##############################################################################
##############################################################################
###
### Running command:
###
###   /home/biocbuild/bbs-3.23-bioc/R/bin/R CMD check --install=check:ontoProc.install-out.txt --library=/home/biocbuild/bbs-3.23-bioc/R/site-library --timings ontoProc_2.5.0.tar.gz
###
##############################################################################
##############################################################################


* using log directory ‘/home/biocbuild/bbs-3.23-bioc/meat/ontoProc.Rcheck’
* using R Under development (unstable) (2025-10-20 r88955)
* using platform: x86_64-pc-linux-gnu
* R was compiled by
    gcc (Ubuntu 13.3.0-6ubuntu2~24.04) 13.3.0
    GNU Fortran (Ubuntu 13.3.0-6ubuntu2~24.04) 13.3.0
* running under: Ubuntu 24.04.3 LTS
* using session charset: UTF-8
* checking for file ‘ontoProc/DESCRIPTION’ ... OK
* this is package ‘ontoProc’ version ‘2.5.0’
* package encoding: UTF-8
* checking package namespace information ... OK
* checking package dependencies ... OK
* checking if this is a source package ... OK
* checking if there is a namespace ... OK
* checking for hidden files and directories ... OK
* checking for portable file names ... OK
* checking for sufficient/correct file permissions ... OK
* checking whether package ‘ontoProc’ can be installed ... OK
* checking installed package size ... INFO
  installed size is 10.5Mb
  sub-directories of 1Mb or more:
    app       1.6Mb
    data      1.8Mb
    ontoRda   2.7Mb
    owl       3.4Mb
* checking package directory ... OK
* checking ‘build’ directory ... OK
* checking DESCRIPTION meta-information ... OK
* checking top-level files ... OK
* checking for left-over files ... OK
* checking index information ... OK
* checking package subdirectories ... OK
* checking code files for non-ASCII characters ... OK
* checking R files for syntax errors ... OK
* checking whether the package can be loaded ... OK
* checking whether the package can be loaded with stated dependencies ... OK
* checking whether the package can be unloaded cleanly ... OK
* checking whether the namespace can be loaded with stated dependencies ... OK
* checking whether the namespace can be unloaded cleanly ... OK
* checking loading without being on the library search path ... OK
* checking dependencies in R code ... NOTE
':::' call which should be '::': ‘ontologyPlot:::remove_uninformative_terms’
  See the note in ?`:::` about the use of this operator.
* checking S3 generic/method consistency ... OK
* checking replacement functions ... OK
* checking foreign function calls ... OK
* checking R code for possible problems ... NOTE
CLfeat : prupdate: no visible binding for global variable ‘PROSYM’
CLfeat : prupdate: no visible binding for global variable ‘PRID’
CLfeat : prupdate: no visible binding for global variable ‘SYMBOL’
ctmarks : server: no visible binding for global variable ‘text’
ctmarks : server: no visible binding for global variable ‘packDesc2022’
ctmarks : server: no visible binding for global variable ‘packDesc2021’
ctmarks: no visible binding for global variable ‘cumu’
dropStop: no visible binding for global variable ‘stopWords’
getOnto: no visible binding for global variable ‘rdatadateadded’
getOnto: no visible binding for global variable ‘title’
getOnto: no visible binding for global variable ‘description’
ldfToTerm: no visible binding for global variable ‘PROSYM’
sym2CellOnto: no visible binding for global variable ‘PROSYM’
sym2CellOnto: no visible binding for global variable ‘SYMBOL’
Undefined global functions or variables:
  PRID PROSYM SYMBOL cumu description packDesc2021 packDesc2022
  rdatadateadded stopWords text title
Consider adding
  importFrom("graphics", "text", "title")
to your NAMESPACE file.
* checking Rd files ... OK
* checking Rd metadata ... OK
* checking Rd cross-references ... NOTE
Found the following Rd file(s) with Rd \link{} targets missing package
anchors:
  findCommonAncestors.Rd: graph, DataFrame-class, List-class
Please provide package anchors for all Rd \link{} targets not in the
package itself and the base packages.
* checking for missing documentation entries ... OK
* checking for code/documentation mismatches ... OK
* checking Rd \usage sections ... NOTE
S3 methods shown with full name in Rd file 'plot.owlents.Rd':
  ‘plot.owlents’

The \usage entries for S3 methods should use the \method markup and not
their full name.
See chapter ‘Writing R documentation files’ in the ‘Writing R
Extensions’ manual.
* checking Rd contents ... OK
* checking for unstated dependencies in examples ... OK
* checking contents of ‘data’ directory ... OK
* checking data for non-ASCII characters ... OK
* checking data for ASCII and uncompressed saves ... OK
* checking files in ‘vignettes’ ... OK
* checking examples ... OK
Examples with CPU (user + system) or elapsed time > 5s
                                    user system elapsed
sym2CellOnto                     206.782  6.204 217.517
cleanCLOnames                    128.066  2.208 148.502
siblings_TAG                     119.004  4.468 124.195
fastGrep                          96.394  5.995 128.387
nomenCheckup                      87.895  3.910  92.143
CLfeats                           68.671  4.169  73.845
findCommonAncestors               64.222  2.760  77.031
common_classes                    62.827  3.466  75.887
getLeavesFromTerm                 56.791  2.623  60.263
liberalMap                        54.065  2.299  60.067
getOnto                           53.023  1.049  54.873
make_graphNEL_from_ontology_plot  42.317  2.655  45.275
selectFromMap                     41.806  1.953  43.977
mapOneNaive                       41.885  1.753  43.874
secLevGen                         40.691  2.048  42.993
onto_plot2                        40.474  2.080  42.771
TermSet-class                     40.946  1.574  42.771
ontoDiff                          11.663  1.805  14.008
graph2paths                        9.309  0.121   9.540
plot.owlents                       4.667  0.238  75.016
search_labels                      0.411  0.041  14.658
bioregistry_ols_resources          0.058  0.009  11.596
* checking for unstated dependencies in ‘tests’ ... OK
* checking tests ...
  Running ‘test.R’
 OK
* checking for unstated dependencies in vignettes ... OK
* checking package vignettes ... OK
* checking re-building of vignette outputs ... OK
* checking PDF version of manual ... OK
* DONE

Status: 4 NOTEs
See
  ‘/home/biocbuild/bbs-3.23-bioc/meat/ontoProc.Rcheck/00check.log’
for details.


Installation output

ontoProc.Rcheck/00install.out

##############################################################################
##############################################################################
###
### Running command:
###
###   /home/biocbuild/bbs-3.23-bioc/R/bin/R CMD INSTALL ontoProc
###
##############################################################################
##############################################################################


* installing to library ‘/home/biocbuild/bbs-3.23-bioc/R/site-library’
* installing *source* package ‘ontoProc’ ...
** this is package ‘ontoProc’ version ‘2.5.0’
** using staged installation
** R
** data
** inst
** byte-compile and prepare package for lazy loading
** help
*** installing help indices
** building package indices
** installing vignettes
** testing if installed package can be loaded from temporary location
** testing if installed package can be loaded from final location
** testing if installed package keeps a record of temporary installation path
* DONE (ontoProc)

Tests output

ontoProc.Rcheck/tests/test.Rout


R Under development (unstable) (2025-10-20 r88955) -- "Unsuffered Consequences"
Copyright (C) 2025 The R Foundation for Statistical Computing
Platform: x86_64-pc-linux-gnu

R is free software and comes with ABSOLUTELY NO WARRANTY.
You are welcome to redistribute it under certain conditions.
Type 'license()' or 'licence()' for distribution details.

R is a collaborative project with many contributors.
Type 'contributors()' for more information and
'citation()' on how to cite R or R packages in publications.

Type 'demo()' for some demos, 'help()' for on-line help, or
'help.start()' for an HTML browser interface to help.
Type 'q()' to quit R.

> 
> library(ontoProc)
Loading required package: ontologyIndex
> library(testthat)
> 
> test_check("ontoProc")
[ FAIL 0 | WARN 0 | SKIP 0 | PASS 12 ]
> 
> 
> proc.time()
   user  system elapsed 
266.296  12.862 280.659 

Example timings

ontoProc.Rcheck/ontoProc-Ex.timings

nameusersystemelapsed
CLfeats68.671 4.16973.845
PROSYM0.2290.0030.232
TermSet-class40.946 1.57442.771
allGOterms0.0960.0040.100
ancestors2.0580.4882.526
ancestors_names0.0160.0020.009
bioregistry_ols_resources 0.058 0.00911.596
cellTypeToGO1.7120.1521.864
children_names0.0060.0000.006
cleanCLOnames128.066 2.208148.502
common_classes62.827 3.46675.887
ctmarks0.0000.0010.001
cyclicSigset0.0110.0010.012
demoApp0.0000.0000.001
dropStop0.0060.0020.007
fastGrep 96.394 5.995128.387
findCommonAncestors64.222 2.76077.031
formalize0.0010.0010.003
getLeavesFromTerm56.791 2.62360.263
getOnto53.023 1.04954.873
graph2paths9.3090.1219.540
humrna0.0070.0010.008
jowl2classgraph0.3290.0020.332
jowl2classgraph_nio0.7490.0120.762
labels.owlents000
ldfToTerms4.1010.0484.338
liberalMap54.065 2.29960.067
makeSelectInput0.0000.0000.001
make_graphNEL_from_ontology_plot42.317 2.65545.275
mapOneNaive41.885 1.75343.874
minicorpus0.0000.0020.002
nomenCheckup87.895 3.91092.143
ontoDiff11.663 1.80514.008
onto_plot240.474 2.08042.771
onto_roots0.0010.0000.001
owl2cache0.0250.0010.026
packDesc20190.0020.0010.003
packDesc20210.0010.0010.002
packDesc20220.0020.0020.003
packDesc20230.0030.0000.003
parents0.0050.0000.005
plot.owlents 4.667 0.23875.016
quickOnto0.3470.0280.376
recognizedPredicates0.0010.0000.001
search_labels 0.411 0.04114.658
secLevGen40.691 2.04842.993
selectFromMap41.806 1.95343.977
setup_entities0.0050.0010.006
setup_entities20.3600.0090.370
seur3kTab0.0020.0020.004
siblings_TAG119.004 4.468124.195
stopWords0.0010.0010.002
subclasses0.0060.0000.005
sym2CellOnto206.782 6.204217.517
valid_ontonames000