| Back to Multiple platform build/check report for BioC 3.22: simplified long |
|
This page was generated on 2025-10-23 12:06 -0400 (Thu, 23 Oct 2025).
| Hostname | OS | Arch (*) | R version | Installed pkgs |
|---|---|---|---|---|
| nebbiolo2 | Linux (Ubuntu 24.04.3 LTS) | x86_64 | 4.5.1 Patched (2025-08-23 r88802) -- "Great Square Root" | 4894 |
| lconway | macOS 12.7.6 Monterey | x86_64 | 4.5.1 Patched (2025-09-10 r88807) -- "Great Square Root" | 4684 |
| kjohnson3 | macOS 13.7.7 Ventura | arm64 | 4.5.1 Patched (2025-09-10 r88807) -- "Great Square Root" | 4629 |
| taishan | Linux (openEuler 24.03 LTS) | aarch64 | 4.5.0 (2025-04-11) -- "How About a Twenty-Six" | 4642 |
| Click on any hostname to see more info about the system (e.g. compilers) (*) as reported by 'uname -p', except on Windows and Mac OS X | ||||
| Package 1507/2355 | Hostname | OS / Arch | INSTALL | BUILD | CHECK | BUILD BIN | ||||||||
| ontoProc 2.3.11 (landing page) Vincent Carey
| nebbiolo2 | Linux (Ubuntu 24.04.3 LTS) / x86_64 | OK | OK | OK | |||||||||
| lconway | macOS 12.7.6 Monterey / x86_64 | OK | OK | OK | OK | |||||||||
| kjohnson3 | macOS 13.7.7 Ventura / arm64 | OK | OK | OK | OK | |||||||||
| taishan | Linux (openEuler 24.03 LTS) / aarch64 | OK | ERROR | skipped | ||||||||||
|
To the developers/maintainers of the ontoProc package: - Allow up to 24 hours (and sometimes 48 hours) for your latest push to git@git.bioconductor.org:packages/ontoProc.git to reflect on this report. See Troubleshooting Build Report for more information. - Use the following Renviron settings to reproduce errors and warnings. - If 'R CMD check' started to fail recently on the Linux builder(s) over a missing dependency, add the missing dependency to 'Suggests:' in your DESCRIPTION file. See Renviron.bioc for more information. |
| Package: ontoProc |
| Version: 2.3.11 |
| Command: /Library/Frameworks/R.framework/Resources/bin/R CMD check --install=check:ontoProc.install-out.txt --library=/Library/Frameworks/R.framework/Resources/library --no-vignettes --timings ontoProc_2.3.11.tar.gz |
| StartedAt: 2025-10-22 21:08:21 -0400 (Wed, 22 Oct 2025) |
| EndedAt: 2025-10-22 21:19:02 -0400 (Wed, 22 Oct 2025) |
| EllapsedTime: 640.4 seconds |
| RetCode: 0 |
| Status: OK |
| CheckDir: ontoProc.Rcheck |
| Warnings: 0 |
##############################################################################
##############################################################################
###
### Running command:
###
### /Library/Frameworks/R.framework/Resources/bin/R CMD check --install=check:ontoProc.install-out.txt --library=/Library/Frameworks/R.framework/Resources/library --no-vignettes --timings ontoProc_2.3.11.tar.gz
###
##############################################################################
##############################################################################
* using log directory ‘/Users/biocbuild/bbs-3.22-bioc/meat/ontoProc.Rcheck’
* using R version 4.5.1 Patched (2025-09-10 r88807)
* using platform: aarch64-apple-darwin20
* R was compiled by
Apple clang version 16.0.0 (clang-1600.0.26.6)
GNU Fortran (GCC) 14.2.0
* running under: macOS Ventura 13.7.7
* using session charset: UTF-8
* using option ‘--no-vignettes’
* checking for file ‘ontoProc/DESCRIPTION’ ... OK
* this is package ‘ontoProc’ version ‘2.3.11’
* package encoding: UTF-8
* checking package namespace information ... OK
* checking package dependencies ... OK
* checking if this is a source package ... OK
* checking if there is a namespace ... OK
* checking for hidden files and directories ... OK
* checking for portable file names ... OK
* checking for sufficient/correct file permissions ... OK
* checking whether package ‘ontoProc’ can be installed ... OK
* checking installed package size ... INFO
installed size is 11.5Mb
sub-directories of 1Mb or more:
app 1.9Mb
data 1.8Mb
ontoRda 2.8Mb
owl 3.8Mb
* checking package directory ... OK
* checking ‘build’ directory ... OK
* checking DESCRIPTION meta-information ... OK
* checking top-level files ... OK
* checking for left-over files ... OK
* checking index information ... OK
* checking package subdirectories ... OK
* checking code files for non-ASCII characters ... OK
* checking R files for syntax errors ... OK
* checking whether the package can be loaded ... OK
* checking whether the package can be loaded with stated dependencies ... OK
* checking whether the package can be unloaded cleanly ... OK
* checking whether the namespace can be loaded with stated dependencies ... OK
* checking whether the namespace can be unloaded cleanly ... OK
* checking dependencies in R code ... NOTE
':::' call which should be '::': ‘ontologyPlot:::remove_uninformative_terms’
See the note in ?`:::` about the use of this operator.
* checking S3 generic/method consistency ... OK
* checking replacement functions ... OK
* checking foreign function calls ... OK
* checking R code for possible problems ... NOTE
CLfeat : prupdate: no visible binding for global variable ‘PROSYM’
CLfeat : prupdate: no visible binding for global variable ‘PRID’
CLfeat : prupdate: no visible binding for global variable ‘SYMBOL’
ctmarks : server: no visible binding for global variable ‘text’
ctmarks : server: no visible binding for global variable ‘packDesc2022’
ctmarks : server: no visible binding for global variable ‘packDesc2021’
ctmarks: no visible binding for global variable ‘cumu’
dropStop: no visible binding for global variable ‘stopWords’
getOnto: no visible binding for global variable ‘rdatadateadded’
getOnto: no visible binding for global variable ‘title’
getOnto: no visible binding for global variable ‘description’
ldfToTerm: no visible binding for global variable ‘PROSYM’
sym2CellOnto: no visible binding for global variable ‘PROSYM’
sym2CellOnto: no visible binding for global variable ‘SYMBOL’
Undefined global functions or variables:
PRID PROSYM SYMBOL cumu description packDesc2021 packDesc2022
rdatadateadded stopWords text title
Consider adding
importFrom("graphics", "text", "title")
to your NAMESPACE file.
* checking Rd files ... OK
* checking Rd metadata ... OK
* checking Rd cross-references ... NOTE
Found the following Rd file(s) with Rd \link{} targets missing package
anchors:
findCommonAncestors.Rd: graph, DataFrame-class, List-class
Please provide package anchors for all Rd \link{} targets not in the
package itself and the base packages.
* checking for missing documentation entries ... OK
* checking for code/documentation mismatches ... OK
* checking Rd \usage sections ... NOTE
S3 methods shown with full name in Rd file 'plot.owlents.Rd':
‘plot.owlents’
The \usage entries for S3 methods should use the \method markup and not
their full name.
See chapter ‘Writing R documentation files’ in the ‘Writing R
Extensions’ manual.
* checking Rd contents ... OK
* checking for unstated dependencies in examples ... OK
* checking contents of ‘data’ directory ... OK
* checking data for non-ASCII characters ... OK
* checking data for ASCII and uncompressed saves ... OK
* checking files in ‘vignettes’ ... OK
* checking examples ... OK
Examples with CPU (user + system) or elapsed time > 5s
user system elapsed
sym2CellOnto 70.629 0.658 71.762
siblings_TAG 39.717 0.552 40.765
nomenCheckup 29.254 0.219 29.669
cleanCLOnames 28.756 0.253 29.272
CLfeats 25.744 0.620 27.097
common_classes 21.324 0.434 31.551
getLeavesFromTerm 19.218 0.256 19.817
fastGrep 19.096 0.271 19.654
liberalMap 17.500 0.187 25.031
make_graphNEL_from_ontology_plot 14.391 0.160 14.827
findCommonAncestors 14.148 0.284 14.676
selectFromMap 14.156 0.261 14.681
getOnto 14.096 0.278 14.550
onto_plot2 14.076 0.236 14.482
secLevGen 13.730 0.181 14.300
TermSet-class 13.612 0.292 14.114
mapOneNaive 13.445 0.162 13.875
plot.owlents 2.199 0.180 28.942
search_labels 0.139 0.008 6.234
* checking for unstated dependencies in ‘tests’ ... OK
* checking tests ...
Running ‘test.R’
OK
* checking for unstated dependencies in vignettes ... OK
* checking package vignettes ... OK
* checking running R code from vignettes ... SKIPPED
* checking re-building of vignette outputs ... SKIPPED
* checking PDF version of manual ... OK
* DONE
Status: 4 NOTEs
See
‘/Users/biocbuild/bbs-3.22-bioc/meat/ontoProc.Rcheck/00check.log’
for details.
ontoProc.Rcheck/00install.out
############################################################################## ############################################################################## ### ### Running command: ### ### /Library/Frameworks/R.framework/Resources/bin/R CMD INSTALL ontoProc ### ############################################################################## ############################################################################## * installing to library ‘/Library/Frameworks/R.framework/Versions/4.5-arm64/Resources/library’ * installing *source* package ‘ontoProc’ ... ** this is package ‘ontoProc’ version ‘2.3.11’ ** using staged installation ** R ** data ** inst ** byte-compile and prepare package for lazy loading ** help *** installing help indices ** building package indices ** installing vignettes ** testing if installed package can be loaded from temporary location ** testing if installed package can be loaded from final location ** testing if installed package keeps a record of temporary installation path * DONE (ontoProc)
ontoProc.Rcheck/tests/test.Rout
R version 4.5.1 Patched (2025-09-10 r88807) -- "Great Square Root"
Copyright (C) 2025 The R Foundation for Statistical Computing
Platform: aarch64-apple-darwin20
R is free software and comes with ABSOLUTELY NO WARRANTY.
You are welcome to redistribute it under certain conditions.
Type 'license()' or 'licence()' for distribution details.
R is a collaborative project with many contributors.
Type 'contributors()' for more information and
'citation()' on how to cite R or R packages in publications.
Type 'demo()' for some demos, 'help()' for on-line help, or
'help.start()' for an HTML browser interface to help.
Type 'q()' to quit R.
>
> library(ontoProc)
Loading required package: ontologyIndex
> library(testthat)
>
> test_check("ontoProc")
[ FAIL 0 | WARN 0 | SKIP 0 | PASS 12 ]
>
>
> proc.time()
user system elapsed
92.759 1.587 95.995
ontoProc.Rcheck/ontoProc-Ex.timings
| name | user | system | elapsed | |
| CLfeats | 25.744 | 0.620 | 27.097 | |
| PROSYM | 0.109 | 0.002 | 0.113 | |
| TermSet-class | 13.612 | 0.292 | 14.114 | |
| allGOterms | 0.043 | 0.001 | 0.044 | |
| ancestors | 0.279 | 0.077 | 0.418 | |
| ancestors_names | 0.001 | 0.001 | 0.003 | |
| bioregistry_ols_resources | 0.249 | 0.006 | 4.989 | |
| cellTypeToGO | 0.785 | 0.048 | 0.840 | |
| children_names | 0.002 | 0.000 | 0.003 | |
| cleanCLOnames | 28.756 | 0.253 | 29.272 | |
| common_classes | 21.324 | 0.434 | 31.551 | |
| ctmarks | 0.000 | 0.000 | 0.001 | |
| cyclicSigset | 0.002 | 0.000 | 0.002 | |
| demoApp | 0 | 0 | 0 | |
| dropStop | 0.002 | 0.001 | 0.002 | |
| fastGrep | 19.096 | 0.271 | 19.654 | |
| findCommonAncestors | 14.148 | 0.284 | 14.676 | |
| formalize | 0 | 0 | 0 | |
| getLeavesFromTerm | 19.218 | 0.256 | 19.817 | |
| getOnto | 14.096 | 0.278 | 14.550 | |
| graph2paths | 2.470 | 0.068 | 2.556 | |
| humrna | 0.003 | 0.001 | 0.004 | |
| jowl2classgraph | 0.112 | 0.002 | 0.114 | |
| jowl2classgraph_nio | 0.255 | 0.002 | 0.258 | |
| labels.owlents | 0 | 0 | 0 | |
| ldfToTerms | 1.139 | 0.024 | 1.175 | |
| liberalMap | 17.500 | 0.187 | 25.031 | |
| makeSelectInput | 0.001 | 0.000 | 0.000 | |
| make_graphNEL_from_ontology_plot | 14.391 | 0.160 | 14.827 | |
| mapOneNaive | 13.445 | 0.162 | 13.875 | |
| minicorpus | 0.000 | 0.001 | 0.001 | |
| nomenCheckup | 29.254 | 0.219 | 29.669 | |
| ontoDiff | 4.312 | 0.220 | 4.938 | |
| onto_plot2 | 14.076 | 0.236 | 14.482 | |
| onto_roots | 0 | 0 | 0 | |
| owl2cache | 0.009 | 0.001 | 0.009 | |
| packDesc2019 | 0.002 | 0.001 | 0.003 | |
| packDesc2021 | 0.001 | 0.001 | 0.002 | |
| packDesc2022 | 0.000 | 0.000 | 0.001 | |
| packDesc2023 | 0.001 | 0.001 | 0.002 | |
| parents | 0.002 | 0.000 | 0.002 | |
| plot.owlents | 2.199 | 0.180 | 28.942 | |
| quickOnto | 0.101 | 0.011 | 0.112 | |
| recognizedPredicates | 0 | 0 | 0 | |
| search_labels | 0.139 | 0.008 | 6.234 | |
| secLevGen | 13.730 | 0.181 | 14.300 | |
| selectFromMap | 14.156 | 0.261 | 14.681 | |
| setup_entities | 0.002 | 0.001 | 0.003 | |
| setup_entities2 | 0.118 | 0.003 | 0.121 | |
| seur3kTab | 0.001 | 0.000 | 0.002 | |
| siblings_TAG | 39.717 | 0.552 | 40.765 | |
| stopWords | 0.000 | 0.001 | 0.001 | |
| subclasses | 0.002 | 0.000 | 0.003 | |
| sym2CellOnto | 70.629 | 0.658 | 71.762 | |
| valid_ontonames | 0 | 0 | 0 | |