Back to Multiple platform build/check report for BioC 3.21: simplified long |
|
This page was generated on 2025-01-28 11:47 -0500 (Tue, 28 Jan 2025).
Hostname | OS | Arch (*) | R version | Installed pkgs |
---|---|---|---|---|
nebbiolo1 | Linux (Ubuntu 24.04.1 LTS) | x86_64 | R Under development (unstable) (2025-01-20 r87609) -- "Unsuffered Consequences" | 4659 |
palomino7 | Windows Server 2022 Datacenter | x64 | R Under development (unstable) (2025-01-21 r87610 ucrt) -- "Unsuffered Consequences" | 4454 |
lconway | macOS 12.7.1 Monterey | x86_64 | R Under development (unstable) (2025-01-22 r87618) -- "Unsuffered Consequences" | 4465 |
kjohnson3 | macOS 13.7.1 Ventura | arm64 | R Under development (unstable) (2025-01-20 r87609) -- "Unsuffered Consequences" | 4419 |
kunpeng2 | Linux (openEuler 22.03 LTS-SP1) | aarch64 | R Under development (unstable) (2024-11-24 r87369) -- "Unsuffered Consequences" | 4409 |
Click on any hostname to see more info about the system (e.g. compilers) (*) as reported by 'uname -p', except on Windows and Mac OS X |
Package 1381/2286 | Hostname | OS / Arch | INSTALL | BUILD | CHECK | BUILD BIN | ||||||||
musicatk 2.1.0 (landing page) Joshua D. Campbell
| nebbiolo1 | Linux (Ubuntu 24.04.1 LTS) / x86_64 | OK | OK | OK | |||||||||
palomino7 | Windows Server 2022 Datacenter / x64 | OK | OK | OK | OK | |||||||||
lconway | macOS 12.7.1 Monterey / x86_64 | OK | OK | OK | OK | |||||||||
kjohnson3 | macOS 13.7.1 Ventura / arm64 | OK | OK | OK | OK | |||||||||
kunpeng2 | Linux (openEuler 22.03 LTS-SP1) / aarch64 | OK | OK | OK | ||||||||||
To the developers/maintainers of the musicatk package: - Allow up to 24 hours (and sometimes 48 hours) for your latest push to git@git.bioconductor.org:packages/musicatk.git to reflect on this report. See Troubleshooting Build Report for more information. - Use the following Renviron settings to reproduce errors and warnings. - If 'R CMD check' started to fail recently on the Linux builder(s) over a missing dependency, add the missing dependency to 'Suggests:' in your DESCRIPTION file. See Renviron.bioc for more information. - See Martin Grigorov's blog post for how to debug Linux ARM64 related issues on a x86_64 host. |
Package: musicatk |
Version: 2.1.0 |
Command: /home/biocbuild/R/R/bin/R CMD check --install=check:musicatk.install-out.txt --library=/home/biocbuild/R/R/site-library --no-vignettes --timings musicatk_2.1.0.tar.gz |
StartedAt: 2025-01-28 13:07:32 -0000 (Tue, 28 Jan 2025) |
EndedAt: 2025-01-28 13:27:13 -0000 (Tue, 28 Jan 2025) |
EllapsedTime: 1180.9 seconds |
RetCode: 0 |
Status: OK |
CheckDir: musicatk.Rcheck |
Warnings: 0 |
############################################################################## ############################################################################## ### ### Running command: ### ### /home/biocbuild/R/R/bin/R CMD check --install=check:musicatk.install-out.txt --library=/home/biocbuild/R/R/site-library --no-vignettes --timings musicatk_2.1.0.tar.gz ### ############################################################################## ############################################################################## * using log directory ‘/home/biocbuild/bbs-3.21-bioc/meat/musicatk.Rcheck’ * using R Under development (unstable) (2024-11-24 r87369) * using platform: aarch64-unknown-linux-gnu * R was compiled by aarch64-unknown-linux-gnu-gcc (GCC) 14.2.0 GNU Fortran (GCC) 14.2.0 * running under: openEuler 24.03 (LTS) * using session charset: UTF-8 * using option ‘--no-vignettes’ * checking for file ‘musicatk/DESCRIPTION’ ... OK * checking extension type ... Package * this is package ‘musicatk’ version ‘2.1.0’ * package encoding: UTF-8 * checking package namespace information ... OK * checking package dependencies ... INFO Imports includes 45 non-default packages. Importing from so many packages makes the package vulnerable to any of them becoming unavailable. Move as many as possible to Suggests and use conditionally. * checking if this is a source package ... OK * checking if there is a namespace ... OK * checking for hidden files and directories ... OK * checking for portable file names ... OK * checking for sufficient/correct file permissions ... OK * checking whether package ‘musicatk’ can be installed ... OK * checking installed package size ... OK * checking package directory ... OK * checking ‘build’ directory ... OK * checking DESCRIPTION meta-information ... OK * checking top-level files ... OK * checking for left-over files ... OK * checking index information ... OK * checking package subdirectories ...Warning: program compiled against libxml 212 using older 211 OK * checking code files for non-ASCII characters ... OK * checking R files for syntax errors ... OK * checking whether the package can be loaded ... OK * checking whether the package can be loaded with stated dependencies ... OK * checking whether the package can be unloaded cleanly ... OK * checking whether the namespace can be loaded with stated dependencies ... OK * checking whether the namespace can be unloaded cleanly ... OK * checking loading without being on the library search path ... OK * checking dependencies in R code ... NOTE Warning: program compiled against libxml 212 using older 211 * checking S3 generic/method consistency ... OK * checking replacement functions ... OK * checking foreign function calls ... OK * checking R code for possible problems ... OK * checking Rd files ... OK * checking Rd metadata ... OK * checking Rd cross-references ... NOTE Found the following Rd file(s) with Rd \link{} targets missing package anchors: add_flank_to_variants.Rd: BSgenome-class build_standard_table.Rd: BSgenome-class create_musica_from_variants.Rd: BSgenome-class create_sbs192_table.Rd: BSgenome-class create_sbs96_table.Rd: BSgenome-class extract_variants.Rd: CollapsedVCF-class, ExpandedVCF-class, MAF-class variants.Rd: data.table-class Please provide package anchors for all Rd \link{} targets not in the package itself and the base packages. * checking for missing documentation entries ... OK * checking for code/documentation mismatches ... OK * checking Rd \usage sections ... OK * checking Rd contents ... OK * checking for unstated dependencies in examples ... OK * checking contents of ‘data’ directory ... OK * checking data for non-ASCII characters ... OK * checking LazyData ... OK * checking data for ASCII and uncompressed saves ... OK * checking files in ‘vignettes’ ... OK * checking examples ... OK Examples with CPU (user + system) or elapsed time > 5s user system elapsed plot_k_comparison 240.859 3.939 307.815 compare_k_vals 219.300 0.935 274.995 build_standard_table 9.619 0.533 13.242 plot_cluster 5.945 0.056 6.984 create_umap 5.656 0.040 7.340 extract_variants 5.504 0.111 6.790 plot_umap 5.367 0.048 6.614 auto_predict_grid 4.228 0.000 5.380 * checking for unstated dependencies in ‘tests’ ... OK * checking tests ... Running ‘testthat.R’ OK * checking for unstated dependencies in vignettes ... OK * checking package vignettes ... OK * checking running R code from vignettes ... SKIPPED * checking re-building of vignette outputs ... SKIPPED * checking PDF version of manual ... OK * DONE Status: 2 NOTEs See ‘/home/biocbuild/bbs-3.21-bioc/meat/musicatk.Rcheck/00check.log’ for details.
musicatk.Rcheck/00install.out
############################################################################## ############################################################################## ### ### Running command: ### ### /home/biocbuild/R/R/bin/R CMD INSTALL musicatk ### ############################################################################## ############################################################################## * installing to library ‘/home/biocbuild/R/R-4.5.0-devel_2024-11-24/site-library’ * installing *source* package ‘musicatk’ ... ** using staged installation ** R ** data *** moving datasets to lazyload DB ** inst ** byte-compile and prepare package for lazy loading ** help *** installing help indices ** building package indices ** installing vignettes ** testing if installed package can be loaded from temporary location ** testing if installed package can be loaded from final location ** testing if installed package keeps a record of temporary installation path * DONE (musicatk)
musicatk.Rcheck/tests/testthat.Rout
R Under development (unstable) (2024-11-24 r87369) -- "Unsuffered Consequences" Copyright (C) 2024 The R Foundation for Statistical Computing Platform: aarch64-unknown-linux-gnu R is free software and comes with ABSOLUTELY NO WARRANTY. You are welcome to redistribute it under certain conditions. Type 'license()' or 'licence()' for distribution details. R is a collaborative project with many contributors. Type 'contributors()' for more information and 'citation()' on how to cite R or R packages in publications. Type 'demo()' for some demos, 'help()' for on-line help, or 'help.start()' for an HTML browser interface to help. Type 'q()' to quit R. > library("testthat") > library("musicatk") Loading required package: NMF Loading required package: registry Loading required package: rngtools Loading required package: cluster NMF - BioConductor layer [OK] | Shared memory capabilities [NO: bigmemory] | Cores 2/2 To enable shared memory capabilities, try: install.extras(' NMF ') Attaching package: 'NMF' The following object is masked from 'package:generics': fit The following object is masked from 'package:testthat': compare > > test_check("musicatk") [ FAIL 0 | WARN 1 | SKIP 0 | PASS 41 ] [ FAIL 0 | WARN 1 | SKIP 0 | PASS 41 ] > > proc.time() user system elapsed 25.471 0.791 34.510
musicatk.Rcheck/musicatk-Ex.timings
name | user | system | elapsed | |
add_flank_to_variants | 3.812 | 0.127 | 4.526 | |
add_variant_type | 0.021 | 0.000 | 0.021 | |
annotate_replication_strand | 0.164 | 0.008 | 0.172 | |
annotate_transcript_strand | 1.522 | 0.016 | 1.885 | |
annotate_variant_length | 0.016 | 0.000 | 0.016 | |
annotate_variant_type | 0.002 | 0.000 | 0.003 | |
auto_predict_grid | 4.228 | 0.000 | 5.380 | |
build_custom_table | 1.156 | 0.040 | 1.245 | |
build_standard_table | 9.619 | 0.533 | 13.242 | |
built_tables | 0.002 | 0.000 | 0.002 | |
cluster_exposure | 0.020 | 0.000 | 0.039 | |
combine_count_tables | 3.095 | 0.196 | 3.977 | |
combine_predict_grid | 0.815 | 0.000 | 0.825 | |
compare_cosmic_v2 | 4.054 | 0.052 | 4.669 | |
compare_cosmic_v3 | 2.309 | 0.012 | 2.701 | |
compare_k_vals | 219.300 | 0.935 | 274.995 | |
compare_results | 2.494 | 0.004 | 2.674 | |
cosmic_v2_subtype_map | 0.002 | 0.000 | 0.001 | |
create_musica_from_counts | 0.005 | 0.000 | 0.005 | |
create_musica_from_variants | 0.966 | 0.112 | 1.326 | |
create_result_model | 0.003 | 0.000 | 0.002 | |
create_umap | 5.656 | 0.040 | 7.340 | |
credible_intervals | 0.003 | 0.000 | 0.003 | |
discover_signatures | 0.915 | 0.056 | 1.000 | |
drop_annotation | 0.003 | 0.000 | 0.002 | |
exposure_differential_analysis | 0.012 | 0.000 | 0.012 | |
exposures | 0.023 | 0.000 | 0.023 | |
extract_count_tables | 0.004 | 0.000 | 0.005 | |
extract_variants | 5.504 | 0.111 | 6.790 | |
extract_variants_from_maf | 0.151 | 0.000 | 0.217 | |
extract_variants_from_maf_file | 0.145 | 0.008 | 0.153 | |
extract_variants_from_matrix | 0.147 | 0.004 | 0.151 | |
extract_variants_from_vcf | 0.876 | 0.020 | 0.922 | |
extract_variants_from_vcf_file | 0.628 | 0.000 | 0.964 | |
generate_result_grid | 0.500 | 0.000 | 0.501 | |
get_modality | 0.003 | 0.004 | 0.007 | |
get_model | 0.002 | 0.004 | 0.005 | |
get_result_list_entry | 0.007 | 0.000 | 0.006 | |
hyperparameter | 0.002 | 0.000 | 0.002 | |
k_select | 1.023 | 0.004 | 1.189 | |
metrics | 0.003 | 0.000 | 0.003 | |
modality | 0.003 | 0.000 | 0.002 | |
model_id | 0.002 | 0.000 | 0.002 | |
musicatk | 0 | 0 | 0 | |
name_signatures | 0.043 | 0.000 | 0.043 | |
num_signatures | 0.002 | 0.000 | 0.002 | |
other_parameters | 0.002 | 0.000 | 0.002 | |
parameter | 0.002 | 0.000 | 0.002 | |
pipe | 0.003 | 0.000 | 0.003 | |
plot_cluster | 5.945 | 0.056 | 6.984 | |
plot_differential_analysis | 0.234 | 0.000 | 0.471 | |
plot_exposures | 0.420 | 0.000 | 0.668 | |
plot_heatmap | 1.006 | 0.004 | 1.023 | |
plot_k_comparison | 240.859 | 3.939 | 307.815 | |
plot_sample_counts | 0.711 | 0.000 | 0.736 | |
plot_sample_reconstruction_error | 1.029 | 0.008 | 1.147 | |
plot_signatures | 1.076 | 0.000 | 1.134 | |
plot_umap | 5.367 | 0.048 | 6.614 | |
predict_exposure | 1.755 | 0.052 | 2.101 | |
rc | 0.003 | 0.000 | 0.003 | |
result_list | 0.000 | 0.004 | 0.004 | |
samp_annot | 0.007 | 0.000 | 0.007 | |
sample_names | 0.003 | 0.000 | 0.003 | |
select_genome | 0 | 0 | 0 | |
signatures | 0.024 | 0.000 | 0.024 | |
subset_musica_by_annotation | 0.006 | 0.000 | 0.011 | |
subset_musica_by_counts | 0.011 | 0.000 | 0.024 | |
subset_variant_by_type | 0.007 | 0.000 | 0.016 | |
subset_variants_by_samples | 0.006 | 0.000 | 0.015 | |
table_selected | 0.002 | 0.000 | 0.007 | |
tables | 0.005 | 0.000 | 0.004 | |
umap | 0.002 | 0.000 | 0.006 | |
variants | 0.006 | 0.000 | 0.010 | |