Back to Multiple platform build/check report for BioC 3.22:   simplified   long
ABCDEFGHIJKL[M]NOPQRSTUVWXYZ

This page was generated on 2025-05-23 12:08 -0400 (Fri, 23 May 2025).

HostnameOSArch (*)R versionInstalled pkgs
nebbiolo2Linux (Ubuntu 24.04.1 LTS)x86_644.5.0 (2025-04-11) -- "How About a Twenty-Six" 4753
palomino8Windows Server 2022 Datacenterx644.5.0 (2025-04-11 ucrt) -- "How About a Twenty-Six" 4528
lconwaymacOS 12.7.1 Montereyx86_644.5.0 Patched (2025-04-21 r88169) -- "How About a Twenty-Six" 4553
kjohnson3macOS 13.7.1 Venturaarm644.5.0 Patched (2025-04-21 r88169) -- "How About a Twenty-Six" 4493
taishanLinux (openEuler 24.03 LTS)aarch644.5.0 (2025-04-11) -- "How About a Twenty-Six" 4460
Click on any hostname to see more info about the system (e.g. compilers)      (*) as reported by 'uname -p', except on Windows and Mac OS X

Package 1396/2306HostnameOS / ArchINSTALLBUILDCHECKBUILD BIN
musicatk 2.3.0  (landing page)
Joshua D. Campbell
Snapshot Date: 2025-05-22 13:25 -0400 (Thu, 22 May 2025)
git_url: https://git.bioconductor.org/packages/musicatk
git_branch: devel
git_last_commit: 55ec56b
git_last_commit_date: 2025-04-15 12:12:56 -0400 (Tue, 15 Apr 2025)
nebbiolo2Linux (Ubuntu 24.04.1 LTS) / x86_64  OK    OK    OK  UNNEEDED, same version is already published
palomino8Windows Server 2022 Datacenter / x64  OK    OK    OK    OK  UNNEEDED, same version is already published
lconwaymacOS 12.7.1 Monterey / x86_64  OK    OK    OK    OK  UNNEEDED, same version is already published
kjohnson3macOS 13.7.1 Ventura / arm64  OK    OK    OK    OK  UNNEEDED, same version is already published
taishanLinux (openEuler 24.03 LTS) / aarch64  ERROR    ERROR  skipped


CHECK results for musicatk on lconway

To the developers/maintainers of the musicatk package:
- Allow up to 24 hours (and sometimes 48 hours) for your latest push to git@git.bioconductor.org:packages/musicatk.git to reflect on this report. See Troubleshooting Build Report for more information.
- Use the following Renviron settings to reproduce errors and warnings.
- If 'R CMD check' started to fail recently on the Linux builder(s) over a missing dependency, add the missing dependency to 'Suggests:' in your DESCRIPTION file. See Renviron.bioc for more information.

raw results


Summary

Package: musicatk
Version: 2.3.0
Command: /Library/Frameworks/R.framework/Resources/bin/R CMD check --install=check:musicatk.install-out.txt --library=/Library/Frameworks/R.framework/Resources/library --no-vignettes --timings musicatk_2.3.0.tar.gz
StartedAt: 2025-05-22 22:00:44 -0400 (Thu, 22 May 2025)
EndedAt: 2025-05-22 22:14:13 -0400 (Thu, 22 May 2025)
EllapsedTime: 809.7 seconds
RetCode: 0
Status:   OK  
CheckDir: musicatk.Rcheck
Warnings: 0

Command output

##############################################################################
##############################################################################
###
### Running command:
###
###   /Library/Frameworks/R.framework/Resources/bin/R CMD check --install=check:musicatk.install-out.txt --library=/Library/Frameworks/R.framework/Resources/library --no-vignettes --timings musicatk_2.3.0.tar.gz
###
##############################################################################
##############################################################################


* using log directory ‘/Users/biocbuild/bbs-3.22-bioc/meat/musicatk.Rcheck’
* using R version 4.5.0 Patched (2025-04-21 r88169)
* using platform: x86_64-apple-darwin20
* R was compiled by
    Apple clang version 14.0.0 (clang-1400.0.29.202)
    GNU Fortran (GCC) 14.2.0
* running under: macOS Monterey 12.7.6
* using session charset: UTF-8
* using option ‘--no-vignettes’
* checking for file ‘musicatk/DESCRIPTION’ ... OK
* checking extension type ... Package
* this is package ‘musicatk’ version ‘2.3.0’
* package encoding: UTF-8
* checking package namespace information ... OK
* checking package dependencies ... INFO
Imports includes 45 non-default packages.
Importing from so many packages makes the package vulnerable to any of
them becoming unavailable.  Move as many as possible to Suggests and
use conditionally.
* checking if this is a source package ... OK
* checking if there is a namespace ... OK
* checking for hidden files and directories ... OK
* checking for portable file names ... OK
* checking for sufficient/correct file permissions ... OK
* checking whether package ‘musicatk’ can be installed ... OK
* checking installed package size ... OK
* checking package directory ... OK
* checking ‘build’ directory ... OK
* checking DESCRIPTION meta-information ... OK
* checking top-level files ... OK
* checking for left-over files ... OK
* checking index information ... OK
* checking package subdirectories ... OK
* checking code files for non-ASCII characters ... OK
* checking R files for syntax errors ... OK
* checking whether the package can be loaded ... OK
* checking whether the package can be loaded with stated dependencies ... OK
* checking whether the package can be unloaded cleanly ... OK
* checking whether the namespace can be loaded with stated dependencies ... OK
* checking whether the namespace can be unloaded cleanly ... OK
* checking dependencies in R code ... OK
* checking S3 generic/method consistency ... OK
* checking replacement functions ... OK
* checking foreign function calls ... OK
* checking R code for possible problems ... OK
* checking Rd files ... OK
* checking Rd metadata ... OK
* checking Rd cross-references ... NOTE
Found the following Rd file(s) with Rd \link{} targets missing package
anchors:
  add_flank_to_variants.Rd: BSgenome-class
  build_standard_table.Rd: BSgenome-class
  create_musica_from_variants.Rd: BSgenome-class
  create_sbs192_table.Rd: BSgenome-class
  create_sbs96_table.Rd: BSgenome-class
  extract_variants.Rd: CollapsedVCF-class, ExpandedVCF-class, MAF-class
  variants.Rd: data.table-class
Please provide package anchors for all Rd \link{} targets not in the
package itself and the base packages.
* checking for missing documentation entries ... OK
* checking for code/documentation mismatches ... OK
* checking Rd \usage sections ... OK
* checking Rd contents ... OK
* checking for unstated dependencies in examples ... OK
* checking contents of ‘data’ directory ... OK
* checking data for non-ASCII characters ... OK
* checking LazyData ... OK
* checking data for ASCII and uncompressed saves ... OK
* checking files in ‘vignettes’ ... OK
* checking examples ... OK
Examples with CPU (user + system) or elapsed time > 5s
                        user system elapsed
plot_k_comparison    200.199  1.593 203.069
compare_k_vals       183.497  1.851 186.514
build_standard_table   8.495  0.868   9.466
plot_cluster           5.549  0.187   5.754
create_umap            5.421  0.095   5.536
* checking for unstated dependencies in ‘tests’ ... OK
* checking tests ...
  Running ‘testthat.R’
 OK
* checking for unstated dependencies in vignettes ... OK
* checking package vignettes ... OK
* checking running R code from vignettes ... SKIPPED
* checking re-building of vignette outputs ... SKIPPED
* checking PDF version of manual ... OK
* DONE

Status: 1 NOTE
See
  ‘/Users/biocbuild/bbs-3.22-bioc/meat/musicatk.Rcheck/00check.log’
for details.


Installation output

musicatk.Rcheck/00install.out

##############################################################################
##############################################################################
###
### Running command:
###
###   /Library/Frameworks/R.framework/Resources/bin/R CMD INSTALL musicatk
###
##############################################################################
##############################################################################


* installing to library ‘/Library/Frameworks/R.framework/Versions/4.5-x86_64/Resources/library’
* installing *source* package ‘musicatk’ ...
** this is package ‘musicatk’ version ‘2.3.0’
** using staged installation
** R
** data
*** moving datasets to lazyload DB
** inst
** byte-compile and prepare package for lazy loading
** help
*** installing help indices
** building package indices
** installing vignettes
** testing if installed package can be loaded from temporary location
** testing if installed package can be loaded from final location
** testing if installed package keeps a record of temporary installation path
* DONE (musicatk)

Tests output

musicatk.Rcheck/tests/testthat.Rout


R version 4.5.0 Patched (2025-04-21 r88169) -- "How About a Twenty-Six"
Copyright (C) 2025 The R Foundation for Statistical Computing
Platform: x86_64-apple-darwin20

R is free software and comes with ABSOLUTELY NO WARRANTY.
You are welcome to redistribute it under certain conditions.
Type 'license()' or 'licence()' for distribution details.

R is a collaborative project with many contributors.
Type 'contributors()' for more information and
'citation()' on how to cite R or R packages in publications.

Type 'demo()' for some demos, 'help()' for on-line help, or
'help.start()' for an HTML browser interface to help.
Type 'q()' to quit R.

> library("testthat")
> library("musicatk")
Loading required package: NMF
Loading required package: registry
Loading required package: rngtools
Loading required package: cluster
NMF - BioConductor layer [OK] | Shared memory capabilities [NO: synchronicity] | Cores 2/2
  To enable shared memory capabilities, try: install.extras('
NMF
')

Attaching package: 'NMF'

The following object is masked from 'package:generics':

    fit

The following object is masked from 'package:testthat':

    compare

> 
> test_check("musicatk")
[ FAIL 0 | WARN 2 | SKIP 0 | PASS 41 ]

[ FAIL 0 | WARN 2 | SKIP 0 | PASS 41 ]
> 
> proc.time()
   user  system elapsed 
 22.170   1.116  23.433 

Example timings

musicatk.Rcheck/musicatk-Ex.timings

nameusersystemelapsed
add_flank_to_variants3.3410.3473.724
add_variant_type0.0180.0030.021
annotate_replication_strand0.1140.0080.123
annotate_transcript_strand2.2350.0482.295
annotate_variant_length0.0150.0030.018
annotate_variant_type0.0030.0020.005
auto_predict_grid1.9600.0592.029
build_custom_table0.9820.0201.007
build_standard_table8.4950.8689.466
built_tables0.0020.0010.004
cluster_exposure0.0190.0050.025
combine_count_tables3.9330.2534.205
combine_predict_grid0.4920.0280.523
compare_cosmic_v23.0040.0403.056
compare_cosmic_v31.6640.0121.683
compare_k_vals183.497 1.851186.514
compare_results1.8620.0311.897
cosmic_v2_subtype_map0.0000.0000.001
create_musica_from_counts0.0060.0020.008
create_musica_from_variants0.9510.2331.220
create_result_model0.0020.0010.003
create_umap5.4210.0955.536
credible_intervals0.0030.0010.005
discover_signatures0.8480.1070.960
drop_annotation0.0020.0020.004
exposure_differential_analysis0.0090.0030.013
exposures0.0220.0030.025
extract_count_tables0.0050.0020.007
extract_variants4.6730.0644.755
extract_variants_from_maf0.1130.0030.116
extract_variants_from_maf_file0.0870.0010.089
extract_variants_from_matrix0.0930.0010.095
extract_variants_from_vcf0.7690.0230.795
extract_variants_from_vcf_file0.5230.0040.529
generate_result_grid0.3770.0040.383
get_modality0.0070.0040.010
get_model0.0040.0030.007
get_result_list_entry0.0060.0010.007
hyperparameter0.0020.0010.003
k_select0.8580.0160.878
metrics0.0030.0020.005
modality0.0030.0020.004
model_id0.0020.0010.003
musicatk0.0000.0010.000
name_signatures0.0380.0010.040
num_signatures0.0020.0010.003
other_parameters0.0020.0010.003
parameter0.0020.0020.003
pipe0.0020.0010.004
plot_cluster5.5490.1875.754
plot_differential_analysis0.1680.0030.171
plot_exposures0.3260.0040.331
plot_heatmap0.8190.0220.845
plot_k_comparison200.199 1.593203.069
plot_sample_counts0.6450.0080.656
plot_sample_reconstruction_error0.8910.0220.919
plot_signatures0.9120.0080.926
plot_umap4.7520.0534.824
predict_exposure1.2110.0751.291
rc0.0020.0000.003
result_list0.0040.0020.006
samp_annot0.0060.0040.011
sample_names0.0030.0020.005
select_genome000
signatures0.0230.0060.029
subset_musica_by_annotation0.0050.0030.009
subset_musica_by_counts0.0090.0040.013
subset_variant_by_type0.0060.0030.009
subset_variants_by_samples0.0070.0020.010
table_selected0.0020.0020.003
tables0.0040.0020.006
umap0.0020.0020.004
variants0.0060.0030.009