Back to Multiple platform build/check report for BioC 3.21:   simplified   long
ABCDEFGHIJKL[M]NOPQRSTUVWXYZ

This page was generated on 2025-02-19 11:40 -0500 (Wed, 19 Feb 2025).

HostnameOSArch (*)R versionInstalled pkgs
nebbiolo1Linux (Ubuntu 24.04.1 LTS)x86_64R Under development (unstable) (2025-01-20 r87609) -- "Unsuffered Consequences" 4720
palomino7Windows Server 2022 Datacenterx64R Under development (unstable) (2025-01-21 r87610 ucrt) -- "Unsuffered Consequences" 4482
lconwaymacOS 12.7.1 Montereyx86_64R Under development (unstable) (2025-01-22 r87618) -- "Unsuffered Consequences" 4493
kjohnson3macOS 13.7.1 Venturaarm64R Under development (unstable) (2025-01-20 r87609) -- "Unsuffered Consequences" 4446
Click on any hostname to see more info about the system (e.g. compilers)      (*) as reported by 'uname -p', except on Windows and Mac OS X

Package 1386/2295HostnameOS / ArchINSTALLBUILDCHECKBUILD BIN
musicatk 2.1.0  (landing page)
Joshua D. Campbell
Snapshot Date: 2025-02-18 13:40 -0500 (Tue, 18 Feb 2025)
git_url: https://git.bioconductor.org/packages/musicatk
git_branch: devel
git_last_commit: 45539aa
git_last_commit_date: 2024-10-29 10:52:22 -0500 (Tue, 29 Oct 2024)
nebbiolo1Linux (Ubuntu 24.04.1 LTS) / x86_64  OK    OK    OK  UNNEEDED, same version is already published
palomino7Windows Server 2022 Datacenter / x64  OK    OK    OK    OK  UNNEEDED, same version is already published
lconwaymacOS 12.7.1 Monterey / x86_64  OK    OK    OK    OK  UNNEEDED, same version is already published
kjohnson3macOS 13.7.1 Ventura / arm64  OK    OK    OK    OK  UNNEEDED, same version is already published


CHECK results for musicatk on nebbiolo1

To the developers/maintainers of the musicatk package:
- Allow up to 24 hours (and sometimes 48 hours) for your latest push to git@git.bioconductor.org:packages/musicatk.git to reflect on this report. See Troubleshooting Build Report for more information.
- Use the following Renviron settings to reproduce errors and warnings.
- If 'R CMD check' started to fail recently on the Linux builder(s) over a missing dependency, add the missing dependency to 'Suggests:' in your DESCRIPTION file. See Renviron.bioc for more information.

raw results


Summary

Package: musicatk
Version: 2.1.0
Command: /home/biocbuild/bbs-3.21-bioc/R/bin/R CMD check --install=check:musicatk.install-out.txt --library=/home/biocbuild/bbs-3.21-bioc/R/site-library --timings musicatk_2.1.0.tar.gz
StartedAt: 2025-02-19 00:21:01 -0500 (Wed, 19 Feb 2025)
EndedAt: 2025-02-19 00:38:24 -0500 (Wed, 19 Feb 2025)
EllapsedTime: 1043.7 seconds
RetCode: 0
Status:   OK  
CheckDir: musicatk.Rcheck
Warnings: 0

Command output

##############################################################################
##############################################################################
###
### Running command:
###
###   /home/biocbuild/bbs-3.21-bioc/R/bin/R CMD check --install=check:musicatk.install-out.txt --library=/home/biocbuild/bbs-3.21-bioc/R/site-library --timings musicatk_2.1.0.tar.gz
###
##############################################################################
##############################################################################


* using log directory ‘/home/biocbuild/bbs-3.21-bioc/meat/musicatk.Rcheck’
* using R Under development (unstable) (2025-01-20 r87609)
* using platform: x86_64-pc-linux-gnu
* R was compiled by
    gcc (Ubuntu 13.3.0-6ubuntu2~24.04) 13.3.0
    GNU Fortran (Ubuntu 13.3.0-6ubuntu2~24.04) 13.3.0
* running under: Ubuntu 24.04.2 LTS
* using session charset: UTF-8
* checking for file ‘musicatk/DESCRIPTION’ ... OK
* checking extension type ... Package
* this is package ‘musicatk’ version ‘2.1.0’
* package encoding: UTF-8
* checking package namespace information ... OK
* checking package dependencies ... INFO
Imports includes 45 non-default packages.
Importing from so many packages makes the package vulnerable to any of
them becoming unavailable.  Move as many as possible to Suggests and
use conditionally.
* checking if this is a source package ... OK
* checking if there is a namespace ... OK
* checking for hidden files and directories ... OK
* checking for portable file names ... OK
* checking for sufficient/correct file permissions ... OK
* checking whether package ‘musicatk’ can be installed ... OK
* checking installed package size ... OK
* checking package directory ... OK
* checking ‘build’ directory ... OK
* checking DESCRIPTION meta-information ... OK
* checking top-level files ... OK
* checking for left-over files ... OK
* checking index information ... OK
* checking package subdirectories ... OK
* checking code files for non-ASCII characters ... OK
* checking R files for syntax errors ... OK
* checking whether the package can be loaded ... OK
* checking whether the package can be loaded with stated dependencies ... OK
* checking whether the package can be unloaded cleanly ... OK
* checking whether the namespace can be loaded with stated dependencies ... OK
* checking whether the namespace can be unloaded cleanly ... OK
* checking loading without being on the library search path ... OK
* checking dependencies in R code ... OK
* checking S3 generic/method consistency ... OK
* checking replacement functions ... OK
* checking foreign function calls ... OK
* checking R code for possible problems ... OK
* checking Rd files ... OK
* checking Rd metadata ... OK
* checking Rd cross-references ... NOTE
Found the following Rd file(s) with Rd \link{} targets missing package
anchors:
  add_flank_to_variants.Rd: BSgenome-class
  build_standard_table.Rd: BSgenome-class
  create_musica_from_variants.Rd: BSgenome-class
  create_sbs192_table.Rd: BSgenome-class
  create_sbs96_table.Rd: BSgenome-class
  extract_variants.Rd: CollapsedVCF-class, ExpandedVCF-class, MAF-class
  variants.Rd: data.table-class
Please provide package anchors for all Rd \link{} targets not in the
package itself and the base packages.
* checking for missing documentation entries ... OK
* checking for code/documentation mismatches ... OK
* checking Rd \usage sections ... OK
* checking Rd contents ... OK
* checking for unstated dependencies in examples ... OK
* checking contents of ‘data’ directory ... OK
* checking data for non-ASCII characters ... OK
* checking LazyData ... OK
* checking data for ASCII and uncompressed saves ... OK
* checking files in ‘vignettes’ ... OK
* checking examples ... OK
Examples with CPU (user + system) or elapsed time > 5s
                        user system elapsed
plot_k_comparison    193.488  5.839 199.324
compare_k_vals       183.672 12.002 195.691
build_standard_table   6.752  1.215   7.968
plot_umap              5.127  0.125   5.263
plot_cluster           5.009  0.214   5.233
create_umap            4.927  0.233   5.171
* checking for unstated dependencies in ‘tests’ ... OK
* checking tests ...
  Running ‘testthat.R’
 OK
* checking for unstated dependencies in vignettes ... OK
* checking package vignettes ... OK
* checking re-building of vignette outputs ... OK
* checking PDF version of manual ... OK
* DONE

Status: 1 NOTE
See
  ‘/home/biocbuild/bbs-3.21-bioc/meat/musicatk.Rcheck/00check.log’
for details.


Installation output

musicatk.Rcheck/00install.out

##############################################################################
##############################################################################
###
### Running command:
###
###   /home/biocbuild/bbs-3.21-bioc/R/bin/R CMD INSTALL musicatk
###
##############################################################################
##############################################################################


* installing to library ‘/home/biocbuild/bbs-3.21-bioc/R/site-library’
* installing *source* package ‘musicatk’ ...
** this is package ‘musicatk’ version ‘2.1.0’
** using staged installation
** R
** data
*** moving datasets to lazyload DB
** inst
** byte-compile and prepare package for lazy loading
** help
*** installing help indices
** building package indices
** installing vignettes
** testing if installed package can be loaded from temporary location
** testing if installed package can be loaded from final location
** testing if installed package keeps a record of temporary installation path
* DONE (musicatk)

Tests output

musicatk.Rcheck/tests/testthat.Rout


R Under development (unstable) (2025-01-20 r87609) -- "Unsuffered Consequences"
Copyright (C) 2025 The R Foundation for Statistical Computing
Platform: x86_64-pc-linux-gnu

R is free software and comes with ABSOLUTELY NO WARRANTY.
You are welcome to redistribute it under certain conditions.
Type 'license()' or 'licence()' for distribution details.

R is a collaborative project with many contributors.
Type 'contributors()' for more information and
'citation()' on how to cite R or R packages in publications.

Type 'demo()' for some demos, 'help()' for on-line help, or
'help.start()' for an HTML browser interface to help.
Type 'q()' to quit R.

> library("testthat")
> library("musicatk")
Loading required package: NMF
Loading required package: registry
Loading required package: rngtools
Loading required package: cluster
NMF - BioConductor layer [OK] | Shared memory capabilities [NO: bigmemory] | Cores 2/2
  To enable shared memory capabilities, try: install.extras('
NMF
')

Attaching package: 'NMF'

The following object is masked from 'package:generics':

    fit

The following object is masked from 'package:testthat':

    compare

> 
> test_check("musicatk")
[ FAIL 0 | WARN 1 | SKIP 0 | PASS 41 ]

[ FAIL 0 | WARN 1 | SKIP 0 | PASS 41 ]
> 
> proc.time()
   user  system elapsed 
 20.671   1.291  21.958 

Example timings

musicatk.Rcheck/musicatk-Ex.timings

nameusersystemelapsed
add_flank_to_variants2.9140.3903.309
add_variant_type0.0170.0020.019
annotate_replication_strand0.1150.0130.128
annotate_transcript_strand1.1090.0571.166
annotate_variant_length0.0130.0010.014
annotate_variant_type0.0030.0000.003
auto_predict_grid2.7190.0642.783
build_custom_table0.8280.0180.846
build_standard_table6.7521.2157.968
built_tables0.0010.0010.002
cluster_exposure0.0130.0030.018
combine_count_tables2.1610.3672.528
combine_predict_grid0.4220.0030.425
compare_cosmic_v22.5450.0172.562
compare_cosmic_v31.5220.0291.551
compare_k_vals183.672 12.002195.691
compare_results1.6380.0741.713
cosmic_v2_subtype_map0.0010.0000.001
create_musica_from_counts0.0020.0020.004
create_musica_from_variants0.7600.2811.021
create_result_model0.0010.0020.002
create_umap4.9270.2335.171
credible_intervals0.0030.0000.004
discover_signatures0.6660.1450.812
drop_annotation0.0000.0020.002
exposure_differential_analysis0.0090.0010.011
exposures0.0170.0010.019
extract_count_tables0.0030.0010.004
extract_variants3.9400.0813.969
extract_variants_from_maf0.1240.0040.097
extract_variants_from_maf_file0.1120.0000.082
extract_variants_from_matrix0.1280.0030.101
extract_variants_from_vcf0.5780.0110.588
extract_variants_from_vcf_file0.4080.0080.417
generate_result_grid0.3390.0060.345
get_modality0.0050.0020.007
get_model0.0020.0040.006
get_result_list_entry0.0040.0010.005
hyperparameter0.0020.0000.003
k_select0.6390.0140.653
metrics0.0010.0010.002
modality0.0010.0010.002
model_id0.0020.0000.002
musicatk000
name_signatures0.0310.0000.030
num_signatures0.0010.0000.002
other_parameters0.0010.0010.002
parameter0.0020.0000.002
pipe0.0030.0000.003
plot_cluster5.0090.2145.233
plot_differential_analysis0.1540.0040.158
plot_exposures0.2890.0010.290
plot_heatmap0.6790.0090.688
plot_k_comparison193.488 5.839199.324
plot_sample_counts0.5340.0250.559
plot_sample_reconstruction_error0.7580.0030.760
plot_signatures0.7620.0200.782
plot_umap5.1270.1255.263
predict_exposure1.0590.1361.195
rc0.0030.0000.003
result_list0.0010.0020.003
samp_annot0.0060.0010.007
sample_names0.0030.0000.003
select_genome000
signatures0.0180.0020.020
subset_musica_by_annotation0.0060.0000.006
subset_musica_by_counts0.0080.0020.010
subset_variant_by_type0.0040.0020.006
subset_variants_by_samples0.0050.0010.006
table_selected0.0020.0000.002
tables0.0040.0000.004
umap0.0030.0000.002
variants0.0040.0010.006