Back to Multiple platform build/check report for BioC 3.21: simplified long |
|
This page was generated on 2025-01-28 11:47 -0500 (Tue, 28 Jan 2025).
Hostname | OS | Arch (*) | R version | Installed pkgs |
---|---|---|---|---|
nebbiolo1 | Linux (Ubuntu 24.04.1 LTS) | x86_64 | R Under development (unstable) (2025-01-20 r87609) -- "Unsuffered Consequences" | 4659 |
palomino7 | Windows Server 2022 Datacenter | x64 | R Under development (unstable) (2025-01-21 r87610 ucrt) -- "Unsuffered Consequences" | 4454 |
lconway | macOS 12.7.1 Monterey | x86_64 | R Under development (unstable) (2025-01-22 r87618) -- "Unsuffered Consequences" | 4465 |
kjohnson3 | macOS 13.7.1 Ventura | arm64 | R Under development (unstable) (2025-01-20 r87609) -- "Unsuffered Consequences" | 4419 |
kunpeng2 | Linux (openEuler 22.03 LTS-SP1) | aarch64 | R Under development (unstable) (2024-11-24 r87369) -- "Unsuffered Consequences" | 4409 |
Click on any hostname to see more info about the system (e.g. compilers) (*) as reported by 'uname -p', except on Windows and Mac OS X |
Package 730/2286 | Hostname | OS / Arch | INSTALL | BUILD | CHECK | BUILD BIN | ||||||||
flowGraph 1.15.0 (landing page) Alice Yue
| nebbiolo1 | Linux (Ubuntu 24.04.1 LTS) / x86_64 | OK | OK | OK | |||||||||
palomino7 | Windows Server 2022 Datacenter / x64 | OK | OK | OK | OK | |||||||||
lconway | macOS 12.7.1 Monterey / x86_64 | OK | OK | OK | OK | |||||||||
kjohnson3 | macOS 13.7.1 Ventura / arm64 | OK | OK | OK | OK | |||||||||
kunpeng2 | Linux (openEuler 22.03 LTS-SP1) / aarch64 | OK | OK | OK | ||||||||||
To the developers/maintainers of the flowGraph package: - Allow up to 24 hours (and sometimes 48 hours) for your latest push to git@git.bioconductor.org:packages/flowGraph.git to reflect on this report. See Troubleshooting Build Report for more information. - Use the following Renviron settings to reproduce errors and warnings. - If 'R CMD check' started to fail recently on the Linux builder(s) over a missing dependency, add the missing dependency to 'Suggests:' in your DESCRIPTION file. See Renviron.bioc for more information. - See Martin Grigorov's blog post for how to debug Linux ARM64 related issues on a x86_64 host. |
Package: flowGraph |
Version: 1.15.0 |
Command: /home/biocbuild/R/R/bin/R CMD check --install=check:flowGraph.install-out.txt --library=/home/biocbuild/R/R/site-library --no-vignettes --timings flowGraph_1.15.0.tar.gz |
StartedAt: 2025-01-28 10:40:30 -0000 (Tue, 28 Jan 2025) |
EndedAt: 2025-01-28 10:45:17 -0000 (Tue, 28 Jan 2025) |
EllapsedTime: 287.3 seconds |
RetCode: 0 |
Status: OK |
CheckDir: flowGraph.Rcheck |
Warnings: 0 |
############################################################################## ############################################################################## ### ### Running command: ### ### /home/biocbuild/R/R/bin/R CMD check --install=check:flowGraph.install-out.txt --library=/home/biocbuild/R/R/site-library --no-vignettes --timings flowGraph_1.15.0.tar.gz ### ############################################################################## ############################################################################## * using log directory ‘/home/biocbuild/bbs-3.21-bioc/meat/flowGraph.Rcheck’ * using R Under development (unstable) (2024-11-24 r87369) * using platform: aarch64-unknown-linux-gnu * R was compiled by aarch64-unknown-linux-gnu-gcc (GCC) 14.2.0 GNU Fortran (GCC) 14.2.0 * running under: openEuler 24.03 (LTS) * using session charset: UTF-8 * using option ‘--no-vignettes’ * checking for file ‘flowGraph/DESCRIPTION’ ... OK * checking extension type ... Package * this is package ‘flowGraph’ version ‘1.15.0’ * checking package namespace information ... OK * checking package dependencies ... OK * checking if this is a source package ... OK * checking if there is a namespace ... OK * checking for hidden files and directories ... OK * checking for portable file names ... OK * checking for sufficient/correct file permissions ... OK * checking whether package ‘flowGraph’ can be installed ... OK * checking installed package size ... OK * checking package directory ... OK * checking ‘build’ directory ... OK * checking DESCRIPTION meta-information ... OK * checking top-level files ... OK * checking for left-over files ... OK * checking index information ... OK * checking package subdirectories ... OK * checking code files for non-ASCII characters ... OK * checking R files for syntax errors ... OK * checking whether the package can be loaded ... OK * checking whether the package can be loaded with stated dependencies ... OK * checking whether the package can be unloaded cleanly ... OK * checking whether the namespace can be loaded with stated dependencies ... OK * checking whether the namespace can be unloaded cleanly ... OK * checking loading without being on the library search path ... OK * checking dependencies in R code ... OK * checking S3 generic/method consistency ... OK * checking replacement functions ... OK * checking foreign function calls ... OK * checking R code for possible problems ... NOTE get_child: no visible binding for global variable ‘no_cores’ get_paren: no visible binding for global variable ‘no_cores’ ms_psig: no visible binding for global variable ‘meta’ Undefined global functions or variables: meta no_cores * checking Rd files ... NOTE checkRd: (-1) fg_get_graph.Rd:13: Lost braces 13 | A list containing two data frames (\code{v} and ]code{e}) | ^ checkRd: (-1) ggdf.Rd:22: Lost braces 22 | code{ggdf} adds to the data frames \code{v} and \code{e} in slot | ^ * checking Rd metadata ... OK * checking Rd cross-references ... OK * checking for missing documentation entries ... OK * checking for code/documentation mismatches ... OK * checking Rd \usage sections ... OK * checking Rd contents ... OK * checking for unstated dependencies in examples ... OK * checking contents of ‘data’ directory ... OK * checking data for non-ASCII characters ... OK * checking data for ASCII and uncompressed saves ... OK * checking files in ‘vignettes’ ... OK * checking examples ... OK Examples with CPU (user + system) or elapsed time > 5s user system elapsed fg_load 53.015 0.506 53.635 fg_save 52.673 0.343 53.131 fg_save_plots 52.522 0.324 52.951 * checking for unstated dependencies in ‘tests’ ... OK * checking tests ... Running ‘testthat.R’ OK * checking for unstated dependencies in vignettes ... OK * checking package vignettes ... OK * checking running R code from vignettes ... SKIPPED * checking re-building of vignette outputs ... SKIPPED * checking PDF version of manual ... OK * DONE Status: 2 NOTEs See ‘/home/biocbuild/bbs-3.21-bioc/meat/flowGraph.Rcheck/00check.log’ for details.
flowGraph.Rcheck/00install.out
############################################################################## ############################################################################## ### ### Running command: ### ### /home/biocbuild/R/R/bin/R CMD INSTALL flowGraph ### ############################################################################## ############################################################################## * installing to library ‘/home/biocbuild/R/R-4.5.0-devel_2024-11-24/site-library’ * installing *source* package ‘flowGraph’ ... ** using staged installation ** R ** data ** inst ** byte-compile and prepare package for lazy loading ** help Loading required namespace: flowGraph *** installing help indices ** building package indices ** installing vignettes ** testing if installed package can be loaded from temporary location ** testing if installed package can be loaded from final location ** testing if installed package keeps a record of temporary installation path * DONE (flowGraph)
flowGraph.Rcheck/tests/testthat.Rout
R Under development (unstable) (2024-11-24 r87369) -- "Unsuffered Consequences" Copyright (C) 2024 The R Foundation for Statistical Computing Platform: aarch64-unknown-linux-gnu R is free software and comes with ABSOLUTELY NO WARRANTY. You are welcome to redistribute it under certain conditions. Type 'license()' or 'licence()' for distribution details. R is a collaborative project with many contributors. Type 'contributors()' for more information and 'citation()' on how to cite R or R packages in publications. Type 'demo()' for some demos, 'help()' for on-line help, or 'help.start()' for an HTML browser interface to help. Type 'q()' to quit R. > library(testthat) > library(flowGraph) > > test_check("flowGraph") [ FAIL 0 | WARN 1 | SKIP 0 | PASS 34 ] [ FAIL 0 | WARN 1 | SKIP 0 | PASS 34 ] > > proc.time() user system elapsed 6.965 0.407 7.372
flowGraph.Rcheck/flowGraph-Ex.timings
name | user | system | elapsed | |
cell_type_layers | 0.004 | 0.000 | 0.005 | |
fg_add_feature | 0.475 | 0.000 | 0.477 | |
fg_add_summary | 1.239 | 0.004 | 1.246 | |
fg_clean_phen | 0 | 0 | 0 | |
fg_clear_features | 1.231 | 0.000 | 1.233 | |
fg_clear_summary | 0.517 | 0.032 | 0.549 | |
fg_extract_phenotypes | 0.381 | 0.000 | 0.382 | |
fg_extract_raw | 1.132 | 0.008 | 1.142 | |
fg_extract_samples | 0.373 | 0.000 | 0.373 | |
fg_feat_cumsum | 0.390 | 0.000 | 0.391 | |
fg_feat_edge_specenr | 0.549 | 0.040 | 0.590 | |
fg_feat_mean_class | 0.376 | 0.000 | 0.377 | |
fg_feat_node_prop | 0.374 | 0.004 | 0.379 | |
fg_feat_node_specenr | 0.537 | 0.000 | 0.539 | |
fg_feat_prop_edge | 0.409 | 0.000 | 0.410 | |
fg_get_feature | 0.397 | 0.000 | 0.397 | |
fg_get_feature_desc | 1.182 | 0.032 | 1.216 | |
fg_get_feature_means | 1.803 | 0.004 | 1.810 | |
fg_get_graph | 0.383 | 0.000 | 0.384 | |
fg_get_markers | 0.372 | 0.000 | 0.373 | |
fg_get_meta | 0.384 | 0.000 | 0.385 | |
fg_get_summary | 2.565 | 0.024 | 2.593 | |
fg_get_summary_desc | 1.182 | 0.000 | 1.184 | |
fg_get_summary_index | 2.735 | 0.016 | 2.756 | |
fg_get_summary_tables | 1.746 | 0.028 | 1.777 | |
fg_gsub_ids | 0.365 | 0.004 | 0.371 | |
fg_gsub_markers | 0.446 | 0.000 | 0.447 | |
fg_load | 53.015 | 0.506 | 53.635 | |
fg_merge | 0.378 | 0.008 | 0.387 | |
fg_merge_samples | 0.380 | 0.000 | 0.381 | |
fg_plot | 0.552 | 0.004 | 0.557 | |
fg_plot_box | 0.884 | 0.004 | 0.889 | |
fg_plot_pVSdiff | 0.526 | 0.004 | 0.532 | |
fg_plot_qq | 1.302 | 0.028 | 1.349 | |
fg_replace_meta | 0.380 | 0.004 | 0.385 | |
fg_rm_feature | 1.142 | 0.004 | 1.149 | |
fg_rm_summary | 0.501 | 0.000 | 0.503 | |
fg_save | 52.673 | 0.343 | 53.131 | |
fg_save_plots | 52.522 | 0.324 | 52.951 | |
fg_set_layout | 0.388 | 0.000 | 0.388 | |
fg_summary | 0.503 | 0.000 | 0.504 | |
flowGraph-class | 0.001 | 0.000 | 0.001 | |
flowGraph | 1.673 | 0.004 | 1.681 | |
flowGraphSubset | 0 | 0 | 0 | |
flowGraphSubset_summary_adjust | 0.001 | 0.000 | 0.000 | |
flowGraphSubset_summary_pars | 0 | 0 | 0 | |
get_phen_list | 0.017 | 0.000 | 0.017 | |
get_phen_meta | 0.003 | 0.000 | 0.002 | |
ggdf | 0.377 | 0.000 | 0.377 | |
loop_ind_f | 0.001 | 0.000 | 0.000 | |
meandiff | 0.001 | 0.000 | 0.001 | |
plot_gr | 1.990 | 0.016 | 2.027 | |
set_layout_graph | 0.399 | 0.004 | 0.404 | |
summary_table | 0.004 | 0.000 | 0.004 | |
time_output | 0.000 | 0.000 | 0.001 | |
tstr | 0.000 | 0.000 | 0.001 | |