Back to Multiple platform build/check report for BioC 3.22:   simplified   long
ABCDE[F]GHIJKLMNOPQRSTUVWXYZ

This page was generated on 2025-10-04 12:04 -0400 (Sat, 04 Oct 2025).

HostnameOSArch (*)R versionInstalled pkgs
nebbiolo2Linux (Ubuntu 24.04.3 LTS)x86_644.5.1 Patched (2025-08-23 r88802) -- "Great Square Root" 4853
lconwaymacOS 12.7.1 Montereyx86_644.5.1 Patched (2025-09-10 r88807) -- "Great Square Root" 4640
kjohnson3macOS 13.7.7 Venturaarm644.5.1 Patched (2025-09-10 r88807) -- "Great Square Root" 4585
taishanLinux (openEuler 24.03 LTS)aarch644.5.0 (2025-04-11) -- "How About a Twenty-Six" 4576
Click on any hostname to see more info about the system (e.g. compilers)      (*) as reported by 'uname -p', except on Windows and Mac OS X

Package 751/2341HostnameOS / ArchINSTALLBUILDCHECKBUILD BIN
flowGraph 1.17.0  (landing page)
Alice Yue
Snapshot Date: 2025-10-03 13:45 -0400 (Fri, 03 Oct 2025)
git_url: https://git.bioconductor.org/packages/flowGraph
git_branch: devel
git_last_commit: 16b2487
git_last_commit_date: 2025-04-15 12:15:54 -0400 (Tue, 15 Apr 2025)
nebbiolo2Linux (Ubuntu 24.04.3 LTS) / x86_64  OK    OK    OK  UNNEEDED, same version is already published
lconwaymacOS 12.7.1 Monterey / x86_64  OK    OK    OK    OK  UNNEEDED, same version is already published
kjohnson3macOS 13.7.7 Ventura / arm64  OK    OK    OK    OK  UNNEEDED, same version is already published
taishanLinux (openEuler 24.03 LTS) / aarch64  OK    OK    OK  


CHECK results for flowGraph on lconway

To the developers/maintainers of the flowGraph package:
- Allow up to 24 hours (and sometimes 48 hours) for your latest push to git@git.bioconductor.org:packages/flowGraph.git to reflect on this report. See Troubleshooting Build Report for more information.
- Use the following Renviron settings to reproduce errors and warnings.
- If 'R CMD check' started to fail recently on the Linux builder(s) over a missing dependency, add the missing dependency to 'Suggests:' in your DESCRIPTION file. See Renviron.bioc for more information.

raw results


Summary

Package: flowGraph
Version: 1.17.0
Command: /Library/Frameworks/R.framework/Resources/bin/R CMD check --install=check:flowGraph.install-out.txt --library=/Library/Frameworks/R.framework/Resources/library --no-vignettes --timings flowGraph_1.17.0.tar.gz
StartedAt: 2025-10-03 21:36:46 -0400 (Fri, 03 Oct 2025)
EndedAt: 2025-10-03 21:42:20 -0400 (Fri, 03 Oct 2025)
EllapsedTime: 333.9 seconds
RetCode: 0
Status:   OK  
CheckDir: flowGraph.Rcheck
Warnings: 0

Command output

##############################################################################
##############################################################################
###
### Running command:
###
###   /Library/Frameworks/R.framework/Resources/bin/R CMD check --install=check:flowGraph.install-out.txt --library=/Library/Frameworks/R.framework/Resources/library --no-vignettes --timings flowGraph_1.17.0.tar.gz
###
##############################################################################
##############################################################################


* using log directory ‘/Users/biocbuild/bbs-3.22-bioc/meat/flowGraph.Rcheck’
* using R version 4.5.1 Patched (2025-09-10 r88807)
* using platform: x86_64-apple-darwin20
* R was compiled by
    Apple clang version 14.0.0 (clang-1400.0.29.202)
    GNU Fortran (GCC) 14.2.0
* running under: macOS Monterey 12.7.6
* using session charset: UTF-8
* using option ‘--no-vignettes’
* checking for file ‘flowGraph/DESCRIPTION’ ... OK
* checking extension type ... Package
* this is package ‘flowGraph’ version ‘1.17.0’
* checking package namespace information ... OK
* checking package dependencies ... OK
* checking if this is a source package ... OK
* checking if there is a namespace ... OK
* checking for hidden files and directories ... OK
* checking for portable file names ... OK
* checking for sufficient/correct file permissions ... OK
* checking whether package ‘flowGraph’ can be installed ... OK
* checking installed package size ... OK
* checking package directory ... OK
* checking ‘build’ directory ... OK
* checking DESCRIPTION meta-information ... OK
* checking top-level files ... OK
* checking for left-over files ... OK
* checking index information ... OK
* checking package subdirectories ... OK
* checking code files for non-ASCII characters ... OK
* checking R files for syntax errors ... OK
* checking whether the package can be loaded ... OK
* checking whether the package can be loaded with stated dependencies ... OK
* checking whether the package can be unloaded cleanly ... OK
* checking whether the namespace can be loaded with stated dependencies ... OK
* checking whether the namespace can be unloaded cleanly ... OK
* checking dependencies in R code ... OK
* checking S3 generic/method consistency ... OK
* checking replacement functions ... OK
* checking foreign function calls ... OK
* checking R code for possible problems ... NOTE
get_child: no visible binding for global variable ‘no_cores’
get_paren: no visible binding for global variable ‘no_cores’
ms_psig: no visible binding for global variable ‘meta’
Undefined global functions or variables:
  meta no_cores
* checking Rd files ... NOTE
checkRd: (-1) fg_get_graph.Rd:13: Lost braces
    13 | A list containing two data frames (\code{v} and ]code{e})
       |                                                      ^
checkRd: (-1) ggdf.Rd:22: Lost braces
    22 | code{ggdf} adds to the data frames \code{v} and \code{e} in slot
       |     ^
* checking Rd metadata ... OK
* checking Rd cross-references ... OK
* checking for missing documentation entries ... OK
* checking for code/documentation mismatches ... OK
* checking Rd \usage sections ... OK
* checking Rd contents ... OK
* checking for unstated dependencies in examples ... OK
* checking contents of ‘data’ directory ... OK
* checking data for non-ASCII characters ... OK
* checking data for ASCII and uncompressed saves ... OK
* checking files in ‘vignettes’ ... OK
* checking examples ... OK
Examples with CPU (user + system) or elapsed time > 5s
                user system elapsed
fg_save_plots 61.703  0.467  62.551
fg_load       60.474  0.597  61.568
fg_save       59.908  0.418  60.681
* checking for unstated dependencies in ‘tests’ ... OK
* checking tests ...
  Running ‘testthat.R’
 OK
* checking for unstated dependencies in vignettes ... OK
* checking package vignettes ... OK
* checking running R code from vignettes ... SKIPPED
* checking re-building of vignette outputs ... SKIPPED
* checking PDF version of manual ... OK
* DONE

Status: 2 NOTEs
See
  ‘/Users/biocbuild/bbs-3.22-bioc/meat/flowGraph.Rcheck/00check.log’
for details.


Installation output

flowGraph.Rcheck/00install.out

##############################################################################
##############################################################################
###
### Running command:
###
###   /Library/Frameworks/R.framework/Resources/bin/R CMD INSTALL flowGraph
###
##############################################################################
##############################################################################


* installing to library ‘/Library/Frameworks/R.framework/Versions/4.5-x86_64/Resources/library’
* installing *source* package ‘flowGraph’ ...
** this is package ‘flowGraph’ version ‘1.17.0’
** using staged installation
** R
** data
** inst
** byte-compile and prepare package for lazy loading
** help
Loading required namespace: flowGraph
*** installing help indices
** building package indices
** installing vignettes
** testing if installed package can be loaded from temporary location
** testing if installed package can be loaded from final location
** testing if installed package keeps a record of temporary installation path
* DONE (flowGraph)

Tests output

flowGraph.Rcheck/tests/testthat.Rout


R version 4.5.1 Patched (2025-09-10 r88807) -- "Great Square Root"
Copyright (C) 2025 The R Foundation for Statistical Computing
Platform: x86_64-apple-darwin20

R is free software and comes with ABSOLUTELY NO WARRANTY.
You are welcome to redistribute it under certain conditions.
Type 'license()' or 'licence()' for distribution details.

R is a collaborative project with many contributors.
Type 'contributors()' for more information and
'citation()' on how to cite R or R packages in publications.

Type 'demo()' for some demos, 'help()' for on-line help, or
'help.start()' for an HTML browser interface to help.
Type 'q()' to quit R.

> library(testthat)
> library(flowGraph)
> 
> test_check("flowGraph")
[ FAIL 0 | WARN 1 | SKIP 0 | PASS 34 ]

[ FAIL 0 | WARN 1 | SKIP 0 | PASS 34 ]
> 
> proc.time()
   user  system elapsed 
  6.743   0.414   7.202 

Example timings

flowGraph.Rcheck/flowGraph-Ex.timings

nameusersystemelapsed
cell_type_layers0.0040.0010.004
fg_add_feature0.4600.0110.477
fg_add_summary1.2230.0141.246
fg_clean_phen0.0000.0000.001
fg_clear_features1.0610.0111.077
fg_clear_summary0.4300.0060.437
fg_extract_phenotypes0.3110.0050.318
fg_extract_raw1.0140.0091.025
fg_extract_samples0.3390.0050.346
fg_feat_cumsum0.3390.0050.346
fg_feat_edge_specenr0.5530.0070.564
fg_feat_mean_class0.3560.0060.363
fg_feat_node_prop0.3580.0050.366
fg_feat_node_specenr0.5620.0070.573
fg_feat_prop_edge0.3500.0060.356
fg_get_feature0.3560.0040.361
fg_get_feature_desc1.0950.0101.111
fg_get_feature_means1.5240.0121.543
fg_get_graph0.3420.0050.350
fg_get_markers0.3240.0030.329
fg_get_meta0.5040.0070.516
fg_get_summary1.9710.0412.024
fg_get_summary_desc0.9650.0100.982
fg_get_summary_index1.9750.0182.003
fg_get_summary_tables1.3930.0131.415
fg_gsub_ids0.2980.0060.304
fg_gsub_markers0.3570.0050.363
fg_load60.474 0.59761.568
fg_merge0.3680.0050.374
fg_merge_samples0.3780.0040.383
fg_plot0.5150.0050.522
fg_plot_box0.9040.0070.915
fg_plot_pVSdiff0.4810.0040.487
fg_plot_qq1.7630.1061.902
fg_replace_meta0.3400.0040.346
fg_rm_feature1.0190.0091.033
fg_rm_summary0.4680.0050.475
fg_save59.908 0.41860.681
fg_save_plots61.703 0.46762.551
fg_set_layout0.3670.0060.375
fg_summary0.4680.0060.476
flowGraph-class0.0010.0010.001
flowGraph1.6130.0151.637
flowGraphSubset0.0010.0000.000
flowGraphSubset_summary_adjust0.0010.0010.001
flowGraphSubset_summary_pars0.0010.0000.001
get_phen_list0.0190.0010.021
get_phen_meta0.0020.0010.001
ggdf0.3420.0050.350
loop_ind_f0.0000.0000.001
meandiff0.0000.0000.001
plot_gr1.8120.0401.872
set_layout_graph0.3520.0420.398
summary_table0.0030.0000.004
time_output0.0000.0000.001
tstr000