Back to Multiple platform build/check report for BioC 3.21: simplified long |
|
This page was generated on 2025-02-03 12:37 -0500 (Mon, 03 Feb 2025).
Hostname | OS | Arch (*) | R version | Installed pkgs |
---|---|---|---|---|
nebbiolo1 | Linux (Ubuntu 24.04.1 LTS) | x86_64 | R Under development (unstable) (2025-01-20 r87609) -- "Unsuffered Consequences" | 4704 |
palomino7 | Windows Server 2022 Datacenter | x64 | R Under development (unstable) (2025-01-21 r87610 ucrt) -- "Unsuffered Consequences" | 4467 |
lconway | macOS 12.7.1 Monterey | x86_64 | R Under development (unstable) (2025-01-22 r87618) -- "Unsuffered Consequences" | 4478 |
Click on any hostname to see more info about the system (e.g. compilers) (*) as reported by 'uname -p', except on Windows and Mac OS X |
Package 730/2289 | Hostname | OS / Arch | INSTALL | BUILD | CHECK | BUILD BIN | ||||||||
flowGraph 1.15.0 (landing page) Alice Yue
| nebbiolo1 | Linux (Ubuntu 24.04.1 LTS) / x86_64 | OK | OK | OK | |||||||||
palomino7 | Windows Server 2022 Datacenter / x64 | OK | OK | OK | OK | |||||||||
lconway | macOS 12.7.1 Monterey / x86_64 | OK | OK | OK | OK | |||||||||
To the developers/maintainers of the flowGraph package: - Allow up to 24 hours (and sometimes 48 hours) for your latest push to git@git.bioconductor.org:packages/flowGraph.git to reflect on this report. See Troubleshooting Build Report for more information. - Use the following Renviron settings to reproduce errors and warnings. - If 'R CMD check' started to fail recently on the Linux builder(s) over a missing dependency, add the missing dependency to 'Suggests:' in your DESCRIPTION file. See Renviron.bioc for more information. |
Package: flowGraph |
Version: 1.15.0 |
Command: /home/biocbuild/bbs-3.21-bioc/R/bin/R CMD check --install=check:flowGraph.install-out.txt --library=/home/biocbuild/bbs-3.21-bioc/R/site-library --timings flowGraph_1.15.0.tar.gz |
StartedAt: 2025-02-02 22:17:13 -0500 (Sun, 02 Feb 2025) |
EndedAt: 2025-02-02 22:21:12 -0500 (Sun, 02 Feb 2025) |
EllapsedTime: 238.5 seconds |
RetCode: 0 |
Status: OK |
CheckDir: flowGraph.Rcheck |
Warnings: 0 |
############################################################################## ############################################################################## ### ### Running command: ### ### /home/biocbuild/bbs-3.21-bioc/R/bin/R CMD check --install=check:flowGraph.install-out.txt --library=/home/biocbuild/bbs-3.21-bioc/R/site-library --timings flowGraph_1.15.0.tar.gz ### ############################################################################## ############################################################################## * using log directory ‘/home/biocbuild/bbs-3.21-bioc/meat/flowGraph.Rcheck’ * using R Under development (unstable) (2025-01-20 r87609) * using platform: x86_64-pc-linux-gnu * R was compiled by gcc (Ubuntu 13.3.0-6ubuntu2~24.04) 13.3.0 GNU Fortran (Ubuntu 13.3.0-6ubuntu2~24.04) 13.3.0 * running under: Ubuntu 24.04.1 LTS * using session charset: UTF-8 * checking for file ‘flowGraph/DESCRIPTION’ ... OK * checking extension type ... Package * this is package ‘flowGraph’ version ‘1.15.0’ * checking package namespace information ... OK * checking package dependencies ... OK * checking if this is a source package ... OK * checking if there is a namespace ... OK * checking for hidden files and directories ... OK * checking for portable file names ... OK * checking for sufficient/correct file permissions ... OK * checking whether package ‘flowGraph’ can be installed ... OK * checking installed package size ... OK * checking package directory ... OK * checking ‘build’ directory ... OK * checking DESCRIPTION meta-information ... OK * checking top-level files ... OK * checking for left-over files ... OK * checking index information ... OK * checking package subdirectories ... OK * checking code files for non-ASCII characters ... OK * checking R files for syntax errors ... OK * checking whether the package can be loaded ... OK * checking whether the package can be loaded with stated dependencies ... OK * checking whether the package can be unloaded cleanly ... OK * checking whether the namespace can be loaded with stated dependencies ... OK * checking whether the namespace can be unloaded cleanly ... OK * checking loading without being on the library search path ... OK * checking dependencies in R code ... OK * checking S3 generic/method consistency ... OK * checking replacement functions ... OK * checking foreign function calls ... OK * checking R code for possible problems ... NOTE get_child: no visible binding for global variable ‘no_cores’ get_paren: no visible binding for global variable ‘no_cores’ ms_psig: no visible binding for global variable ‘meta’ Undefined global functions or variables: meta no_cores * checking Rd files ... NOTE checkRd: (-1) fg_get_graph.Rd:13: Lost braces 13 | A list containing two data frames (\code{v} and ]code{e}) | ^ checkRd: (-1) ggdf.Rd:22: Lost braces 22 | code{ggdf} adds to the data frames \code{v} and \code{e} in slot | ^ * checking Rd metadata ... OK * checking Rd cross-references ... OK * checking for missing documentation entries ... OK * checking for code/documentation mismatches ... OK * checking Rd \usage sections ... OK * checking Rd contents ... OK * checking for unstated dependencies in examples ... OK * checking contents of ‘data’ directory ... OK * checking data for non-ASCII characters ... OK * checking data for ASCII and uncompressed saves ... OK * checking files in ‘vignettes’ ... OK * checking examples ... OK Examples with CPU (user + system) or elapsed time > 5s user system elapsed fg_load 39.897 0.943 40.796 fg_save 39.661 0.771 40.435 fg_save_plots 39.296 0.823 40.122 * checking for unstated dependencies in ‘tests’ ... OK * checking tests ... Running ‘testthat.R’ OK * checking for unstated dependencies in vignettes ... OK * checking package vignettes ... OK * checking re-building of vignette outputs ... OK * checking PDF version of manual ... OK * DONE Status: 2 NOTEs See ‘/home/biocbuild/bbs-3.21-bioc/meat/flowGraph.Rcheck/00check.log’ for details.
flowGraph.Rcheck/00install.out
############################################################################## ############################################################################## ### ### Running command: ### ### /home/biocbuild/bbs-3.21-bioc/R/bin/R CMD INSTALL flowGraph ### ############################################################################## ############################################################################## * installing to library ‘/home/biocbuild/bbs-3.21-bioc/R/site-library’ * installing *source* package ‘flowGraph’ ... ** this is package ‘flowGraph’ version ‘1.15.0’ ** using staged installation ** R ** data ** inst ** byte-compile and prepare package for lazy loading ** help Loading required namespace: flowGraph *** installing help indices ** building package indices ** installing vignettes ** testing if installed package can be loaded from temporary location ** testing if installed package can be loaded from final location ** testing if installed package keeps a record of temporary installation path * DONE (flowGraph)
flowGraph.Rcheck/tests/testthat.Rout
R Under development (unstable) (2025-01-20 r87609) -- "Unsuffered Consequences" Copyright (C) 2025 The R Foundation for Statistical Computing Platform: x86_64-pc-linux-gnu R is free software and comes with ABSOLUTELY NO WARRANTY. You are welcome to redistribute it under certain conditions. Type 'license()' or 'licence()' for distribution details. R is a collaborative project with many contributors. Type 'contributors()' for more information and 'citation()' on how to cite R or R packages in publications. Type 'demo()' for some demos, 'help()' for on-line help, or 'help.start()' for an HTML browser interface to help. Type 'q()' to quit R. > library(testthat) > library(flowGraph) > > test_check("flowGraph") [ FAIL 0 | WARN 1 | SKIP 0 | PASS 34 ] [ FAIL 0 | WARN 1 | SKIP 0 | PASS 34 ] > > proc.time() user system elapsed 4.803 0.255 5.049
flowGraph.Rcheck/flowGraph-Ex.timings
name | user | system | elapsed | |
cell_type_layers | 0.004 | 0.000 | 0.004 | |
fg_add_feature | 0.307 | 0.001 | 0.309 | |
fg_add_summary | 0.790 | 0.004 | 0.795 | |
fg_clean_phen | 0.000 | 0.000 | 0.001 | |
fg_clear_features | 0.824 | 0.004 | 0.829 | |
fg_clear_summary | 0.385 | 0.000 | 0.385 | |
fg_extract_phenotypes | 0.302 | 0.000 | 0.302 | |
fg_extract_raw | 0.720 | 0.000 | 0.721 | |
fg_extract_samples | 0.247 | 0.001 | 0.248 | |
fg_feat_cumsum | 0.256 | 0.031 | 0.287 | |
fg_feat_edge_specenr | 0.375 | 0.003 | 0.377 | |
fg_feat_mean_class | 0.245 | 0.000 | 0.245 | |
fg_feat_node_prop | 0.258 | 0.001 | 0.259 | |
fg_feat_node_specenr | 0.391 | 0.003 | 0.394 | |
fg_feat_prop_edge | 0.259 | 0.004 | 0.263 | |
fg_get_feature | 0.240 | 0.001 | 0.241 | |
fg_get_feature_desc | 0.751 | 0.000 | 0.751 | |
fg_get_feature_means | 1.099 | 0.033 | 1.132 | |
fg_get_graph | 0.261 | 0.000 | 0.262 | |
fg_get_markers | 0.238 | 0.000 | 0.238 | |
fg_get_meta | 0.242 | 0.002 | 0.244 | |
fg_get_summary | 1.583 | 0.005 | 1.588 | |
fg_get_summary_desc | 0.764 | 0.001 | 0.765 | |
fg_get_summary_index | 1.748 | 0.071 | 1.819 | |
fg_get_summary_tables | 1.018 | 0.004 | 1.022 | |
fg_gsub_ids | 0.232 | 0.001 | 0.233 | |
fg_gsub_markers | 0.278 | 0.001 | 0.280 | |
fg_load | 39.897 | 0.943 | 40.796 | |
fg_merge | 0.310 | 0.004 | 0.314 | |
fg_merge_samples | 0.255 | 0.003 | 0.258 | |
fg_plot | 0.358 | 0.001 | 0.360 | |
fg_plot_box | 0.543 | 0.002 | 0.546 | |
fg_plot_pVSdiff | 0.334 | 0.001 | 0.334 | |
fg_plot_qq | 0.880 | 0.011 | 0.893 | |
fg_replace_meta | 0.229 | 0.002 | 0.232 | |
fg_rm_feature | 0.733 | 0.005 | 0.738 | |
fg_rm_summary | 0.326 | 0.001 | 0.327 | |
fg_save | 39.661 | 0.771 | 40.435 | |
fg_save_plots | 39.296 | 0.823 | 40.122 | |
fg_set_layout | 0.253 | 0.003 | 0.257 | |
fg_summary | 0.327 | 0.001 | 0.329 | |
flowGraph-class | 0.001 | 0.000 | 0.002 | |
flowGraph | 1.108 | 0.002 | 1.110 | |
flowGraphSubset | 0 | 0 | 0 | |
flowGraphSubset_summary_adjust | 0.001 | 0.001 | 0.001 | |
flowGraphSubset_summary_pars | 0.000 | 0.001 | 0.001 | |
get_phen_list | 0.012 | 0.000 | 0.013 | |
get_phen_meta | 0.001 | 0.001 | 0.002 | |
ggdf | 0.260 | 0.005 | 0.266 | |
loop_ind_f | 0.000 | 0.001 | 0.000 | |
meandiff | 0.000 | 0.001 | 0.000 | |
plot_gr | 1.401 | 0.013 | 1.419 | |
set_layout_graph | 0.301 | 0.035 | 0.337 | |
summary_table | 0.003 | 0.001 | 0.004 | |
time_output | 0.000 | 0.001 | 0.000 | |
tstr | 0 | 0 | 0 | |