Back to Multiple platform build/check report for BioC 3.21:   simplified   long
AB[C]DEFGHIJKLMNOPQRSTUVWXYZ

This page was generated on 2025-01-28 11:47 -0500 (Tue, 28 Jan 2025).

HostnameOSArch (*)R versionInstalled pkgs
nebbiolo1Linux (Ubuntu 24.04.1 LTS)x86_64R Under development (unstable) (2025-01-20 r87609) -- "Unsuffered Consequences" 4659
palomino7Windows Server 2022 Datacenterx64R Under development (unstable) (2025-01-21 r87610 ucrt) -- "Unsuffered Consequences" 4454
lconwaymacOS 12.7.1 Montereyx86_64R Under development (unstable) (2025-01-22 r87618) -- "Unsuffered Consequences" 4465
kjohnson3macOS 13.7.1 Venturaarm64R Under development (unstable) (2025-01-20 r87609) -- "Unsuffered Consequences" 4419
kunpeng2Linux (openEuler 22.03 LTS-SP1)aarch64R Under development (unstable) (2024-11-24 r87369) -- "Unsuffered Consequences" 4409
Click on any hostname to see more info about the system (e.g. compilers)      (*) as reported by 'uname -p', except on Windows and Mac OS X

Package 298/2286HostnameOS / ArchINSTALLBUILDCHECKBUILD BIN
cellmigRation 1.15.0  (landing page)
Waldir Leoncio
Snapshot Date: 2025-01-27 13:40 -0500 (Mon, 27 Jan 2025)
git_url: https://git.bioconductor.org/packages/cellmigRation
git_branch: devel
git_last_commit: 16757c8
git_last_commit_date: 2024-10-29 10:58:18 -0500 (Tue, 29 Oct 2024)
nebbiolo1Linux (Ubuntu 24.04.1 LTS) / x86_64  OK    OK    OK  UNNEEDED, same version is already published
palomino7Windows Server 2022 Datacenter / x64  OK    OK    OK    OK  UNNEEDED, same version is already published
lconwaymacOS 12.7.1 Monterey / x86_64  OK    OK    OK    OK  UNNEEDED, same version is already published
kjohnson3macOS 13.7.1 Ventura / arm64  OK    OK    OK    OK  UNNEEDED, same version is already published
kunpeng2Linux (openEuler 22.03 LTS-SP1) / aarch64  OK    OK    OK  


CHECK results for cellmigRation on kunpeng2

To the developers/maintainers of the cellmigRation package:
- Allow up to 24 hours (and sometimes 48 hours) for your latest push to git@git.bioconductor.org:packages/cellmigRation.git to reflect on this report. See Troubleshooting Build Report for more information.
- Use the following Renviron settings to reproduce errors and warnings.
- If 'R CMD check' started to fail recently on the Linux builder(s) over a missing dependency, add the missing dependency to 'Suggests:' in your DESCRIPTION file. See Renviron.bioc for more information.
- See Martin Grigorov's blog post for how to debug Linux ARM64 related issues on a x86_64 host.

raw results


Summary

Package: cellmigRation
Version: 1.15.0
Command: /home/biocbuild/R/R/bin/R CMD check --install=check:cellmigRation.install-out.txt --library=/home/biocbuild/R/R/site-library --no-vignettes --timings cellmigRation_1.15.0.tar.gz
StartedAt: 2025-01-28 09:01:58 -0000 (Tue, 28 Jan 2025)
EndedAt: 2025-01-28 09:04:25 -0000 (Tue, 28 Jan 2025)
EllapsedTime: 147.1 seconds
RetCode: 0
Status:   OK  
CheckDir: cellmigRation.Rcheck
Warnings: 0

Command output

##############################################################################
##############################################################################
###
### Running command:
###
###   /home/biocbuild/R/R/bin/R CMD check --install=check:cellmigRation.install-out.txt --library=/home/biocbuild/R/R/site-library --no-vignettes --timings cellmigRation_1.15.0.tar.gz
###
##############################################################################
##############################################################################


* using log directory ‘/home/biocbuild/bbs-3.21-bioc/meat/cellmigRation.Rcheck’
* using R Under development (unstable) (2024-11-24 r87369)
* using platform: aarch64-unknown-linux-gnu
* R was compiled by
    aarch64-unknown-linux-gnu-gcc (GCC) 14.2.0
    GNU Fortran (GCC) 14.2.0
* running under: openEuler 24.03 (LTS)
* using session charset: UTF-8
* using option ‘--no-vignettes’
* checking for file ‘cellmigRation/DESCRIPTION’ ... OK
* checking extension type ... Package
* this is package ‘cellmigRation’ version ‘1.15.0’
* package encoding: UTF-8
* checking package namespace information ... OK
* checking package dependencies ... OK
* checking if this is a source package ... OK
* checking if there is a namespace ... OK
* checking for hidden files and directories ... OK
* checking for portable file names ... OK
* checking for sufficient/correct file permissions ... OK
* checking whether package ‘cellmigRation’ can be installed ... OK
* checking installed package size ... OK
* checking package directory ... OK
* checking ‘build’ directory ... OK
* checking DESCRIPTION meta-information ... OK
* checking top-level files ... OK
* checking for left-over files ... OK
* checking index information ... OK
* checking package subdirectories ...Warning: program compiled against libxml 212 using older 211
 OK
* checking code files for non-ASCII characters ... OK
* checking R files for syntax errors ... OK
* checking whether the package can be loaded ... OK
* checking whether the package can be loaded with stated dependencies ... OK
* checking whether the package can be unloaded cleanly ... OK
* checking whether the namespace can be loaded with stated dependencies ... OK
* checking whether the namespace can be unloaded cleanly ... OK
* checking loading without being on the library search path ... OK
* checking dependencies in R code ... OK
* checking S3 generic/method consistency ... OK
* checking replacement functions ... OK
* checking foreign function calls ... OK
* checking R code for possible problems ... OK
* checking Rd files ... OK
* checking Rd metadata ... OK
* checking Rd cross-references ... OK
* checking for missing documentation entries ... OK
* checking for code/documentation mismatches ... OK
* checking Rd \usage sections ... NOTE
Documented arguments not in \usage in Rd file 'fixDA.Rd':
  ‘object’

Documented arguments not in \usage in Rd file 'fixFM1.Rd':
  ‘object’

Documented arguments not in \usage in Rd file 'fixFM2.Rd':
  ‘object’

Documented arguments not in \usage in Rd file 'fixFM3.Rd':
  ‘object’

Documented arguments not in \usage in Rd file 'fixFM4.Rd':
  ‘object’

Documented arguments not in \usage in Rd file 'fixFM5.Rd':
  ‘object’

Documented arguments not in \usage in Rd file 'fixFM6.Rd':
  ‘object’

Documented arguments not in \usage in Rd file 'fixID2.Rd':
  ‘TimeInterval’

Documented arguments not in \usage in Rd file 'fixID3.Rd':
  ‘TimeInterval’

Documented arguments not in \usage in Rd file 'fixID4.Rd':
  ‘TimeInterval’

Documented arguments not in \usage in Rd file 'fixMSD.Rd':
  ‘object’

Documented arguments not in \usage in Rd file 'fixPER1.Rd':
  ‘x’

Documented arguments not in \usage in Rd file 'fixPER2.Rd':
  ‘x’

Documented arguments not in \usage in Rd file 'innerBondRaster.Rd':
  ‘i’

Functions with \usage entries need to have the appropriate \alias
entries, and all their arguments documented.
The \usage entries must correspond to syntactically valid R code.
See chapter ‘Writing R documentation files’ in the ‘Writing R
Extensions’ manual.
* checking Rd contents ... OK
* checking for unstated dependencies in examples ... OK
* checking contents of ‘data’ directory ... OK
* checking data for non-ASCII characters ... OK
* checking data for ASCII and uncompressed saves ... OK
* checking files in ‘vignettes’ ... OK
* checking examples ... OK
Examples with CPU (user + system) or elapsed time > 5s
             user system elapsed
getMSDtable 5.656   0.02   5.691
* checking for unstated dependencies in ‘tests’ ... OK
* checking tests ...
  Running ‘runTests.R’
 OK
* checking for unstated dependencies in vignettes ... OK
* checking package vignettes ... OK
* checking running R code from vignettes ... SKIPPED
* checking re-building of vignette outputs ... SKIPPED
* checking PDF version of manual ... OK
* DONE

Status: 1 NOTE
See
  ‘/home/biocbuild/bbs-3.21-bioc/meat/cellmigRation.Rcheck/00check.log’
for details.


Installation output

cellmigRation.Rcheck/00install.out

##############################################################################
##############################################################################
###
### Running command:
###
###   /home/biocbuild/R/R/bin/R CMD INSTALL cellmigRation
###
##############################################################################
##############################################################################


* installing to library ‘/home/biocbuild/R/R-4.5.0-devel_2024-11-24/site-library’
* installing *source* package ‘cellmigRation’ ...
** using staged installation
** R
** data
** inst
** byte-compile and prepare package for lazy loading
** help
*** installing help indices
** building package indices
** installing vignettes
** testing if installed package can be loaded from temporary location
** testing if installed package can be loaded from final location
** testing if installed package keeps a record of temporary installation path
* DONE (cellmigRation)

Tests output

cellmigRation.Rcheck/tests/runTests.Rout


R Under development (unstable) (2024-11-24 r87369) -- "Unsuffered Consequences"
Copyright (C) 2024 The R Foundation for Statistical Computing
Platform: aarch64-unknown-linux-gnu

R is free software and comes with ABSOLUTELY NO WARRANTY.
You are welcome to redistribute it under certain conditions.
Type 'license()' or 'licence()' for distribution details.

R is a collaborative project with many contributors.
Type 'contributors()' for more information and
'citation()' on how to cite R or R packages in publications.

Type 'demo()' for some demos, 'help()' for on-line help, or
'help.start()' for an HTML browser interface to help.
Type 'q()' to quit R.

> BiocGenerics:::testPackage("cellmigRation")


RUNIT TEST PROTOCOL -- Tue Jan 28 09:04:17 2025 
*********************************************** 
Number of test functions: 7 
Number of errors: 0 
Number of failures: 0 

 
1 Test Suite : 
cellmigRation RUnit Tests - 7 test functions, 0 errors, 0 failures
Number of test functions: 7 
Number of errors: 0 
Number of failures: 0 
> 
> proc.time()
   user  system elapsed 
  3.447   0.145   3.587 

Example timings

cellmigRation.Rcheck/cellmigRation-Ex.timings

nameusersystemelapsed
AddDimension0.0010.0000.002
CellMig-class0.0260.0000.027
CellMigPCA2.0040.0722.082
CellMigPCAclust0.0080.0000.008
CellMigPCAclustALL1.0050.0401.047
CellTracker0.0180.0000.018
CellTrackerMainLoop0.0060.0020.006
CentroidArray0.0190.0000.019
CentroidValidation0.7030.0040.709
ComputeTracksStats0.0260.0020.029
DetectRadii0.0000.0030.003
DiAutoCor2.1100.0172.132
DiRatio0.0220.0000.021
DiRatioPlot0.0450.0000.051
EstimateDiameterRange0.0150.0040.019
FMI0.7370.0080.747
FianlizeOptiParams0.0000.0000.001
FilterTrackedCells0.0030.0000.003
FinRes1.0000.0281.032
ForwardMigration1.4790.0001.484
GenAllCombos0.0040.0000.004
LinearConv20.0270.0000.027
LoadTiff0.0010.0000.001
MSD2.5780.0322.620
MakeHypercube0.0010.0000.002
MigrationStats0.0010.0000.001
NextOdd000
NonParallel4OptimizeParams0.0010.0000.001
NonParallelTrackLoop000
OptimizeParams0.0150.0000.016
OptimizeParamsMainLoop0.0040.0020.005
Parallel4OptimizeParams000
ParallelTrackLoop0.0000.0000.001
PerAndSpeed0.3730.0120.390
PlotTracksSeparately0.0090.0000.009
PostProcessTracking0.0010.0000.001
Prep4OptimizeParams0.1240.0000.124
ThreeConditions0.0140.0000.014
TrackCellsDataset0.0150.0000.015
TrajectoryDataset0.0200.0000.019
ValidateTrackingArgs0.0010.0000.001
VeAutoCor1.6540.0561.714
VisualizeCntr0.0000.0020.002
VisualizeImg0.0050.0010.005
VisualizeStackCentroids0.0560.0000.055
WSADataset0.0070.0000.006
aggregateFR0.9860.0000.988
aggregateTrackedCells0.0210.0000.021
bpass0.0850.0000.086
circshift0.0010.0000.001
cntrd1.0880.0001.090
fixDA0.0000.0000.001
fixExpName0.0010.0000.001
fixFM10.0010.0000.000
fixFM2000
fixFM30.0000.0000.001
fixFM40.0010.0000.000
fixFM5000
fixFM60.0000.0000.001
fixID10.0010.0000.001
fixMSD0.0010.0000.000
fixPER1000
fixPER2000
fixPER30.0010.0000.001
getAvailableAggrMetrics1.4450.0121.460
getCellImages0.2010.1030.306
getCellMigSlot0.2370.0920.329
getCellTrackMeta0.0160.0000.015
getCellTrackStats0.0200.0000.019
getCellTracks0.0160.0000.015
getCellsMeta0.0110.0040.016
getCellsStats0.0180.0000.019
getDACtable3.0360.0163.060
getDiRatio0.0250.0000.025
getFMItable0.6990.0280.729
getForMigtable0.8920.0000.894
getImageCentroids0.0230.0000.024
getImageStacks0.0560.0000.057
getMSDtable5.6560.0205.691
getOptimizedParameters0.0110.0040.015
getOptimizedParams0.0140.0030.017
getPerAndSpeed0.3940.0000.395
getPopulationStats0.0130.0040.017
getProcessedImages0.1510.1320.283
getProcessingStatus0.0150.0000.015
getResults1.0000.0001.002
getTracks0.0160.0000.016
getVACtable1.6980.0401.742
initializeTrackParams0.0000.0000.001
innerBondRaster0.0020.0000.002
internalPermutation0.0020.0000.002
matfix0.0010.0000.002
nontrivialBondTracking0.0010.0000.001
pkfnd1.1070.0041.113
plot3DAllTracks0.0820.0350.119
plot3DTracks0.0080.0000.008
plotAllTracks0.0220.0000.021
plotSampleTracks0.0170.0000.016
preProcCellMig0.0070.0000.007
rmPreProcessing0.1250.0000.125
runTrackingPermutation0.0020.0000.002
setAnalyticParams0.0160.0000.016
setCellMigSlot0.0160.0040.020
setCellTracks0.0150.0000.015
setCellsMeta0.0120.0040.016
setExpName0.0170.0040.021
setOptimizedParams0.0180.0000.019
setProcessedImages0.0140.0040.018
setProcessingStatus0.0140.0040.018
setTrackedCellsMeta0.0150.0040.018
setTrackedCentroids0.0160.0000.016
setTrackedPositions0.0080.0080.017
setTrackingStats0.0280.0040.032
sinkAway0.0010.0000.001
subNetworkTracking0.0020.0000.002
track0.0140.0000.013
trackHypercubeBuild0.0010.0000.001
trackSlideProcessing0.0000.0000.001
trackSlideWrapUp0.0000.0000.001
trivialBondRaster0.0020.0000.002
trivialBondTracking0.0000.0000.001
visualizeCellTracks0.0580.0000.059
visualizeTrcks0.0340.0000.034
warnMessage0.0010.0000.001
wsaPreProcessing0.0790.0000.079