Back to Multiple platform build/check report for BioC 3.23:   simplified   long
AB[C]DEFGHIJKLMNOPQRSTUVWXYZ

This page was generated on 2025-11-27 11:37 -0500 (Thu, 27 Nov 2025).

HostnameOSArch (*)R versionInstalled pkgs
nebbiolo1Linux (Ubuntu 24.04.3 LTS)x86_64R Under development (unstable) (2025-10-20 r88955) -- "Unsuffered Consequences" 4865
lconwaymacOS 12.7.6 Montereyx86_64R Under development (unstable) (2025-10-21 r88958) -- "Unsuffered Consequences" 4614
kjohnson3macOS 13.7.7 Venturaarm64R Under development (unstable) (2025-11-04 r88984) -- "Unsuffered Consequences" 4571
Click on any hostname to see more info about the system (e.g. compilers)      (*) as reported by 'uname -p', except on Windows and Mac OS X

Package 307/2328HostnameOS / ArchINSTALLBUILDCHECKBUILD BIN
cellmigRation 1.19.0  (landing page)
Waldir Leoncio
Snapshot Date: 2025-11-26 13:40 -0500 (Wed, 26 Nov 2025)
git_url: https://git.bioconductor.org/packages/cellmigRation
git_branch: devel
git_last_commit: 18cb9ed
git_last_commit_date: 2025-10-29 11:08:05 -0500 (Wed, 29 Oct 2025)
nebbiolo1Linux (Ubuntu 24.04.3 LTS) / x86_64  OK    OK    OK  UNNEEDED, same version is already published
lconwaymacOS 12.7.6 Monterey / x86_64  OK    OK    OK    OK  UNNEEDED, same version is already published
kjohnson3macOS 13.7.7 Ventura / arm64  OK    OK    OK    OK  UNNEEDED, same version is already published


CHECK results for cellmigRation on nebbiolo1

To the developers/maintainers of the cellmigRation package:
- Allow up to 24 hours (and sometimes 48 hours) for your latest push to git@git.bioconductor.org:packages/cellmigRation.git to reflect on this report. See Troubleshooting Build Report for more information.
- Use the following Renviron settings to reproduce errors and warnings.
- If 'R CMD check' started to fail recently on the Linux builder(s) over a missing dependency, add the missing dependency to 'Suggests:' in your DESCRIPTION file. See Renviron.bioc for more information.

raw results


Summary

Package: cellmigRation
Version: 1.19.0
Command: /home/biocbuild/bbs-3.23-bioc/R/bin/R CMD check --install=check:cellmigRation.install-out.txt --library=/home/biocbuild/bbs-3.23-bioc/R/site-library --timings cellmigRation_1.19.0.tar.gz
StartedAt: 2025-11-26 21:51:08 -0500 (Wed, 26 Nov 2025)
EndedAt: 2025-11-26 21:55:04 -0500 (Wed, 26 Nov 2025)
EllapsedTime: 236.3 seconds
RetCode: 0
Status:   OK  
CheckDir: cellmigRation.Rcheck
Warnings: 0

Command output

##############################################################################
##############################################################################
###
### Running command:
###
###   /home/biocbuild/bbs-3.23-bioc/R/bin/R CMD check --install=check:cellmigRation.install-out.txt --library=/home/biocbuild/bbs-3.23-bioc/R/site-library --timings cellmigRation_1.19.0.tar.gz
###
##############################################################################
##############################################################################


* using log directory ‘/home/biocbuild/bbs-3.23-bioc/meat/cellmigRation.Rcheck’
* using R Under development (unstable) (2025-10-20 r88955)
* using platform: x86_64-pc-linux-gnu
* R was compiled by
    gcc (Ubuntu 13.3.0-6ubuntu2~24.04) 13.3.0
    GNU Fortran (Ubuntu 13.3.0-6ubuntu2~24.04) 13.3.0
* running under: Ubuntu 24.04.3 LTS
* using session charset: UTF-8
* checking for file ‘cellmigRation/DESCRIPTION’ ... OK
* checking extension type ... Package
* this is package ‘cellmigRation’ version ‘1.19.0’
* package encoding: UTF-8
* checking package namespace information ... OK
* checking package dependencies ... OK
* checking if this is a source package ... OK
* checking if there is a namespace ... OK
* checking for hidden files and directories ... OK
* checking for portable file names ... OK
* checking for sufficient/correct file permissions ... OK
* checking whether package ‘cellmigRation’ can be installed ... OK
* checking installed package size ... OK
* checking package directory ... OK
* checking ‘build’ directory ... OK
* checking DESCRIPTION meta-information ... OK
* checking top-level files ... OK
* checking for left-over files ... OK
* checking index information ... OK
* checking package subdirectories ... OK
* checking code files for non-ASCII characters ... OK
* checking R files for syntax errors ... OK
* checking whether the package can be loaded ... OK
* checking whether the package can be loaded with stated dependencies ... OK
* checking whether the package can be unloaded cleanly ... OK
* checking whether the namespace can be loaded with stated dependencies ... OK
* checking whether the namespace can be unloaded cleanly ... OK
* checking loading without being on the library search path ... OK
* checking dependencies in R code ... OK
* checking S3 generic/method consistency ... OK
* checking replacement functions ... OK
* checking foreign function calls ... OK
* checking R code for possible problems ... OK
* checking Rd files ... OK
* checking Rd metadata ... OK
* checking Rd cross-references ... OK
* checking for missing documentation entries ... OK
* checking for code/documentation mismatches ... OK
* checking Rd \usage sections ... NOTE
Documented arguments not in \usage in Rd file 'fixDA.Rd':
  ‘object’

Documented arguments not in \usage in Rd file 'fixFM1.Rd':
  ‘object’

Documented arguments not in \usage in Rd file 'fixFM2.Rd':
  ‘object’

Documented arguments not in \usage in Rd file 'fixFM3.Rd':
  ‘object’

Documented arguments not in \usage in Rd file 'fixFM4.Rd':
  ‘object’

Documented arguments not in \usage in Rd file 'fixFM5.Rd':
  ‘object’

Documented arguments not in \usage in Rd file 'fixFM6.Rd':
  ‘object’

Documented arguments not in \usage in Rd file 'fixID2.Rd':
  ‘TimeInterval’

Documented arguments not in \usage in Rd file 'fixID3.Rd':
  ‘TimeInterval’

Documented arguments not in \usage in Rd file 'fixID4.Rd':
  ‘TimeInterval’

Documented arguments not in \usage in Rd file 'fixMSD.Rd':
  ‘object’

Documented arguments not in \usage in Rd file 'fixPER1.Rd':
  ‘x’

Documented arguments not in \usage in Rd file 'fixPER2.Rd':
  ‘x’

Documented arguments not in \usage in Rd file 'innerBondRaster.Rd':
  ‘i’

Functions with \usage entries need to have the appropriate \alias
entries, and all their arguments documented.
The \usage entries must correspond to syntactically valid R code.
See chapter ‘Writing R documentation files’ in the ‘Writing R
Extensions’ manual.
* checking Rd contents ... OK
* checking for unstated dependencies in examples ... OK
* checking contents of ‘data’ directory ... OK
* checking data for non-ASCII characters ... OK
* checking data for ASCII and uncompressed saves ... OK
* checking files in ‘vignettes’ ... OK
* checking examples ... OK
* checking for unstated dependencies in ‘tests’ ... OK
* checking tests ...
  Running ‘runTests.R’
 OK
* checking for unstated dependencies in vignettes ... OK
* checking package vignettes ... OK
* checking re-building of vignette outputs ... OK
* checking PDF version of manual ... OK
* DONE

Status: 1 NOTE
See
  ‘/home/biocbuild/bbs-3.23-bioc/meat/cellmigRation.Rcheck/00check.log’
for details.


Installation output

cellmigRation.Rcheck/00install.out

##############################################################################
##############################################################################
###
### Running command:
###
###   /home/biocbuild/bbs-3.23-bioc/R/bin/R CMD INSTALL cellmigRation
###
##############################################################################
##############################################################################


* installing to library ‘/home/biocbuild/bbs-3.23-bioc/R/site-library’
* installing *source* package ‘cellmigRation’ ...
** this is package ‘cellmigRation’ version ‘1.19.0’
** using staged installation
** R
** data
** inst
** byte-compile and prepare package for lazy loading
** help
*** installing help indices
** building package indices
** installing vignettes
** testing if installed package can be loaded from temporary location
** testing if installed package can be loaded from final location
** testing if installed package keeps a record of temporary installation path
* DONE (cellmigRation)

Tests output

cellmigRation.Rcheck/tests/runTests.Rout


R Under development (unstable) (2025-10-20 r88955) -- "Unsuffered Consequences"
Copyright (C) 2025 The R Foundation for Statistical Computing
Platform: x86_64-pc-linux-gnu

R is free software and comes with ABSOLUTELY NO WARRANTY.
You are welcome to redistribute it under certain conditions.
Type 'license()' or 'licence()' for distribution details.

R is a collaborative project with many contributors.
Type 'contributors()' for more information and
'citation()' on how to cite R or R packages in publications.

Type 'demo()' for some demos, 'help()' for on-line help, or
'help.start()' for an HTML browser interface to help.
Type 'q()' to quit R.

> BiocGenerics:::testPackage("cellmigRation")


RUNIT TEST PROTOCOL -- Wed Nov 26 21:53:02 2025 
*********************************************** 
Number of test functions: 7 
Number of errors: 0 
Number of failures: 0 

 
1 Test Suite : 
cellmigRation RUnit Tests - 7 test functions, 0 errors, 0 failures
Number of test functions: 7 
Number of errors: 0 
Number of failures: 0 
> 
> proc.time()
   user  system elapsed 
  3.074   0.246   3.309 

Example timings

cellmigRation.Rcheck/cellmigRation-Ex.timings

nameusersystemelapsed
AddDimension0.0000.0000.002
CellMig-class0.0260.0010.027
CellMigPCA1.430.011.44
CellMigPCAclust0.0080.0000.008
CellMigPCAclustALL0.6130.0020.614
CellTracker0.0150.0030.019
CellTrackerMainLoop0.0020.0040.006
CentroidArray0.0170.0020.021
CentroidValidation0.4840.0060.490
ComputeTracksStats0.0220.0050.026
DetectRadii0.0030.0010.002
DiAutoCor1.3300.0351.366
DiRatio0.0170.0000.016
DiRatioPlot0.0310.0030.032
EstimateDiameterRange0.0110.0010.013
FMI0.4520.0010.455
FianlizeOptiParams0.0010.0000.001
FilterTrackedCells0.0030.0000.003
FinRes0.8360.0220.858
ForwardMigration0.8360.0650.903
GenAllCombos0.0020.0010.003
LinearConv20.0160.0020.018
LoadTiff0.0010.0000.001
MSD1.3530.0131.366
MakeHypercube0.0020.0000.002
MigrationStats0.0010.0000.002
NextOdd000
NonParallel4OptimizeParams0.0010.0000.001
NonParallelTrackLoop0.0000.0000.001
OptimizeParams0.0130.0050.019
OptimizeParamsMainLoop0.0000.0200.018
Parallel4OptimizeParams0.0000.0020.002
ParallelTrackLoop0.0010.0000.002
PerAndSpeed0.3020.0580.361
PlotTracksSeparately0.0080.0020.010
PostProcessTracking000
Prep4OptimizeParams0.0830.0110.095
ThreeConditions0.0090.0060.016
TrackCellsDataset0.0160.0010.018
TrajectoryDataset0.0190.0030.022
ValidateTrackingArgs0.0010.0000.000
VeAutoCor1.0120.0311.042
VisualizeCntr0.0020.0000.002
VisualizeImg0.0050.0000.005
VisualizeStackCentroids0.0540.0050.059
WSADataset0.0060.0010.007
aggregateFR0.6030.0330.636
aggregateTrackedCells0.0190.0080.026
bpass0.0580.0060.063
circshift0.0010.0000.001
cntrd0.6900.0630.754
fixDA0.0000.0000.001
fixExpName0.0000.0000.001
fixFM10.0000.0000.001
fixFM2000
fixFM30.0010.0000.000
fixFM4000
fixFM50.0000.0000.001
fixFM60.0000.0000.001
fixID10.0010.0000.000
fixMSD0.0010.0000.000
fixPER1000
fixPER20.0000.0000.001
fixPER30.0000.0000.001
getAvailableAggrMetrics0.8530.0030.857
getCellImages0.2030.9651.168
getCellMigSlot0.2490.6340.884
getCellTrackMeta0.0160.0020.018
getCellTrackStats0.0190.0030.022
getCellTracks0.0150.0040.019
getCellsMeta0.0160.0020.019
getCellsStats0.0150.0060.020
getDACtable1.8410.0781.919
getDiRatio0.0170.0010.019
getFMItable0.4260.0080.434
getForMigtable0.5450.0150.560
getImageCentroids0.0200.0040.024
getImageStacks0.0560.0020.058
getMSDtable3.3660.0603.427
getOptimizedParameters0.0140.0040.018
getOptimizedParams0.0170.0020.019
getPerAndSpeed0.2480.0220.270
getPopulationStats0.0160.0020.019
getProcessedImages0.2010.9621.164
getProcessingStatus0.0180.0000.018
getResults0.5820.0040.587
getTracks0.0140.0040.018
getVACtable1.0000.0361.036
initializeTrackParams0.0010.0000.000
innerBondRaster0.0020.0000.001
internalPermutation0.0010.0000.001
matfix0.0010.0000.001
nontrivialBondTracking0.0010.0000.001
pkfnd0.6680.0020.671
plot3DAllTracks0.0760.0230.099
plot3DTracks0.0070.0000.008
plotAllTracks0.0180.0000.018
plotSampleTracks0.0150.0000.015
preProcCellMig0.0060.0010.008
rmPreProcessing0.0820.0010.082
runTrackingPermutation0.0010.0000.001
setAnalyticParams0.0150.0020.017
setCellMigSlot0.0210.0000.023
setCellTracks0.0120.0040.017
setCellsMeta0.0140.0020.017
setExpName0.0200.0010.023
setOptimizedParams0.0120.0050.017
setProcessedImages0.0160.0010.017
setProcessingStatus0.0130.0040.017
setTrackedCellsMeta0.0230.0040.028
setTrackedCentroids0.0160.0020.017
setTrackedPositions0.0140.0020.017
setTrackingStats0.0160.0020.017
sinkAway0.0010.0000.001
subNetworkTracking0.0000.0000.001
track0.0080.0010.008
trackHypercubeBuild0.0000.0010.001
trackSlideProcessing0.0000.0000.001
trackSlideWrapUp0.0010.0000.001
trivialBondRaster0.0000.0010.002
trivialBondTracking0.0000.0010.001
visualizeCellTracks0.0560.0030.060
visualizeTrcks0.0230.0020.025
warnMessage0.0000.0000.001
wsaPreProcessing0.0470.0000.048